BEGIN:VCALENDAR
VERSION:2.0
PRODID:-//Huntington Area CVB - ECPv6.15.17.1//NONSGML v1.0//EN
CALSCALE:GREGORIAN
METHOD:PUBLISH
X-ORIGINAL-URL:https://visithuntingtonwv.org
X-WR-CALDESC:Events for Huntington Area CVB
REFRESH-INTERVAL;VALUE=DURATION:PT1H
X-Robots-Tag:noindex
X-PUBLISHED-TTL:PT1H
BEGIN:VTIMEZONE
TZID:UTC
BEGIN:STANDARD
TZOFFSETFROM:+0000
TZOFFSETTO:+0000
TZNAME:UTC
DTSTART:20240101T000000
END:STANDARD
END:VTIMEZONE
BEGIN:VEVENT
DTSTART;TZID=UTC:20250524T120000
DTEND;TZID=UTC:20250524T150000
DTSTAMP:20260425T122632
CREATED:20250520T154629Z
LAST-MODIFIED:20250520T154629Z
UID:10011466-1748088000-1748098800@visithuntingtonwv.org
SUMMARY:HACkS Annual Cat Art Show and Adoption Event
DESCRIPTION:HACkS (Huntington Art Collective and Studios) will be hosting their annual Cat Art Show and Adoption Event May 24th from 12pm to 3pm!\n\nWhat to expect:\n There will be cats up for adoption wandering around the gallery! If you connect with an individual\, you can fill out an adoption application.\n There will be a supply drive for the shelter so bring laundry detergent\, clumping cat litter or paper towels.\n Buy some art! 50% of all art sales will go directly to the Cabell Wayne Animal Shelter.\n\nCome meet your new best friend  and help support the shelter!
URL:https://visithuntingtonwv.org/event/hacks-annual-cat-art-show-and-adoption-event/
LOCATION:HACkS Artist Collective\, 910 4th Ave 5th floor\, Huntington\, WV\, 25701
CATEGORIES:Art,Craft,Family Friendly
ATTACH;FMTTYPE=image/jpeg:https://visithuntingtonwv.org/wp-content/uploads/2025/05/final-cat-art-poster-scaled.jpg
GEO:38.4210027;-82.4435176
X-APPLE-STRUCTURED-LOCATION;VALUE=URI;X-ADDRESS=HACkS Artist Collective 910 4th Ave 5th floor Huntington WV 25701;X-APPLE-RADIUS=500;X-TITLE=910 4th Ave 5th floor:geo:-82.4435176,38.4210027
END:VEVENT
BEGIN:VEVENT
DTSTART;TZID=UTC:20250524T120000
DTEND;TZID=UTC:20250524T200000
DTSTAMP:20260425T122632
CREATED:20250515T143911Z
LAST-MODIFIED:20250515T143911Z
UID:10011455-1748088000-1748116800@visithuntingtonwv.org
SUMMARY:Hooligans Homecoming 9 at The Loud
DESCRIPTION:Join us May 24\, 2025\, for Hooligans Homecoming 9 – the Heavy Metal Reunion for everyone!\nIt’s that time of year again and the Hooligans are returning to The Loud for the 9th installment of Hooligans Homecoming.\nDoors open at Noon\, first note around 1 p.m. Come enjoy a few hours of the head banging good times you’ve come to expect over the years. As usual\, admission is by donations to Facing Hunger Food Bank and/or Little Victories Animal Rescue. Bring all you can spare and a little more. Our neighbors need help now more than ever.\nLet your hair down\, put your horns up\, and open your heart to our community. Together\, we can prove that loud music is good for body and soul\, and even saves lives if ya do it right.
URL:https://visithuntingtonwv.org/event/hooligans-homecoming-9-at-the-loud/
LOCATION:The Loud\, 741 6th Ave\, Huntington\, WV\, 25701\, United States
CATEGORIES:18+,Concert,Downtown,Music,Nightlife
ATTACH;FMTTYPE=image/jpeg:https://visithuntingtonwv.org/wp-content/uploads/2025/05/492540256_667816339329545_5754807767550585072_n.jpg
GEO:38.4174359;-82.4449355
X-APPLE-STRUCTURED-LOCATION;VALUE=URI;X-ADDRESS=The Loud 741 6th Ave Huntington WV 25701 United States;X-APPLE-RADIUS=500;X-TITLE=741 6th Ave:geo:-82.4449355,38.4174359
END:VEVENT
BEGIN:VEVENT
DTSTART;TZID=UTC:20250524T130000
DTEND;TZID=UTC:20250524T173000
DTSTAMP:20260425T122632
CREATED:20250430T170255Z
LAST-MODIFIED:20250430T170255Z
UID:10009363-1748091600-1748107800@visithuntingtonwv.org
SUMMARY:Jolly Holiday Princess Party
DESCRIPTION:Join us for a magical afternoon at the Jolly Holiday Princess Party hosted by Huntington Area Regional Theater (HART)! \n Two Enchanting Sessions: 1:00 PM & 3:30 PM\nEnjoy an unforgettable experience filled with:  Delicious refreshments\, whimsical crafts\, and a sing-along with your favorite Disney Princesses AND the practically perfect Mary Poppins!Dress in your royal best and bring the whole family for a fairytale celebration you won’t want to miss!\nWe invite and welcome children of all ages AND all chaperones to join us for snacks and fun together! Tickets: $20 per child / $5 per participating parentAll supplies provided. Limited space available\, pre-registration required.\nFor more information contact GHPRD Recreation Coordinator Sydney DeVaney at sdevaney@ghprd.org or call 304.696.5954.
URL:https://visithuntingtonwv.org/event/jolly-holiday-princess-party/
LOCATION:Pea Ridge Baptist Church\, 5945 E Pea Ridge Rd\, Huntington\, WV\, 25705\, United States
CATEGORIES:Costumes,Craft,Family Friendly,Music
ATTACH;FMTTYPE=image/jpeg:https://visithuntingtonwv.org/wp-content/uploads/2025/04/Screenshot-2025-04-30-125634.jpg
GEO:38.4151923;-82.3182034
X-APPLE-STRUCTURED-LOCATION;VALUE=URI;X-ADDRESS=Pea Ridge Baptist Church 5945 E Pea Ridge Rd Huntington WV 25705 United States;X-APPLE-RADIUS=500;X-TITLE=5945 E Pea Ridge Rd:geo:-82.3182034,38.4151923
END:VEVENT
BEGIN:VEVENT
DTSTART;TZID=UTC:20250524T130000
DTEND;TZID=UTC:20250524T190000
DTSTAMP:20260425T122632
CREATED:20250321T192123Z
LAST-MODIFIED:20250521T134916Z
UID:10009136-1748091600-1748113200@visithuntingtonwv.org
SUMMARY:Brewgrass 2025
DESCRIPTION:Brew Grass West Virginia 2025: A Celebration of Appalachian Craft and Music \nThe highly anticipated Brew Grass Festival is set to return to Heritage Station on Saturday\, May 24\, 2025\, bringing together craft beverage lovers and live music fans for a day of unforgettable experiences. \nThis premier festival highlights the best of Appalachian craft brewing\, featuring an exciting selection of beers\, ciders\, seltzers\, and wines—all with unlimited pours included in admission. Local artisans\, food trucks\, and a lively entertainment lineup will add to the vibrant atmosphere\, making it the ultimate spring gathering for the Huntington community and beyond. \nGuests will enjoy performances from Jordan King\, Dale Blankenship\, The Jason Mays Band\, and headliner Kindred Valley\, creating the perfect soundtrack for an evening of great drinks and camaraderie. Adding to the festivities\, WSAZ’s Tim irr our MC and beer judge\, will take the stage to guide attendees through the festivities. \nAdditionally\, Brew Gras is proud to introduce its first annual Kaiser Award\, recognizing the festival’s standout brew. A portion of event proceeds will support the WV Veterans Home\, reinforcing the festival’s mission to celebrate craft beer and music while giving back to those who served. \nTickets are available now through Eventbrite or onsite at Taps at Heritage. Don’t miss this opportunity to experience Appalachian craft culture at its finest. \nFor more information and ticket purchases\, visit https://www.eventbrite.com/e/1264622492919?aff=oddtdtcreator or contact Ray Frye at Taps at Heritage. \nAbout Brew Grass West Virginia: Brew Grass West Virginia is Huntington’s premier craft beverage and live music festival\, celebrating the artistry and flavors of Appalachian brewing while fostering community connections and charitable giving.
URL:https://visithuntingtonwv.org/event/brewgrass-2025/
LOCATION:Heritage Station\, 210 11th St\, Huntington\, WV\, United States
CATEGORIES:21+,Beer,Downtown,Music,Nightlife,Outdoors,Street Festival
ATTACH;FMTTYPE=image/jpeg:https://visithuntingtonwv.org/wp-content/uploads/2025/03/Screenshot-2025-03-21-151549.jpg
GEO:38.4235342;-82.4406626
X-APPLE-STRUCTURED-LOCATION;VALUE=URI;X-ADDRESS=Heritage Station 210 11th St Huntington WV United States;X-APPLE-RADIUS=500;X-TITLE=210 11th St:geo:-82.4406626,38.4235342
END:VEVENT
BEGIN:VEVENT
DTSTART;TZID=UTC:20250524T143000
DTEND;TZID=UTC:20250524T180000
DTSTAMP:20260425T122632
CREATED:20250512T152234Z
LAST-MODIFIED:20250512T152234Z
UID:10011431-1748097000-1748109600@visithuntingtonwv.org
SUMMARY:Wings of Wonder - WV Birds of Prey
DESCRIPTION:Our “Wings of Wonder: WV Birds of Prey” program is coming to Beech Fork State Park for 2 programs\, one at 2:30 PM and another at 4:00 PM! The event is free\, open to the public and great for all ages. Come meet 6 native WV Raptor Ambassadors close up\, including live owls\, falcons\, hawk and our bald eagle Regis. Learn about the habitats they live in\, the foods they eat\, their unique abilities and the dangers they face. Pick up pro-active tips for helping wild birds and get a chance to ask questions during this award-winning interactive program. Meet at the Activities Room.
URL:https://visithuntingtonwv.org/event/wings-of-wonder-wv-birds-of-prey/
LOCATION:Beech Fork State Park\, 5601 Longbranch Rd\, Barboursville\, WV\, 25504\, United States
CATEGORIES:Family Friendly,Free,Outdoors
ATTACH;FMTTYPE=image/jpeg:https://visithuntingtonwv.org/wp-content/uploads/2025/05/485146771_1116215793884041_7732302508275928849_n.jpg
GEO:38.307949;-82.346436
X-APPLE-STRUCTURED-LOCATION;VALUE=URI;X-ADDRESS=Beech Fork State Park 5601 Longbranch Rd Barboursville WV 25504 United States;X-APPLE-RADIUS=500;X-TITLE=5601 Longbranch Rd:geo:-82.346436,38.307949
END:VEVENT
BEGIN:VEVENT
DTSTART;TZID=UTC:20250524T183000
DTEND;TZID=UTC:20250524T213000
DTSTAMP:20260425T122632
CREATED:20250520T153828Z
LAST-MODIFIED:20250520T153828Z
UID:10011463-1748111400-1748122200@visithuntingtonwv.org
SUMMARY:The Market Summer Music Series
DESCRIPTION:Summer is here and so is the live music! Grab a tasty treat from one of The Market’s eateries\, grab a seat on the patio\, and enjoy the music of Souls of the Wounded.
URL:https://visithuntingtonwv.org/event/the-market-summer-music-series-2/
LOCATION:The Market\, 809 3rd Ave\, Huntington\, WV\, 25701\, United States
CATEGORIES:Concert,Downtown,Free,Music,Nightlife,Outdoors
ATTACH;FMTTYPE=image/jpeg:https://visithuntingtonwv.org/wp-content/uploads/2025/05/Screenshot-2025-05-20-113234.jpg
GEO:38.4213873;-82.4453587
X-APPLE-STRUCTURED-LOCATION;VALUE=URI;X-ADDRESS=The Market 809 3rd Ave Huntington WV 25701 United States;X-APPLE-RADIUS=500;X-TITLE=809 3rd Ave:geo:-82.4453587,38.4213873
END:VEVENT
BEGIN:VEVENT
DTSTART;TZID=UTC:20250524T190000
DTEND;TZID=UTC:20250524T220000
DTSTAMP:20260425T122632
CREATED:20250305T174442Z
LAST-MODIFIED:20250305T174442Z
UID:10009075-1748113200-1748124000@visithuntingtonwv.org
SUMMARY:Maximum Overdrive at The Foundry
DESCRIPTION:Lil Dyl’s Foundry Flashbacks featuring Maximum Overdrive! Featuring special event ASSPIZZA Popup with Austin Babbit\, where you can see the OFFICIAL Goblin Head from the film with a special antique car show and live music! LDFF is a film series throughout 2025 featuring lost Appalachian films paired with exciting guest appearances\, exclusive merch\, and surprises for each event! Foundry Theater is located in the Jean Carlo Stephenson Auditorium on the second floor of Huntington City Hall\, 800 5th Ave. Huntington\, WV 25701.
URL:https://visithuntingtonwv.org/event/maximum-overdrive-at-the-foundry/
LOCATION:Foundry Theater\, 800 5th Ave.\, Huntington\, WV\, 25701\, United States
CATEGORIES:Downtown,Nightlife,Talk,Theater
ATTACH;FMTTYPE=image/webp:https://visithuntingtonwv.org/wp-content/uploads/2025/03/564d59_39d84bd2b215482389de1acd162af42cmv2.webp
GEO:38.4195996;-82.4448931
X-APPLE-STRUCTURED-LOCATION;VALUE=URI;X-ADDRESS=Foundry Theater 800 5th Ave. Huntington WV 25701 United States;X-APPLE-RADIUS=500;X-TITLE=800 5th Ave.:geo:-82.4448931,38.4195996
END:VEVENT
END:VCALENDAR