BEGIN:VCALENDAR
VERSION:2.0
PRODID:-//Huntington Area CVB - ECPv6.15.17.1//NONSGML v1.0//EN
CALSCALE:GREGORIAN
METHOD:PUBLISH
X-ORIGINAL-URL:https://visithuntingtonwv.org
X-WR-CALDESC:Events for Huntington Area CVB
REFRESH-INTERVAL;VALUE=DURATION:PT1H
X-Robots-Tag:noindex
X-PUBLISHED-TTL:PT1H
BEGIN:VTIMEZONE
TZID:UTC
BEGIN:STANDARD
TZOFFSETFROM:+0000
TZOFFSETTO:+0000
TZNAME:UTC
DTSTART:20240101T000000
END:STANDARD
END:VTIMEZONE
BEGIN:VEVENT
DTSTART;TZID=UTC:20250601T143000
DTEND;TZID=UTC:20250601T170000
DTSTAMP:20260425T104137
CREATED:20250409T150940Z
LAST-MODIFIED:20250409T152125Z
UID:10009202-1748788200-1748797200@visithuntingtonwv.org
SUMMARY:Footloose at Alchemy Theatre
DESCRIPTION:Come out to Alchemy Theatre’s Geneva Kent Center for the Arts this spring for an evening of music and dancing – if you can get away with it! Directed by Helen Freeman\, this classic musical runs for THREE weekends May 30th-June 15th at 7:30pm Fridays and Saturdays\, 2:30pm on Sundays. Everybody cut Footloose! \nWhen Ren and his mother move from Chicago to a small farming town\, he is prepared for the inevitable adjustment period at his new high school. But he’s not prepared for the rigorous local edicts\, including a ban on dancing instituted by the local preacher\, who is determined to exercise control over the town’s youth. To the rockin’ rhythm of its Oscar and Tony-nominated Top 40 score\, augmented with dynamic new songs\, Footloose celebrates the wisdom of listening to young people while guiding them with a warm heart and open mind.
URL:https://visithuntingtonwv.org/event/footloose-at-alchemy-theatre-2/
LOCATION:Alchemy Theatre\, 68 Holley Ave\, Huntington\, WV\, 25705
CATEGORIES:Theater
ATTACH;FMTTYPE=image/jpeg:https://visithuntingtonwv.org/wp-content/uploads/2025/03/487239373_1132407902230280_3116835263082589794_n.jpg
GEO:38.403073;-82.387608
X-APPLE-STRUCTURED-LOCATION;VALUE=URI;X-ADDRESS=Alchemy Theatre 68 Holley Ave Huntington WV 25705;X-APPLE-RADIUS=500;X-TITLE=68 Holley Ave:geo:-82.387608,38.403073
END:VEVENT
END:VCALENDAR