BEGIN:VCALENDAR
VERSION:2.0
PRODID:-//Huntington Area CVB - ECPv6.15.17.1//NONSGML v1.0//EN
CALSCALE:GREGORIAN
METHOD:PUBLISH
X-WR-CALNAME:Huntington Area CVB
X-ORIGINAL-URL:https://visithuntingtonwv.org
X-WR-CALDESC:Events for Huntington Area CVB
REFRESH-INTERVAL;VALUE=DURATION:PT1H
X-Robots-Tag:noindex
X-PUBLISHED-TTL:PT1H
BEGIN:VTIMEZONE
TZID:UTC
BEGIN:STANDARD
TZOFFSETFROM:+0000
TZOFFSETTO:+0000
TZNAME:UTC
DTSTART:20250101T000000
END:STANDARD
END:VTIMEZONE
BEGIN:VEVENT
DTSTART;TZID=UTC:20260425T190000
DTEND;TZID=UTC:20260425T213000
DTSTAMP:20260424T174158
CREATED:20260317T154625Z
LAST-MODIFIED:20260317T154625Z
UID:10012360-1777143600-1777152600@visithuntingtonwv.org
SUMMARY:Cuba & Alaska Screening at Alchemy
DESCRIPTION:Sunflower Seeds Inc.\, Tri-State Aid for Ukraine will screen the award winning documentary\, CUBA AND ALASKA\, on Saturday\, April 25 at 7:00 p.m. and on Sunday\, April 26 at 2:30 p.m. Alchemy Theatre at 68 Holley Ave. in Huntington\, West Virginia will host this exclusive showing. \nThe film won Best Documentary Award at Rome Film Fest 2025 (Italy)\, Winner of the Directors’ Week Jury Prize and the International Audience Award at the Brussels International Film Festival 2025 (Belgium)\, Jury Award at Central Scotland Documentary Festival 2025 (UK). \nReserve tickets by email at seedstristate@gmail.com or call or text (304) 360-1198 or through our Facebook page. Tickets are $25 for a couple\, $15 for singles\, and $10 for students. Seating is limited. \nThe film is a raw and intimate profile of two Ukrainian Medics from the frontlines of the war. CUBA & ALASKA captures the funny\, the arcane\, the painfully tragic and surprisingly warm healing that make up a soldier’s emotional journey during war time. \nFueled by the enormously contagious laughter from Cuba\, and the dark black humor of Alaska\, the two best friends face down the unknown together with a warrior fierceness befitting Thelma & Louise. \nBody cams\, cell phones\, and the interviewer’s camera fill in the story between the constant danger\, bouts of survivors’ guilt\, and a longing to ‘go back’–to the life they had when dreams were still possible. \n 
URL:https://visithuntingtonwv.org/event/cuba-alaska-screening-at-alchemy/
LOCATION:Alchemy Theatre\, 68 Holley Ave\, Huntington\, WV\, 25705
CATEGORIES:Film,Movie
ATTACH;FMTTYPE=image/jpeg:https://visithuntingtonwv.org/wp-content/uploads/2026/03/Screenshot-2026-03-17-114304.jpg
GEO:38.403073;-82.387608
X-APPLE-STRUCTURED-LOCATION;VALUE=URI;X-ADDRESS=Alchemy Theatre 68 Holley Ave Huntington WV 25705;X-APPLE-RADIUS=500;X-TITLE=68 Holley Ave:geo:-82.387608,38.403073
END:VEVENT
BEGIN:VEVENT
DTSTART;TZID=UTC:20260427T190000
DTEND;TZID=UTC:20260427T220000
DTSTAMP:20260424T174158
CREATED:20260416T142056Z
LAST-MODIFIED:20260416T142056Z
UID:10012506-1777316400-1777327200@visithuntingtonwv.org
SUMMARY:Star Wars: A New Hope at The Keith Albee
DESCRIPTION:See the classic on the big screen! \nAfter the destruction of the Death Star\, Imperial forces continue to pursue the Rebels on the ice planet Hoth. Luke journeys to the planet Dagobah to train with Jedi Master Yoda\, who has lived in hiding since the fall of the Republic. In an attempt to convert Luke to the dark side\, Darth Vader lures young Skywalker into a trap in the Cloud City of Bespin.\n\n©&TM Lucasfilm Ltd. All Rights Reserved.Used Under Authorization. \nPresented by E.P. Leach & Sons\, Inc
URL:https://visithuntingtonwv.org/event/star-wars-a-new-hope-at-the-keith-albee-2/
LOCATION:Keith-Albee Performing Arts Center\, 925 4th Ave\, Huntington\, WV\, 25701\, United States
CATEGORIES:Downtown,Family Friendly,Film,Movie
ATTACH;FMTTYPE=image/jpeg:https://visithuntingtonwv.org/wp-content/uploads/2026/04/Screenshot-2026-04-16-101956.jpg
GEO:38.420751;-82.442916
X-APPLE-STRUCTURED-LOCATION;VALUE=URI;X-ADDRESS=Keith-Albee Performing Arts Center 925 4th Ave Huntington WV 25701 United States;X-APPLE-RADIUS=500;X-TITLE=925 4th Ave:geo:-82.442916,38.420751
END:VEVENT
END:VCALENDAR