BEGIN:VCALENDAR
VERSION:2.0
PRODID:-//Huntington Area CVB - ECPv6.15.17.1//NONSGML v1.0//EN
CALSCALE:GREGORIAN
METHOD:PUBLISH
X-WR-CALNAME:Huntington Area CVB
X-ORIGINAL-URL:https://visithuntingtonwv.org
X-WR-CALDESC:Events for Huntington Area CVB
REFRESH-INTERVAL;VALUE=DURATION:PT1H
X-Robots-Tag:noindex
X-PUBLISHED-TTL:PT1H
BEGIN:VTIMEZONE
TZID:UTC
BEGIN:STANDARD
TZOFFSETFROM:+0000
TZOFFSETTO:+0000
TZNAME:UTC
DTSTART:20240101T000000
END:STANDARD
END:VTIMEZONE
BEGIN:VEVENT
DTSTART;TZID=UTC:20251216T173000
DTEND;TZID=UTC:20251216T190000
DTSTAMP:20260421T232029
CREATED:20251124T144413Z
LAST-MODIFIED:20251124T144413Z
UID:10012070-1765906200-1765911600@visithuntingtonwv.org
SUMMARY:Amy's Romance Book Club at Booktenders
DESCRIPTION:He’s the Ghost of Christmas Past. She’s not exactly Scrooge. \nGhost of Christmas Past Nolan Callahan intends to spend this holiday haunting like every other—get in\, get out\, return to his otherwise aimless existence as a ghost awaiting the afterlife. But when he’s faced with Harriet York\, the sweetest assignment he’s ever had\, he suddenly finds himself wishing for a future. \nHarriet York has no idea why she’s being haunted. She’s a good person—or\, at least\, she tries to be. A people pleaser to her core\, she always does what’s expected of her. But as she and Nolan begin to examine her past\, they discover there are threads that bind them together— and realize there might be more to moving on than expected. With the deadline of Christmas Eve fast approaching\, will they find the key to their futures in each other’s pasts? Or will they stay firmly in the present\, indulging in their unexpected\, spirited connection?
URL:https://visithuntingtonwv.org/event/amys-romance-book-club-at-booktenders-4/
LOCATION:Booktenders\, 621 Central Ave\, Barboursville\, WV\, 25504\, United States
CATEGORIES:Barboursville,Talk
ATTACH;FMTTYPE=image/jpeg:https://visithuntingtonwv.org/wp-content/uploads/2025/11/Screenshot-2025-11-24-094319.jpg
GEO:38.4092418;-82.2946001
X-APPLE-STRUCTURED-LOCATION;VALUE=URI;X-ADDRESS=Booktenders 621 Central Ave Barboursville WV 25504 United States;X-APPLE-RADIUS=500;X-TITLE=621 Central Ave:geo:-82.2946001,38.4092418
END:VEVENT
END:VCALENDAR