BEGIN:VCALENDAR
VERSION:2.0
PRODID:-//Huntington Area CVB - ECPv6.15.17.1//NONSGML v1.0//EN
CALSCALE:GREGORIAN
METHOD:PUBLISH
X-WR-CALNAME:Huntington Area CVB
X-ORIGINAL-URL:https://visithuntingtonwv.org
X-WR-CALDESC:Events for Huntington Area CVB
REFRESH-INTERVAL;VALUE=DURATION:PT1H
X-Robots-Tag:noindex
X-PUBLISHED-TTL:PT1H
BEGIN:VTIMEZONE
TZID:UTC
BEGIN:STANDARD
TZOFFSETFROM:+0000
TZOFFSETTO:+0000
TZNAME:UTC
DTSTART:20240101T000000
END:STANDARD
END:VTIMEZONE
BEGIN:VEVENT
DTSTART;TZID=UTC:20251218T173000
DTEND;TZID=UTC:20251218T190000
DTSTAMP:20260422T012914
CREATED:20251124T144640Z
LAST-MODIFIED:20251124T144640Z
UID:10012072-1766079000-1766084400@visithuntingtonwv.org
SUMMARY:Ashley's Fiction Book Club at Booktenders
DESCRIPTION:Beverly Underwood and her arch enemy\, Lula Dean\, live in the tiny town of Troy\, Georgia\, where they were born and raised. Now Beverly is on the school board\, and Lula has become a local celebrity by embarking on mission to rid the public libraries of all inappropriate books—none of which she’s actually read. To replace the “pornographic” books she’s challenged at the local public library\, Lula starts her own lending library in front of her home: a cute wooden hutch with glass doors and neat rows of the worthy literature that she’s sure the town’s readers need. \nWhat Lula doesn’t know is that a local troublemaker has stolen her wholesome books\, removed their dust jackets\, and restocked Lula’s library with banned books: literary classics\, gay romances\, Black history\, witchy spell books\, Judy Blume novels\, and more. One by one\, neighbors who borrow books from Lula Dean’s library find their lives changed in unexpected ways. Finally\, one of Lula Dean’s enemies discovers the library and decides to turn the tables on her\, just as Lula and Beverly are running against each other to replace the town’s disgraced mayor. \nThat’s when all the townspeople who’ve been borrowing from Lula’s library begin to reveal themselves. That’s when the showdown that’s been brewing between Beverly and Lula will roil the whole town…and change it forever.
URL:https://visithuntingtonwv.org/event/ashleys-fiction-book-club-at-booktenders-2/
LOCATION:Booktenders\, 621 Central Ave\, Barboursville\, WV\, 25504\, United States
CATEGORIES:Barboursville,Talk
ATTACH;FMTTYPE=image/jpeg:https://visithuntingtonwv.org/wp-content/uploads/2025/11/Screenshot-2025-11-24-094551.jpg
GEO:38.4092418;-82.2946001
X-APPLE-STRUCTURED-LOCATION;VALUE=URI;X-ADDRESS=Booktenders 621 Central Ave Barboursville WV 25504 United States;X-APPLE-RADIUS=500;X-TITLE=621 Central Ave:geo:-82.2946001,38.4092418
END:VEVENT
END:VCALENDAR