BEGIN:VCALENDAR
VERSION:2.0
PRODID:-//Huntington Area CVB - ECPv6.15.17.1//NONSGML v1.0//EN
CALSCALE:GREGORIAN
METHOD:PUBLISH
X-ORIGINAL-URL:https://visithuntingtonwv.org
X-WR-CALDESC:Events for Huntington Area CVB
REFRESH-INTERVAL;VALUE=DURATION:PT1H
X-Robots-Tag:noindex
X-PUBLISHED-TTL:PT1H
BEGIN:VTIMEZONE
TZID:UTC
BEGIN:STANDARD
TZOFFSETFROM:+0000
TZOFFSETTO:+0000
TZNAME:UTC
DTSTART:20240101T000000
END:STANDARD
END:VTIMEZONE
BEGIN:VEVENT
DTSTART;TZID=UTC:20251231T110000
DTEND;TZID=UTC:20260101T190000
DTSTAMP:20260425T110120
CREATED:20251222T143148Z
LAST-MODIFIED:20251222T143148Z
UID:10012136-1767178800-1767294000@visithuntingtonwv.org
SUMMARY:Early NYE at Dave & Busters
DESCRIPTION:This is the most fun the entire family will have all year and still be home in time for bed! \nEnjoy an appetizer banquet\, a ginger ale toast\, unlimited video game play and more! \nNote: There are TWO time slots available – 11am-2pm and 4pm-7pm
URL:https://visithuntingtonwv.org/event/early-nye-at-dave-busters/
LOCATION:Dave and Buster’s\, 500 Mall Road & I-64\, Barboursville\, WV\, 25504\, United States
CATEGORIES:Barboursville,Holiday,Nightlife
ATTACH;FMTTYPE=image/jpeg:https://visithuntingtonwv.org/wp-content/uploads/2025/12/Screenshot-2025-12-22-091750.jpg
GEO:38.4237796;-82.2655863
X-APPLE-STRUCTURED-LOCATION;VALUE=URI;X-ADDRESS=Dave and Buster’s 500 Mall Road & I-64 Barboursville WV 25504 United States;X-APPLE-RADIUS=500;X-TITLE=500 Mall Road & I-64:geo:-82.2655863,38.4237796
END:VEVENT
BEGIN:VEVENT
DTSTART;TZID=UTC:20251231T210000
DTEND;TZID=UTC:20260101T010000
DTSTAMP:20260425T110120
CREATED:20251222T142840Z
LAST-MODIFIED:20251222T142840Z
UID:10012135-1767214800-1767229200@visithuntingtonwv.org
SUMMARY:NYE at Dave & Busters
DESCRIPTION:Grab your crew and make this a New Year’s Eve to remember! Enjoy an appetizer banquet\, champagne toast\, unlimited non-alcoholic drinks and more! \nHurry! Tickets are limited.
URL:https://visithuntingtonwv.org/event/nye-at-dave-busters/
LOCATION:Dave and Buster’s\, 500 Mall Road & I-64\, Barboursville\, WV\, 25504\, United States
CATEGORIES:Barboursville,Holiday,Nightlife
ATTACH;FMTTYPE=image/jpeg:https://visithuntingtonwv.org/wp-content/uploads/2025/12/Screenshot-2025-12-22-091750.jpg
GEO:38.4237796;-82.2655863
X-APPLE-STRUCTURED-LOCATION;VALUE=URI;X-ADDRESS=Dave and Buster’s 500 Mall Road & I-64 Barboursville WV 25504 United States;X-APPLE-RADIUS=500;X-TITLE=500 Mall Road & I-64:geo:-82.2655863,38.4237796
END:VEVENT
END:VCALENDAR