BEGIN:VCALENDAR
VERSION:2.0
PRODID:-//Huntington Area CVB - ECPv6.15.17.1//NONSGML v1.0//EN
CALSCALE:GREGORIAN
METHOD:PUBLISH
X-WR-CALNAME:Huntington Area CVB
X-ORIGINAL-URL:https://visithuntingtonwv.org
X-WR-CALDESC:Events for Huntington Area CVB
REFRESH-INTERVAL;VALUE=DURATION:PT1H
X-Robots-Tag:noindex
X-PUBLISHED-TTL:PT1H
BEGIN:VTIMEZONE
TZID:UTC
BEGIN:STANDARD
TZOFFSETFROM:+0000
TZOFFSETTO:+0000
TZNAME:UTC
DTSTART:20250101T000000
END:STANDARD
END:VTIMEZONE
BEGIN:VEVENT
DTSTART;TZID=UTC:20260118T113000
DTEND;TZID=UTC:20260118T140000
DTSTAMP:20260421T121550
CREATED:20251202T203404Z
LAST-MODIFIED:20251202T203404Z
UID:10012080-1768735800-1768744800@visithuntingtonwv.org
SUMMARY:Vinyl Paint & Sip at Hill Tree Roastery
DESCRIPTION:Join us at Hill Tree Roastery for a cozy\, creative session from 11:45am-1:45pm on Sunday\, Jan. 18. Delicious drinks and treats will be available for purchase. \nYour $25 ticket includes:\nUpcycled Vinyl Record and Vinyl Sleeve\nAccess to Creative Supplies – Paint\, brushes\, a clear acrylic sealant\, and cleaning supplies.\nA digital photo folder of your experience. \n*ONLY 8 SPOTS AVAILABLE* — snag yours before they’re gone! Reserve your spot here: https://shorturl.at/tZ3QE
URL:https://visithuntingtonwv.org/event/vinyl-paint-sip-at-hill-tree-roastery/
LOCATION:Hill Tree Roastery\, 6326 E. Pea Ridge Rd\, Huntington\, WV\, 25705\, United States
CATEGORIES:Barboursville,Craft
ATTACH;FMTTYPE=image/jpeg:https://visithuntingtonwv.org/wp-content/uploads/2025/02/hill-tree-roasters.jpg
GEO:38.417352;-82.3009658
X-APPLE-STRUCTURED-LOCATION;VALUE=URI;X-ADDRESS=Hill Tree Roastery 6326 E. Pea Ridge Rd Huntington WV 25705 United States;X-APPLE-RADIUS=500;X-TITLE=6326 E. Pea Ridge Rd:geo:-82.3009658,38.417352
END:VEVENT
END:VCALENDAR