BEGIN:VCALENDAR
VERSION:2.0
PRODID:-//Huntington Area CVB - ECPv6.15.17.1//NONSGML v1.0//EN
CALSCALE:GREGORIAN
METHOD:PUBLISH
X-ORIGINAL-URL:https://visithuntingtonwv.org
X-WR-CALDESC:Events for Huntington Area CVB
REFRESH-INTERVAL;VALUE=DURATION:PT1H
X-Robots-Tag:noindex
X-PUBLISHED-TTL:PT1H
BEGIN:VTIMEZONE
TZID:UTC
BEGIN:STANDARD
TZOFFSETFROM:+0000
TZOFFSETTO:+0000
TZNAME:UTC
DTSTART:20250101T000000
END:STANDARD
END:VTIMEZONE
BEGIN:VEVENT
DTSTART;TZID=UTC:20260224T173000
DTEND;TZID=UTC:20260224T190000
DTSTAMP:20260425T122046
CREATED:20260218T153342Z
LAST-MODIFIED:20260218T153342Z
UID:10012298-1771954200-1771959600@visithuntingtonwv.org
SUMMARY:Dude Book Club - The Princess Bride
DESCRIPTION:Anyone who lived through the 1980s may find it impossible—inconceivable\, even—to equate The Princess Bride with anything other than the sweet\, celluloid romance of Westley and Buttercup\, but the film is only a fraction of the ingenious storytelling you’ll find in these pages. Rich in character and satire\, the novel is set in 1941 and framed cleverly as an “abridged” retelling of a centuries-old tale set in the fabled country of Florin that’s home to “Beasts of all natures and descriptions. Pain. Death. Brave men. Coward men. Strongest men. Chases. Escapes. Lies. Truths. Passions
URL:https://visithuntingtonwv.org/event/dude-book-club-the-princess-bride/
LOCATION:Booktenders\, 621 Central Ave\, Barboursville\, WV\, 25504\, United States
CATEGORIES:Author Reading,Barboursville,Talk
ATTACH;FMTTYPE=image/jpeg:https://visithuntingtonwv.org/wp-content/uploads/2026/02/Screenshot-2026-02-18-103245.jpg
GEO:38.4092418;-82.2946001
X-APPLE-STRUCTURED-LOCATION;VALUE=URI;X-ADDRESS=Booktenders 621 Central Ave Barboursville WV 25504 United States;X-APPLE-RADIUS=500;X-TITLE=621 Central Ave:geo:-82.2946001,38.4092418
END:VEVENT
END:VCALENDAR