BEGIN:VCALENDAR
VERSION:2.0
PRODID:-//Huntington Area CVB - ECPv6.15.17.1//NONSGML v1.0//EN
CALSCALE:GREGORIAN
METHOD:PUBLISH
X-WR-CALNAME:Huntington Area CVB
X-ORIGINAL-URL:https://visithuntingtonwv.org
X-WR-CALDESC:Events for Huntington Area CVB
REFRESH-INTERVAL;VALUE=DURATION:PT1H
X-Robots-Tag:noindex
X-PUBLISHED-TTL:PT1H
BEGIN:VTIMEZONE
TZID:UTC
BEGIN:STANDARD
TZOFFSETFROM:+0000
TZOFFSETTO:+0000
TZNAME:UTC
DTSTART:20250101T000000
END:STANDARD
END:VTIMEZONE
BEGIN:VEVENT
DTSTART;TZID=UTC:20260110T210000
DTEND;TZID=UTC:20260110T233000
DTSTAMP:20260419T123910
CREATED:20260107T181023Z
LAST-MODIFIED:20260107T181023Z
UID:10012152-1768078800-1768087800@visithuntingtonwv.org
SUMMARY:Upside Down: Stranger Things Dance Party at The Loud
DESCRIPTION:Upside Down: Stranger Things Dance Party with Charlie Brown Superstar\, Baedizzle\, Arcana—Doors at 8pm; Show at 9pm$8 advance; $10 day of show18+
URL:https://visithuntingtonwv.org/event/upside-down-stranger-things-dance-party-at-the-loud/
LOCATION:The Loud\, 741 6th Ave\, Huntington\, WV\, 25701\, United States
CATEGORIES:18+,Dance,Downtown,Music,Nightlife
ATTACH;FMTTYPE=image/jpeg:https://visithuntingtonwv.org/wp-content/uploads/2026/01/596385717_1308128604688941_4674538414829336935_n-1.jpg
GEO:38.4174359;-82.4449355
X-APPLE-STRUCTURED-LOCATION;VALUE=URI;X-ADDRESS=The Loud 741 6th Ave Huntington WV 25701 United States;X-APPLE-RADIUS=500;X-TITLE=741 6th Ave:geo:-82.4449355,38.4174359
END:VEVENT
END:VCALENDAR