BEGIN:VCALENDAR
VERSION:2.0
PRODID:-//Huntington Area CVB - ECPv6.15.17.1//NONSGML v1.0//EN
CALSCALE:GREGORIAN
METHOD:PUBLISH
X-ORIGINAL-URL:https://visithuntingtonwv.org
X-WR-CALDESC:Events for Huntington Area CVB
REFRESH-INTERVAL;VALUE=DURATION:PT1H
X-Robots-Tag:noindex
X-PUBLISHED-TTL:PT1H
BEGIN:VTIMEZONE
TZID:UTC
BEGIN:STANDARD
TZOFFSETFROM:+0000
TZOFFSETTO:+0000
TZNAME:UTC
DTSTART:20250101T000000
END:STANDARD
END:VTIMEZONE
BEGIN:VEVENT
DTSTART;TZID=UTC:20260307T190000
DTEND;TZID=UTC:20260307T220000
DTSTAMP:20260421T140123
CREATED:20260113T163800Z
LAST-MODIFIED:20260113T163800Z
UID:10012181-1772910000-1772920800@visithuntingtonwv.org
SUMMARY:Bek & the Starlight Review at WestEdge
DESCRIPTION:First Weekends @ West Edge continue this March with the dulcet tones of Bek & the Starlight Review:\n“Hailing from the mountains of East Kentucky\, Bek and the Starlight Revue features a unique blend of rock and roll with down-home roots. Bringing a distinct voice that takes you to a place where Appalachia\, soul\, and rock and rollmeet\, the female-led\, eclectic ensemble features songwriting that is personal\, from the heart\, honest\, and relatable. The unexpected mix of country and rock and roll is reminiscent of a dance between the two\, where rock and roll most definitely takes the lead.”\nIf you’ve been to a West Edge show before\, you can expect one of our trademark collaborative art experiences leading up to showtime!\nTickets are $10 at the door.\nDoors open @ 5:30 – Show starts @ 7\nWe can’t wait to see you there!
URL:https://visithuntingtonwv.org/event/bek-the-starlight-review-at-westedge/
LOCATION:WestEdge Factory\, 1040 Vernon St\, Huntington\, WV\, 25704\, United States
CATEGORIES:Concert,Mountain Music,Music
ATTACH;FMTTYPE=image/jpeg:https://visithuntingtonwv.org/wp-content/uploads/2026/01/Screenshot-2026-01-13-113516.jpg
GEO:38.3995124;-82.5012469
X-APPLE-STRUCTURED-LOCATION;VALUE=URI;X-ADDRESS=WestEdge Factory 1040 Vernon St Huntington WV 25704 United States;X-APPLE-RADIUS=500;X-TITLE=1040 Vernon St:geo:-82.5012469,38.3995124
END:VEVENT
END:VCALENDAR