BEGIN:VCALENDAR
VERSION:2.0
PRODID:-//Huntington Area CVB - ECPv6.15.17.1//NONSGML v1.0//EN
CALSCALE:GREGORIAN
METHOD:PUBLISH
X-WR-CALNAME:Huntington Area CVB
X-ORIGINAL-URL:https://visithuntingtonwv.org
X-WR-CALDESC:Events for Huntington Area CVB
REFRESH-INTERVAL;VALUE=DURATION:PT1H
X-Robots-Tag:noindex
X-PUBLISHED-TTL:PT1H
BEGIN:VTIMEZONE
TZID:UTC
BEGIN:STANDARD
TZOFFSETFROM:+0000
TZOFFSETTO:+0000
TZNAME:UTC
DTSTART:20250101T000000
END:STANDARD
END:VTIMEZONE
BEGIN:VEVENT
DTSTART;TZID=UTC:20260403T183000
DTEND;TZID=UTC:20260403T210000
DTSTAMP:20260422T190713
CREATED:20260326T161920Z
LAST-MODIFIED:20260326T161920Z
UID:10012378-1775241000-1775250000@visithuntingtonwv.org
SUMMARY:BDY Studios Movie Night
DESCRIPTION:Come for pilates\, stay for the movie! Wellness is more than just fitness – a health body needs rest\, connection\, and a sweet treat every now & then! \nBDY Studios will be screening a classic film highlighting the power of friendship through good times & bad on Friday April 3 at 6:30 PM. Bring your favorite snacks\, wear your PJs\, and enjoy a wonderful evening with our community!\nThis event is free of charge to BDY members.
URL:https://visithuntingtonwv.org/event/bdy-studios-movie-night/
LOCATION:BDY Studios\, 210 11th St # 11\, Huntington\, WV\, 25701\, United States
CATEGORIES:Film,Fitness,Movie,Yoga
ATTACH;FMTTYPE=image/jpeg:https://visithuntingtonwv.org/wp-content/uploads/2025/06/Brown-Dog-Yoga.jpg
GEO:38.4235342;-82.4406626
X-APPLE-STRUCTURED-LOCATION;VALUE=URI;X-ADDRESS=BDY Studios 210 11th St # 11 Huntington WV 25701 United States;X-APPLE-RADIUS=500;X-TITLE=210 11th St # 11:geo:-82.4406626,38.4235342
END:VEVENT
END:VCALENDAR