BEGIN:VCALENDAR
VERSION:2.0
PRODID:-//Huntington Area CVB - ECPv6.15.17.1//NONSGML v1.0//EN
CALSCALE:GREGORIAN
METHOD:PUBLISH
X-WR-CALNAME:Huntington Area CVB
X-ORIGINAL-URL:https://visithuntingtonwv.org
X-WR-CALDESC:Events for Huntington Area CVB
REFRESH-INTERVAL;VALUE=DURATION:PT1H
X-Robots-Tag:noindex
X-PUBLISHED-TTL:PT1H
BEGIN:VTIMEZONE
TZID:UTC
BEGIN:STANDARD
TZOFFSETFROM:+0000
TZOFFSETTO:+0000
TZNAME:UTC
DTSTART:20250101T000000
END:STANDARD
END:VTIMEZONE
BEGIN:VEVENT
DTSTART;TZID=UTC:20260416T183000
DTEND;TZID=UTC:20260416T210000
DTSTAMP:20260422T150209
CREATED:20260416T141221Z
LAST-MODIFIED:20260416T141221Z
UID:10012503-1776364200-1776373200@visithuntingtonwv.org
SUMMARY:Rosencrantz and Guildenstern are Dead at The Foundry
DESCRIPTION:Come watch Rosencrantz and Guildenstern are Dead (2006) at Foundry theater before our Video Club meeting! Thanks to Jeff Gibbs for curating this month’s films!\nScreenings take place in the historic Jean Carlo Stephenson Auditorium in Huntington City Hall\, courtesy of Foundry Theater and Rachel Carroll. Enter the public entrance of City Hall\, go up either stairwell on left/right\, and you can’t miss it.\nEvent is free of charge\, but donations of 5-10$ are welcomed to defer costs of screenings and can be placed in the donation box at the event. Do not feel pressured to donate if it impairs your finances in any way. Just watch the movie and enjoy!
URL:https://visithuntingtonwv.org/event/rosencrantz-and-guildenstern-are-dead-at-the-foundry/
LOCATION:Foundry Theater\, 800 5th Ave.\, Huntington\, WV\, 25701\, United States
CATEGORIES:Downtown,Film,Free,Movie
ATTACH;FMTTYPE=image/jpeg:https://visithuntingtonwv.org/wp-content/uploads/2026/04/653035550_918244477764215_5634427009788182474_n.jpg
GEO:38.4195996;-82.4448931
X-APPLE-STRUCTURED-LOCATION;VALUE=URI;X-ADDRESS=Foundry Theater 800 5th Ave. Huntington WV 25701 United States;X-APPLE-RADIUS=500;X-TITLE=800 5th Ave.:geo:-82.4448931,38.4195996
END:VEVENT
END:VCALENDAR