BEGIN:VCALENDAR
VERSION:2.0
PRODID:-//Huntington Area CVB - ECPv6.15.17.1//NONSGML v1.0//EN
CALSCALE:GREGORIAN
METHOD:PUBLISH
X-WR-CALNAME:Huntington Area CVB
X-ORIGINAL-URL:https://visithuntingtonwv.org
X-WR-CALDESC:Events for Huntington Area CVB
REFRESH-INTERVAL;VALUE=DURATION:PT1H
X-Robots-Tag:noindex
X-PUBLISHED-TTL:PT1H
BEGIN:VTIMEZONE
TZID:UTC
BEGIN:STANDARD
TZOFFSETFROM:+0000
TZOFFSETTO:+0000
TZNAME:UTC
DTSTART:20250101T000000
END:STANDARD
END:VTIMEZONE
BEGIN:VEVENT
DTSTART;TZID=UTC:20260403T183000
DTEND;TZID=UTC:20260403T210000
DTSTAMP:20260420T212309
CREATED:20260326T161920Z
LAST-MODIFIED:20260326T161920Z
UID:10012378-1775241000-1775250000@visithuntingtonwv.org
SUMMARY:BDY Studios Movie Night
DESCRIPTION:Come for pilates\, stay for the movie! Wellness is more than just fitness – a health body needs rest\, connection\, and a sweet treat every now & then! \nBDY Studios will be screening a classic film highlighting the power of friendship through good times & bad on Friday April 3 at 6:30 PM. Bring your favorite snacks\, wear your PJs\, and enjoy a wonderful evening with our community!\nThis event is free of charge to BDY members.
URL:https://visithuntingtonwv.org/event/bdy-studios-movie-night/
LOCATION:BDY Studios\, 210 11th St # 11\, Huntington\, WV\, 25701\, United States
CATEGORIES:Film,Fitness,Movie,Yoga
ATTACH;FMTTYPE=image/jpeg:https://visithuntingtonwv.org/wp-content/uploads/2025/06/Brown-Dog-Yoga.jpg
GEO:38.4235342;-82.4406626
X-APPLE-STRUCTURED-LOCATION;VALUE=URI;X-ADDRESS=BDY Studios 210 11th St # 11 Huntington WV 25701 United States;X-APPLE-RADIUS=500;X-TITLE=210 11th St # 11:geo:-82.4406626,38.4235342
END:VEVENT
BEGIN:VEVENT
DTSTART;TZID=UTC:20260416T183000
DTEND;TZID=UTC:20260416T210000
DTSTAMP:20260420T212309
CREATED:20260416T141221Z
LAST-MODIFIED:20260416T141221Z
UID:10012503-1776364200-1776373200@visithuntingtonwv.org
SUMMARY:Rosencrantz and Guildenstern are Dead at The Foundry
DESCRIPTION:Come watch Rosencrantz and Guildenstern are Dead (2006) at Foundry theater before our Video Club meeting! Thanks to Jeff Gibbs for curating this month’s films!\nScreenings take place in the historic Jean Carlo Stephenson Auditorium in Huntington City Hall\, courtesy of Foundry Theater and Rachel Carroll. Enter the public entrance of City Hall\, go up either stairwell on left/right\, and you can’t miss it.\nEvent is free of charge\, but donations of 5-10$ are welcomed to defer costs of screenings and can be placed in the donation box at the event. Do not feel pressured to donate if it impairs your finances in any way. Just watch the movie and enjoy!
URL:https://visithuntingtonwv.org/event/rosencrantz-and-guildenstern-are-dead-at-the-foundry/
LOCATION:Foundry Theater\, 800 5th Ave.\, Huntington\, WV\, 25701\, United States
CATEGORIES:Downtown,Film,Free,Movie
ATTACH;FMTTYPE=image/jpeg:https://visithuntingtonwv.org/wp-content/uploads/2026/04/653035550_918244477764215_5634427009788182474_n.jpg
GEO:38.4195996;-82.4448931
X-APPLE-STRUCTURED-LOCATION;VALUE=URI;X-ADDRESS=Foundry Theater 800 5th Ave. Huntington WV 25701 United States;X-APPLE-RADIUS=500;X-TITLE=800 5th Ave.:geo:-82.4448931,38.4195996
END:VEVENT
BEGIN:VEVENT
DTSTART;TZID=UTC:20260420T190000
DTEND;TZID=UTC:20260420T220000
DTSTAMP:20260420T212309
CREATED:20260416T141907Z
LAST-MODIFIED:20260416T141907Z
UID:10012505-1776711600-1776722400@visithuntingtonwv.org
SUMMARY:Star Wars: A New Hope at The Keith Albee
DESCRIPTION:See the classic on the big screen! \nLuke Skywalker begins a journey that will change the galaxy in Star Wars: A New Hope. Nineteen years after the formation of the evil Galactic Empire\, Luke is thrust into the struggle of the Rebel Alliance when he meets Obi-Wan Kenobi\, who has lived for years in seclusion on the desert planet of Tatooine. Obi-Wan begins Luke’s Jedi training as Luke joins him on a daring mission to rescue Rebel leader Princess Leia from the clutches of Darth Vader and the evil Empire. \n©&TM Lucasfilm Ltd. All Rights Reserved. Used Under Authorization. \nPresented by E.P. Leach & Sons\, Inc
URL:https://visithuntingtonwv.org/event/star-wars-a-new-hope-at-the-keith-albee/
LOCATION:Keith-Albee Performing Arts Center\, 925 4th Ave\, Huntington\, WV\, 25701\, United States
CATEGORIES:Downtown,Family Friendly,Film,Movie
ATTACH;FMTTYPE=image/jpeg:https://visithuntingtonwv.org/wp-content/uploads/2026/04/Screenshot-2026-04-16-101651.jpg
GEO:38.420751;-82.442916
X-APPLE-STRUCTURED-LOCATION;VALUE=URI;X-ADDRESS=Keith-Albee Performing Arts Center 925 4th Ave Huntington WV 25701 United States;X-APPLE-RADIUS=500;X-TITLE=925 4th Ave:geo:-82.442916,38.420751
END:VEVENT
BEGIN:VEVENT
DTSTART;TZID=UTC:20260425T190000
DTEND;TZID=UTC:20260425T213000
DTSTAMP:20260420T212309
CREATED:20260317T154625Z
LAST-MODIFIED:20260317T154625Z
UID:10012360-1777143600-1777152600@visithuntingtonwv.org
SUMMARY:Cuba & Alaska Screening at Alchemy
DESCRIPTION:Sunflower Seeds Inc.\, Tri-State Aid for Ukraine will screen the award winning documentary\, CUBA AND ALASKA\, on Saturday\, April 25 at 7:00 p.m. and on Sunday\, April 26 at 2:30 p.m. Alchemy Theatre at 68 Holley Ave. in Huntington\, West Virginia will host this exclusive showing. \nThe film won Best Documentary Award at Rome Film Fest 2025 (Italy)\, Winner of the Directors’ Week Jury Prize and the International Audience Award at the Brussels International Film Festival 2025 (Belgium)\, Jury Award at Central Scotland Documentary Festival 2025 (UK). \nReserve tickets by email at seedstristate@gmail.com or call or text (304) 360-1198 or through our Facebook page. Tickets are $25 for a couple\, $15 for singles\, and $10 for students. Seating is limited. \nThe film is a raw and intimate profile of two Ukrainian Medics from the frontlines of the war. CUBA & ALASKA captures the funny\, the arcane\, the painfully tragic and surprisingly warm healing that make up a soldier’s emotional journey during war time. \nFueled by the enormously contagious laughter from Cuba\, and the dark black humor of Alaska\, the two best friends face down the unknown together with a warrior fierceness befitting Thelma & Louise. \nBody cams\, cell phones\, and the interviewer’s camera fill in the story between the constant danger\, bouts of survivors’ guilt\, and a longing to ‘go back’–to the life they had when dreams were still possible. \n 
URL:https://visithuntingtonwv.org/event/cuba-alaska-screening-at-alchemy/
LOCATION:Alchemy Theatre\, 68 Holley Ave\, Huntington\, WV\, 25705
CATEGORIES:Film,Movie
ATTACH;FMTTYPE=image/jpeg:https://visithuntingtonwv.org/wp-content/uploads/2026/03/Screenshot-2026-03-17-114304.jpg
GEO:38.403073;-82.387608
X-APPLE-STRUCTURED-LOCATION;VALUE=URI;X-ADDRESS=Alchemy Theatre 68 Holley Ave Huntington WV 25705;X-APPLE-RADIUS=500;X-TITLE=68 Holley Ave:geo:-82.387608,38.403073
END:VEVENT
BEGIN:VEVENT
DTSTART;TZID=UTC:20260425T200000
DTEND;TZID=UTC:20260425T230000
DTSTAMP:20260420T212309
CREATED:20260331T174108Z
LAST-MODIFIED:20260331T174108Z
UID:10012440-1777147200-1777158000@visithuntingtonwv.org
SUMMARY:The Rocky Horror Picture Show at The Foundry
DESCRIPTION:Slip into your fishnets\, dust off your corsets\, and prepare for a night of glitter-drenched mayhem! The Wyld and Wonderful Untamed Thangs are bringing the wild back to the Foundry Theater for another unforgettable screening of The Rocky Horror Picture Show! \n\n\n\n\n\n\nThis isn’t just a movie — it’s a full-blown experience. Expect a high-energy live shadow cast\, outrageous costumes\, scandalous laughs\, and all the deliciously decadent fun that’s made Rocky Horror a midnight legend. Virgins\, veterans\, and creatures of the night alike are invited to shout\, sing\, strut\, and celebrate in true Transylvanian style. \nDoors open at 7:00 PM; Show starts at 8:00 PM \nCome early\, claim your spot\, and get ready for an evening of sweet thrills\, wicked glamour\, and absolute pleasure. \nDon’t just watch the show — become part of it.
URL:https://visithuntingtonwv.org/event/the-rocky-horror-picture-show-at-the-foundry-2/
LOCATION:Foundry Theater\, 800 5th Ave.\, Huntington\, WV\, 25701\, United States
CATEGORIES:Costumes,Dance,Downtown,Movie
ATTACH;FMTTYPE=image/jpeg:https://visithuntingtonwv.org/wp-content/uploads/2026/03/Screenshot-2026-03-31-133916.jpg
GEO:38.4195996;-82.4448931
X-APPLE-STRUCTURED-LOCATION;VALUE=URI;X-ADDRESS=Foundry Theater 800 5th Ave. Huntington WV 25701 United States;X-APPLE-RADIUS=500;X-TITLE=800 5th Ave.:geo:-82.4448931,38.4195996
END:VEVENT
BEGIN:VEVENT
DTSTART;TZID=UTC:20260427T190000
DTEND;TZID=UTC:20260427T220000
DTSTAMP:20260420T212309
CREATED:20260416T142056Z
LAST-MODIFIED:20260416T142056Z
UID:10012506-1777316400-1777327200@visithuntingtonwv.org
SUMMARY:Star Wars: A New Hope at The Keith Albee
DESCRIPTION:See the classic on the big screen! \nAfter the destruction of the Death Star\, Imperial forces continue to pursue the Rebels on the ice planet Hoth. Luke journeys to the planet Dagobah to train with Jedi Master Yoda\, who has lived in hiding since the fall of the Republic. In an attempt to convert Luke to the dark side\, Darth Vader lures young Skywalker into a trap in the Cloud City of Bespin.\n\n©&TM Lucasfilm Ltd. All Rights Reserved.Used Under Authorization. \nPresented by E.P. Leach & Sons\, Inc
URL:https://visithuntingtonwv.org/event/star-wars-a-new-hope-at-the-keith-albee-2/
LOCATION:Keith-Albee Performing Arts Center\, 925 4th Ave\, Huntington\, WV\, 25701\, United States
CATEGORIES:Downtown,Family Friendly,Film,Movie
ATTACH;FMTTYPE=image/jpeg:https://visithuntingtonwv.org/wp-content/uploads/2026/04/Screenshot-2026-04-16-101956.jpg
GEO:38.420751;-82.442916
X-APPLE-STRUCTURED-LOCATION;VALUE=URI;X-ADDRESS=Keith-Albee Performing Arts Center 925 4th Ave Huntington WV 25701 United States;X-APPLE-RADIUS=500;X-TITLE=925 4th Ave:geo:-82.442916,38.420751
END:VEVENT
BEGIN:VEVENT
DTSTART;TZID=UTC:20260501T200000
DTEND;TZID=UTC:20260501T230000
DTSTAMP:20260420T212309
CREATED:20260331T174258Z
LAST-MODIFIED:20260331T174258Z
UID:10012441-1777665600-1777676400@visithuntingtonwv.org
SUMMARY:The Princess Bride with Shadowcast at The Foundry
DESCRIPTION:Step into a night of adventure\, romance\, and absurdity as we present a special screening of The Princess Bride—brought to life with a live shadowcast! \nJoin us as performers act out the film in real time alongside the screening\, adding a whole new layer of fun\, comedy\, and audience interaction to this beloved classic. Whether you’re a lifelong fan or experiencing it for the first time\, this is not your average movie night. \nDoors open at 7:30 PM\, and the film begins at 8:00 PM. Come early\, grab your seat\, and get ready to laugh\, cheer\, and maybe even shout along. \nCostumes are highly encouraged—so channel your inner Westley\, Buttercup\, Inigo\, or Fezzik and be part of the adventure. \n As you wish!
URL:https://visithuntingtonwv.org/event/the-princess-bride-with-shadowcast-at-the-foundry/
LOCATION:Foundry Theater\, 800 5th Ave.\, Huntington\, WV\, 25701\, United States
CATEGORIES:Costumes,Dance,Downtown,Movie
ATTACH;FMTTYPE=image/jpeg:https://visithuntingtonwv.org/wp-content/uploads/2026/03/Screenshot-2026-03-31-134150.jpg
GEO:38.4195996;-82.4448931
X-APPLE-STRUCTURED-LOCATION;VALUE=URI;X-ADDRESS=Foundry Theater 800 5th Ave. Huntington WV 25701 United States;X-APPLE-RADIUS=500;X-TITLE=800 5th Ave.:geo:-82.4448931,38.4195996
END:VEVENT
BEGIN:VEVENT
DTSTART;TZID=UTC:20260504T190000
DTEND;TZID=UTC:20260504T220000
DTSTAMP:20260420T212309
CREATED:20260415T150700Z
LAST-MODIFIED:20260415T150700Z
UID:10012481-1777921200-1777932000@visithuntingtonwv.org
SUMMARY:Star Wars: Return of the Jedi at the Keith Albee
DESCRIPTION:Sponsored by: E.P. Leach and Sons\nAfter a quick trip back to Tatooine\, Luke Skywalker\, Leia Organa\, and Han Solo are reunited and join up with the amassing Rebel fleet to take down the evil Empire once and for all. But the Empire is plotting too. Emperor Palpatine commands his troops aboard his newly constructed Death Star stationed above the forest moon of Endor\, where the Rebels – and some unlikely furry friends – make their stand against the Empire. While Luke Skywalker confronts Darth Vader on the Death Star once more\, Han leads a team to take out a shield protecting the battle station so that the Rebel fleet can destroy it once more and finally put an end to the war.\n 𝐏𝐮𝐫𝐜𝐡𝐚𝐬𝐞 𝐭𝐢𝐜𝐤𝐞𝐭𝐬 𝐨𝐧𝐥𝐢𝐧𝐞 𝐚𝐭 𝐊𝐞𝐢𝐭𝐡𝐀𝐥𝐛𝐞𝐞.𝐜𝐨𝐦:$5 per movie$10 to see all three+ tax and fees
URL:https://visithuntingtonwv.org/event/star-wars-return-of-the-jedi-at-the-keith-albee/
LOCATION:Keith-Albee Performing Arts Center\, 925 4th Ave\, Huntington\, WV\, 25701\, United States
CATEGORIES:Family Friendly,Movie
ATTACH;FMTTYPE=image/jpeg:https://visithuntingtonwv.org/wp-content/uploads/2026/04/Screenshot-2026-04-15-110628.jpg
GEO:38.420751;-82.442916
X-APPLE-STRUCTURED-LOCATION;VALUE=URI;X-ADDRESS=Keith-Albee Performing Arts Center 925 4th Ave Huntington WV 25701 United States;X-APPLE-RADIUS=500;X-TITLE=925 4th Ave:geo:-82.442916,38.420751
END:VEVENT
BEGIN:VEVENT
DTSTART;TZID=UTC:20260523T180000
DTEND;TZID=UTC:20260523T220000
DTSTAMP:20260420T212309
CREATED:20260331T174511Z
LAST-MODIFIED:20260331T174511Z
UID:10012442-1779559200-1779573600@visithuntingtonwv.org
SUMMARY:The Jason Molina Story with Live Music at The Foundry
DESCRIPTION:The music of Jason Molina never left—it just found new ways to echo.\n\n\n\n\nJoin us at Foundry Theater for the West Virginia Premiere of You Fuckers Figure It Out: The Jason Molina Story\, a haunting and deeply personal portrait of one of indie music’s most revered and uncompromising voices. Through archival footage\, stories\, and the music itself\, the film traces Molina’s journey—from the raw intimacy of Songs: Ohia to the expansive sound of Magnolia Electric Co.—and the legacy he left behind. \nThis is more than a screening—it’s a night built around the music and the community it continues to inspire. \nFollowing the film\, stay for a live concert featuring Tucker Riggleman\, Hello June\, and Spine Riders\, bringing Molina’s spirit back to the stage in an evening of performance and remembrance. \nEvent Schedule – May 23 | Foundry Theater
URL:https://visithuntingtonwv.org/event/the-jason-molina-story-with-live-music-at-the-foundry/
LOCATION:Foundry Theater\, 800 5th Ave.\, Huntington\, WV\, 25701\, United States
CATEGORIES:Costumes,Dance,Downtown,Movie
ATTACH;FMTTYPE=image/jpeg:https://visithuntingtonwv.org/wp-content/uploads/2026/03/Screenshot-2026-03-31-134336.jpg
GEO:38.4195996;-82.4448931
X-APPLE-STRUCTURED-LOCATION;VALUE=URI;X-ADDRESS=Foundry Theater 800 5th Ave. Huntington WV 25701 United States;X-APPLE-RADIUS=500;X-TITLE=800 5th Ave.:geo:-82.4448931,38.4195996
END:VEVENT
END:VCALENDAR