BEGIN:VCALENDAR
VERSION:2.0
PRODID:-//Huntington Area CVB - ECPv6.15.17.1//NONSGML v1.0//EN
CALSCALE:GREGORIAN
METHOD:PUBLISH
X-ORIGINAL-URL:https://visithuntingtonwv.org
X-WR-CALDESC:Events for Huntington Area CVB
REFRESH-INTERVAL;VALUE=DURATION:PT1H
X-Robots-Tag:noindex
X-PUBLISHED-TTL:PT1H
BEGIN:VTIMEZONE
TZID:UTC
BEGIN:STANDARD
TZOFFSETFROM:+0000
TZOFFSETTO:+0000
TZNAME:UTC
DTSTART:20230101T000000
END:STANDARD
END:VTIMEZONE
BEGIN:VEVENT
DTSTART;TZID=UTC:20241006T200000
DTEND;TZID=UTC:20241006T230000
DTSTAMP:20260420T114608
CREATED:20240926T133511Z
LAST-MODIFIED:20240926T133511Z
UID:10008309-1728244800-1728255600@visithuntingtonwv.org
SUMMARY:Tanya Tucker at The Paramount
DESCRIPTION:An Evening with Tanya Tucker \n\n\n\n\n\n\nDoors: 7pm | Show: 8pm\n$39.99 to $69.99
URL:https://visithuntingtonwv.org/event/tanya-tucker-at-the-paramount/
LOCATION:Paramount Arts Center\, 1300 Winchester Avenue\, Ashland\, KY\, 41101\, United States
CATEGORIES:Concert,Music,Nightlife
ATTACH;FMTTYPE=image/jpeg:https://visithuntingtonwv.org/wp-content/uploads/2024/09/Screenshot-2024-09-26-093343.jpg
GEO:38.4800008;-82.6429215
X-APPLE-STRUCTURED-LOCATION;VALUE=URI;X-ADDRESS=Paramount Arts Center 1300 Winchester Avenue Ashland KY 41101 United States;X-APPLE-RADIUS=500;X-TITLE=1300 Winchester Avenue:geo:-82.6429215,38.4800008
END:VEVENT
END:VCALENDAR