BEGIN:VCALENDAR
VERSION:2.0
PRODID:-//Huntington Area CVB - ECPv6.15.17.1//NONSGML v1.0//EN
CALSCALE:GREGORIAN
METHOD:PUBLISH
X-ORIGINAL-URL:https://visithuntingtonwv.org
X-WR-CALDESC:Events for Huntington Area CVB
REFRESH-INTERVAL;VALUE=DURATION:PT1H
X-Robots-Tag:noindex
X-PUBLISHED-TTL:PT1H
BEGIN:VTIMEZONE
TZID:UTC
BEGIN:STANDARD
TZOFFSETFROM:+0000
TZOFFSETTO:+0000
TZNAME:UTC
DTSTART:20250101T000000
END:STANDARD
END:VTIMEZONE
BEGIN:VEVENT
DTSTART;VALUE=DATE:20260502
DTEND;VALUE=DATE:20260504
DTSTAMP:20260422T111326
CREATED:20260415T145518Z
LAST-MODIFIED:20260415T145518Z
UID:10012477-1777680000-1777852799@visithuntingtonwv.org
SUMMARY:2026 Spring Festival
DESCRIPTION: 2026 Spring Festival Hosted by the West Virginia Pumpkin Festival Organization\nJoin us for a weekend full of fun\, food\, and community as we celebrate the arrival of spring! \nTime: 10:00 AM – 5:00 PM (both days) Location: Downtown Milton\, WV\n Admission:• $5 per person• Kids 12 & under get in FREE!\nBring the whole family out to enjoy: Local vendors & artisans Delicious food trucks & treats Live entertainment Family-friendly activities & more\nWhether you’re shopping\, eating\, or just soaking in the spring vibes\, there’s something for everyone!\n Mark your calendar and invite your friends — we can’t wait to see you there!
URL:https://visithuntingtonwv.org/event/2026-spring-festival/
LOCATION:Pumpkin Park\, 1 Pumpkin Way\, Milton\, WV\, United States
CATEGORIES:Cookoff,Costumes,Craft,Family Friendly,Music,Street Festival
ATTACH;FMTTYPE=image/jpeg:https://visithuntingtonwv.org/wp-content/uploads/2026/04/668627083_1483793079969882_2194673228105825393_n.jpg
GEO:38.4270034;-82.1341545
X-APPLE-STRUCTURED-LOCATION;VALUE=URI;X-ADDRESS=Pumpkin Park 1 Pumpkin Way Milton WV United States;X-APPLE-RADIUS=500;X-TITLE=1 Pumpkin Way:geo:-82.1341545,38.4270034
END:VEVENT
BEGIN:VEVENT
DTSTART;TZID=UTC:20260502T183000
DTEND;TZID=UTC:20260502T210000
DTSTAMP:20260422T111326
CREATED:20260417T190437Z
LAST-MODIFIED:20260417T200929Z
UID:10012510-1777746600-1777755600@visithuntingtonwv.org
SUMMARY:Summer Music Series at The Market
DESCRIPTION:It’s our favorite time of year at The Market \n\n\nOur Summer Music Series is back on the patio\, and it’s exactly what we’ve all been waiting for! Music starts at 6:30pm so come early to grab dinner\, drinks\, and the perfect spot to sit back and enjoy.\n\n\nThis Saturday is 3X!\n\n\nBe sure to check it out and make your plans to join us every Wednesday and Saturday evening for great music\, good vibes\, and even better company.
URL:https://visithuntingtonwv.org/event/summer-music-series-at-the-market-2/
LOCATION:The Market\, 809 3rd Ave\, Huntington\, WV\, 25701\, United States
CATEGORIES:Concert,Downtown,Free,Music,Nightlife
ATTACH;FMTTYPE=image/jpeg:https://visithuntingtonwv.org/wp-content/uploads/2026/04/672685011_1903890761015942_799965871370406725_n.jpg
GEO:38.4213873;-82.4453587
X-APPLE-STRUCTURED-LOCATION;VALUE=URI;X-ADDRESS=The Market 809 3rd Ave Huntington WV 25701 United States;X-APPLE-RADIUS=500;X-TITLE=809 3rd Ave:geo:-82.4453587,38.4213873
END:VEVENT
BEGIN:VEVENT
DTSTART;TZID=UTC:20260506T183000
DTEND;TZID=UTC:20260506T210000
DTSTAMP:20260422T111326
CREATED:20260417T190501Z
LAST-MODIFIED:20260417T200909Z
UID:10012511-1778092200-1778101200@visithuntingtonwv.org
SUMMARY:Summer Music Series at The Market
DESCRIPTION:It’s our favorite time of year at The Market \n\n\nOur Summer Music Series is back on the patio\, and it’s exactly what we’ve all been waiting for! Music starts at 6:30pm so come early to grab dinner\, drinks\, and the perfect spot to sit back and enjoy.\n\n\nThis Wednesday is Three Piece Suit!\n\n\nBe sure to check it out and make your plans to join us every Wednesday and Saturday evening for great music\, good vibes\, and even better company.
URL:https://visithuntingtonwv.org/event/summer-music-series-at-the-market-3/
LOCATION:The Market\, 809 3rd Ave\, Huntington\, WV\, 25701\, United States
CATEGORIES:Concert,Downtown,Free,Music,Nightlife
ATTACH;FMTTYPE=image/jpeg:https://visithuntingtonwv.org/wp-content/uploads/2026/04/672685011_1903890761015942_799965871370406725_n.jpg
GEO:38.4213873;-82.4453587
X-APPLE-STRUCTURED-LOCATION;VALUE=URI;X-ADDRESS=The Market 809 3rd Ave Huntington WV 25701 United States;X-APPLE-RADIUS=500;X-TITLE=809 3rd Ave:geo:-82.4453587,38.4213873
END:VEVENT
BEGIN:VEVENT
DTSTART;TZID=UTC:20260508T200000
DTEND;TZID=UTC:20260508T230000
DTSTAMP:20260422T111326
CREATED:20260415T152005Z
LAST-MODIFIED:20260415T152005Z
UID:10012485-1778270400-1778281200@visithuntingtonwv.org
SUMMARY:Lonesome River Band at Fly In Cafe
DESCRIPTION:Join us on FRIDAY MAY 8\, 2026 at 8:00 pm for an up-close and personal show by the award-winning LONESOME RIVER BAND on the PAVILION STAGE of the Fly In Cafe’.We will only be selling 500 General Admission Tickets.NO RESERVED SEATING.Show Tickets are $ 25.00 and can be purchased at\n\nThe Fly In Cafe’ will Open at 5:00 pm on FRIDAY MAY 8th\, and features a full-service Restaurant & Bar\, Weekly Food & Drink Specials.Hookup Camping is available by Reservations.For Campsite Reservations & Information call (304) 733-1240.\nPlease arrive early if you plan to eat\, and/or for the show.We anticipate a sold-out crowd.
URL:https://visithuntingtonwv.org/event/lonesome-river-band-at-fly-in-cafe/
LOCATION:Fly In Cafe\, 6090 Kyle Ln\, Huntington\, WV\, 25702\, United States
CATEGORIES:Concert,Music,Nightlife
ATTACH;FMTTYPE=image/jpeg:https://visithuntingtonwv.org/wp-content/uploads/2026/04/Screenshot-2026-04-15-111636.jpg
GEO:38.4614206;-82.308194
X-APPLE-STRUCTURED-LOCATION;VALUE=URI;X-ADDRESS=Fly In Cafe 6090 Kyle Ln Huntington WV 25702 United States;X-APPLE-RADIUS=500;X-TITLE=6090 Kyle Ln:geo:-82.308194,38.4614206
END:VEVENT
BEGIN:VEVENT
DTSTART;TZID=UTC:20260509T183000
DTEND;TZID=UTC:20260509T210000
DTSTAMP:20260422T111326
CREATED:20260417T190535Z
LAST-MODIFIED:20260417T200849Z
UID:10012512-1778351400-1778360400@visithuntingtonwv.org
SUMMARY:Summer Music Series at The Market
DESCRIPTION:It’s our favorite time of year at The Market \n\n\nOur Summer Music Series is back on the patio\, and it’s exactly what we’ve all been waiting for! Music starts at 6:30pm so come early to grab dinner\, drinks\, and the perfect spot to sit back and enjoy.\n\n\nThis Saturday is Mighty Fine Band!\n\n\nBe sure to check it out and make your plans to join us every Wednesday and Saturday evening for great music\, good vibes\, and even better company.
URL:https://visithuntingtonwv.org/event/summer-music-series-at-the-market-4/
LOCATION:The Market\, 809 3rd Ave\, Huntington\, WV\, 25701\, United States
CATEGORIES:Concert,Downtown,Free,Music,Nightlife
ATTACH;FMTTYPE=image/jpeg:https://visithuntingtonwv.org/wp-content/uploads/2026/04/672685011_1903890761015942_799965871370406725_n.jpg
GEO:38.4213873;-82.4453587
X-APPLE-STRUCTURED-LOCATION;VALUE=URI;X-ADDRESS=The Market 809 3rd Ave Huntington WV 25701 United States;X-APPLE-RADIUS=500;X-TITLE=809 3rd Ave:geo:-82.4453587,38.4213873
END:VEVENT
BEGIN:VEVENT
DTSTART;TZID=UTC:20260516T183000
DTEND;TZID=UTC:20260516T210000
DTSTAMP:20260422T111326
CREATED:20260417T190601Z
LAST-MODIFIED:20260417T200822Z
UID:10012513-1778956200-1778965200@visithuntingtonwv.org
SUMMARY:Summer Music Series at The Market
DESCRIPTION:It’s our favorite time of year at The Market \n\n\nOur Summer Music Series is back on the patio\, and it’s exactly what we’ve all been waiting for! Music starts at 6:30pm so come early to grab dinner\, drinks\, and the perfect spot to sit back and enjoy.\n\n\nThis Saturday is Jason Mays Band!\n\n\nBe sure to check it out and make your plans to join us every Wednesday and Saturday evening for great music\, good vibes\, and even better company.
URL:https://visithuntingtonwv.org/event/summer-music-series-at-the-market-5/
LOCATION:The Market\, 809 3rd Ave\, Huntington\, WV\, 25701\, United States
CATEGORIES:Concert,Downtown,Free,Music,Nightlife
ATTACH;FMTTYPE=image/jpeg:https://visithuntingtonwv.org/wp-content/uploads/2026/04/672685011_1903890761015942_799965871370406725_n.jpg
GEO:38.4213873;-82.4453587
X-APPLE-STRUCTURED-LOCATION;VALUE=URI;X-ADDRESS=The Market 809 3rd Ave Huntington WV 25701 United States;X-APPLE-RADIUS=500;X-TITLE=809 3rd Ave:geo:-82.4453587,38.4213873
END:VEVENT
BEGIN:VEVENT
DTSTART;TZID=UTC:20260520T183000
DTEND;TZID=UTC:20260520T210000
DTSTAMP:20260422T111326
CREATED:20260417T190658Z
LAST-MODIFIED:20260417T200751Z
UID:10012515-1779301800-1779310800@visithuntingtonwv.org
SUMMARY:Summer Music Series at The Market
DESCRIPTION:It’s our favorite time of year at The Market \n\n\nOur Summer Music Series is back on the patio\, and it’s exactly what we’ve all been waiting for! Music starts at 6:30pm so come early to grab dinner\, drinks\, and the perfect spot to sit back and enjoy.\n\n\nThis Wednesday is Barry Frazee!\n\n\nBe sure to check it out and make your plans to join us every Wednesday and Saturday evening for great music\, good vibes\, and even better company.
URL:https://visithuntingtonwv.org/event/summer-music-series-at-the-market-7/
LOCATION:The Market\, 809 3rd Ave\, Huntington\, WV\, 25701\, United States
CATEGORIES:Concert,Downtown,Free,Music,Nightlife
ATTACH;FMTTYPE=image/jpeg:https://visithuntingtonwv.org/wp-content/uploads/2026/04/672685011_1903890761015942_799965871370406725_n.jpg
GEO:38.4213873;-82.4453587
X-APPLE-STRUCTURED-LOCATION;VALUE=URI;X-ADDRESS=The Market 809 3rd Ave Huntington WV 25701 United States;X-APPLE-RADIUS=500;X-TITLE=809 3rd Ave:geo:-82.4453587,38.4213873
END:VEVENT
BEGIN:VEVENT
DTSTART;TZID=UTC:20260523T180000
DTEND;TZID=UTC:20260523T220000
DTSTAMP:20260422T111326
CREATED:20251118T161012Z
LAST-MODIFIED:20251118T161012Z
UID:10012054-1779559200-1779573600@visithuntingtonwv.org
SUMMARY:ZZ Top and Dwight Yoakam in Concert
DESCRIPTION:ZZ TOP:\n“That Little Ol’ Band From Texas” has been at it for well over a half century\, delivering rock\, blues and boogie on the road and in the studio to millions of devoted fans. With iconography as distinctive as their sound\, ZZ TOP is\nvirtually synonymous with beards\, hotrod cars\, spinning guitars and that magic keychain\, all of which transcend geography and language. \nDWIGHT YOAKAM:\nDwight Yoakam is a legendary artist whose influence has reshaped the landscape of country music and beyond. With over 25 million albums sold worldwide\, he is a 21-time GRAMMY® nominee and multiple GRAMMY®\nAward winner. His catalog includes 12 gold albums and 9 platinum or multiplatinum releases\, with five topping Billboard Country Albums chart and 14 landing in the Top 10.
URL:https://visithuntingtonwv.org/event/zz-top-and-dwight-yoakam-in-concert/
LOCATION:Marshall Health Network Arena\, 1 Civic Center Drive\, Huntington\, WV\, 25701\, United States
CATEGORIES:Arena,Concert,Music
ATTACH;FMTTYPE=image/jpeg:https://visithuntingtonwv.org/wp-content/uploads/2025/11/Screenshot-2025-11-18-110501.jpg
GEO:38.4222705;-82.4470094
X-APPLE-STRUCTURED-LOCATION;VALUE=URI;X-ADDRESS=Marshall Health Network Arena 1 Civic Center Drive Huntington WV 25701 United States;X-APPLE-RADIUS=500;X-TITLE=1 Civic Center Drive:geo:-82.4470094,38.4222705
END:VEVENT
BEGIN:VEVENT
DTSTART;TZID=UTC:20260527T183000
DTEND;TZID=UTC:20260527T210000
DTSTAMP:20260422T111326
CREATED:20260417T190722Z
LAST-MODIFIED:20260417T200711Z
UID:10012516-1779906600-1779915600@visithuntingtonwv.org
SUMMARY:Summer Music Series at The Market
DESCRIPTION:It’s our favorite time of year at The Market \n\n\nOur Summer Music Series is back on the patio\, and it’s exactly what we’ve all been waiting for! Music starts at 6:30pm so come early to grab dinner\, drinks\, and the perfect spot to sit back and enjoy.\n\n\nThis Wednesday is Jalyn Short!\n\n\nBe sure to check it out and make your plans to join us every Wednesday and Saturday evening for great music\, good vibes\, and even better company.
URL:https://visithuntingtonwv.org/event/summer-music-series-at-the-market-8/
LOCATION:The Market\, 809 3rd Ave\, Huntington\, WV\, 25701\, United States
CATEGORIES:Concert,Downtown,Free,Music,Nightlife
ATTACH;FMTTYPE=image/jpeg:https://visithuntingtonwv.org/wp-content/uploads/2026/04/672685011_1903890761015942_799965871370406725_n.jpg
GEO:38.4213873;-82.4453587
X-APPLE-STRUCTURED-LOCATION;VALUE=URI;X-ADDRESS=The Market 809 3rd Ave Huntington WV 25701 United States;X-APPLE-RADIUS=500;X-TITLE=809 3rd Ave:geo:-82.4453587,38.4213873
END:VEVENT
BEGIN:VEVENT
DTSTART;TZID=UTC:20260530T183000
DTEND;TZID=UTC:20260530T210000
DTSTAMP:20260422T111326
CREATED:20260417T190628Z
LAST-MODIFIED:20260417T200652Z
UID:10012514-1780165800-1780174800@visithuntingtonwv.org
SUMMARY:Summer Music Series at The Market
DESCRIPTION:It’s our favorite time of year at The Market \n\n\nOur Summer Music Series is back on the patio\, and it’s exactly what we’ve all been waiting for! Music starts at 6:30pm so come early to grab dinner\, drinks\, and the perfect spot to sit back and enjoy.\n\n\nThis Saturday is Angie Fletcher Johnson Band!\n\n\nBe sure to check it out and make your plans to join us every Wednesday and Saturday evening for great music\, good vibes\, and even better company.
URL:https://visithuntingtonwv.org/event/summer-music-series-at-the-market-6/
LOCATION:The Market\, 809 3rd Ave\, Huntington\, WV\, 25701\, United States
CATEGORIES:Concert,Downtown,Free,Music,Nightlife
ATTACH;FMTTYPE=image/jpeg:https://visithuntingtonwv.org/wp-content/uploads/2026/04/672685011_1903890761015942_799965871370406725_n.jpg
GEO:38.4213873;-82.4453587
X-APPLE-STRUCTURED-LOCATION;VALUE=URI;X-ADDRESS=The Market 809 3rd Ave Huntington WV 25701 United States;X-APPLE-RADIUS=500;X-TITLE=809 3rd Ave:geo:-82.4453587,38.4213873
END:VEVENT
BEGIN:VEVENT
DTSTART;TZID=UTC:20260610T190000
DTEND;TZID=UTC:20260610T220000
DTSTAMP:20260422T111326
CREATED:20260203T180145Z
LAST-MODIFIED:20260203T180145Z
UID:10012242-1781118000-1781128800@visithuntingtonwv.org
SUMMARY:Ben Folds & a Piano at the Keith Albee
DESCRIPTION:An Emmy-nominated singer-songwriter and New York Times Best Selling author\, Ben Folds is known for his genre-bending career spanning Ben Folds Five\, acclaimed solo albums\, orchestral performances with the National Symphony Orchestra\, and music for film\, TV\, and theater. His most recent live album debuted at #1 on the Billboard Classical and Classical Crossover charts.
URL:https://visithuntingtonwv.org/event/ben-folds-a-piano-at-the-keith-albee/
LOCATION:Keith-Albee Performing Arts Center\, 925 4th Ave\, Huntington\, WV\, 25701\, United States
CATEGORIES:Concert,Downtown,Music,Nightlife
ATTACH;FMTTYPE=image/jpeg:https://visithuntingtonwv.org/wp-content/uploads/2026/02/Screenshot-2026-02-03-125936.jpg
GEO:38.420751;-82.442916
X-APPLE-STRUCTURED-LOCATION;VALUE=URI;X-ADDRESS=Keith-Albee Performing Arts Center 925 4th Ave Huntington WV 25701 United States;X-APPLE-RADIUS=500;X-TITLE=925 4th Ave:geo:-82.442916,38.420751
END:VEVENT
BEGIN:VEVENT
DTSTART;TZID=UTC:20260619T190000
DTEND;TZID=UTC:20260619T230000
DTSTAMP:20260422T111326
CREATED:20260317T153816Z
LAST-MODIFIED:20260317T153816Z
UID:10012359-1781895600-1781910000@visithuntingtonwv.org
SUMMARY:TOBYMAC in Concert
DESCRIPTION:Eight cities. One summer. TOBYMAC is hitting the road for a limited-run summer tour that’s set to be one of the hottest events of the season. Bringing his signature explosive energy and a lineup stacked with hit songs\, the tour\nwill make select stops across the country\, creating must-see nights fans won’t want to miss. Audiences can expect TOBYMAC to deliver crowd favorites like “Everything\,” “Help Is On The Way (Maybe Midnight)\,” and “I just  need U.” – songs that have defined his sound and fueled arenas nationwide. Joining him is Zach Williams\, whose powerful anthems “Chain Breaker” and “There Was Jesus” continue to resonate deeply with listeners. The lineup  also features rising voices Seph Schlueter\, known for his breakout “Counting My Blessings\,” and Jamie MacDonald\, whose hit “Desperate” has quickly captured attention across Christian music.\nWith only eight dates on the calendar\, this summer run offers fans a rare opportunity to catch a curated lineup in a limited window. It’s high energy\, high impact\, and built for summer nights that feel bigger than the moment.
URL:https://visithuntingtonwv.org/event/tobymac-in-concert/
LOCATION:Marshall Health Network Arena\, 1 Civic Center Drive\, Huntington\, WV\, 25701\, United States
CATEGORIES:Arena,Concert,Music
ATTACH;FMTTYPE=image/jpeg:https://visithuntingtonwv.org/wp-content/uploads/2026/03/Screenshot-2026-03-17-113404.jpg
GEO:38.4222705;-82.4470094
X-APPLE-STRUCTURED-LOCATION;VALUE=URI;X-ADDRESS=Marshall Health Network Arena 1 Civic Center Drive Huntington WV 25701 United States;X-APPLE-RADIUS=500;X-TITLE=1 Civic Center Drive:geo:-82.4470094,38.4222705
END:VEVENT
BEGIN:VEVENT
DTSTART;TZID=UTC:20260619T193000
DTEND;TZID=UTC:20260619T220000
DTSTAMP:20260422T111326
CREATED:20260226T184719Z
LAST-MODIFIED:20260226T184719Z
UID:10012309-1781897400-1781906400@visithuntingtonwv.org
SUMMARY:Josh Turner at the Keith Albee
DESCRIPTION:Known for his unmistakable buttery baritone and timeless hits like “Long Black Train” and “Why Don’t We Just Dance\,” Grammy-nominated Josh Turner has earned five No. 1 singles — including “Your Man\,” whose official video has surpassed 233 million views — and has amassed more than 6 billion global career streams. \nA South Carolina native\, Turner is a GMA Dove Award winner\, recipient of the Order of the Palmetto\, and an inductee into the South Carolina Entertainment and Music Hall of Fame. He released his first Greatest Hits album in 2023 and continues touring nationwide while supporting arts education through The Josh Turner Scholarship Fund for the Arts. \nDon’t miss your chance to experience one of country music’s most distinctive voices live on stage. We hope to see you there!
URL:https://visithuntingtonwv.org/event/josh-turner-at-the-keith-albee/
LOCATION:Keith-Albee Performing Arts Center\, 925 4th Ave\, Huntington\, WV\, 25701\, United States
CATEGORIES:Concert,Downtown,Music,Nightlife
ATTACH;FMTTYPE=image/jpeg:https://visithuntingtonwv.org/wp-content/uploads/2026/02/Screenshot-2026-02-26-134532.jpg
GEO:38.420751;-82.442916
X-APPLE-STRUCTURED-LOCATION;VALUE=URI;X-ADDRESS=Keith-Albee Performing Arts Center 925 4th Ave Huntington WV 25701 United States;X-APPLE-RADIUS=500;X-TITLE=925 4th Ave:geo:-82.442916,38.420751
END:VEVENT
BEGIN:VEVENT
DTSTART;VALUE=DATE:20260723
DTEND;VALUE=DATE:20260726
DTSTAMP:20260422T111326
CREATED:20260123T204143Z
LAST-MODIFIED:20260123T204143Z
UID:10012231-1784764800-1785023999@visithuntingtonwv.org
SUMMARY:Fly In Festival 2026
DESCRIPTION:We are EXCITED to announce the initial artist lineup for the 11th Annual Fly In Festival \, JULY 23-25\, 2026 at the Robert Newlon Airpark (I-41) in Huntington\, WV.More exciting announcements will be coming over the next few weeks\, so stay tuned !!We want to THANK Joe Eddins Design for that great artwork.We welcome to the 2026 Fly In Festival:  Appalachian Road Show \, Jason Carter\, Kenny and Amanda Smith\, The Bing Brothers Band featuring Jake Krack\, Mason Via\, Don Rigsby\, Kevin Denney & Neo-Grass\, DownRiver Collective\, Chris Davis Band\, Hammaville\, Tessa McCoy & The State Birds\, Schultz Creek Bluegrass Band\, Southridge\, The Jason Mays Band\, Jayce Turley\, Sasha Colette & The Magnolias\, The Gladson Family Band\, Robert Shafer\, Bobby Taylor & Kim Johnson\, String Therapy\, Mudhole Control \, Larry Adkins “The Karaoke King” & MORE !!!! \nTICKETS ARE ON SALE NOW at https://www.ticketleap.events/tickets/fly-in-festival/2026-fly-in-festival
URL:https://visithuntingtonwv.org/event/fly-in-festival-2026/
LOCATION:Fly In Cafe\, 6090 Kyle Ln\, Huntington\, WV\, 25702\, United States
CATEGORIES:Concert,Family Friendly,Mountain Music,Music,Street Festival
ATTACH;FMTTYPE=image/jpeg:https://visithuntingtonwv.org/wp-content/uploads/2026/01/619456293_1464436492358411_6298007792061755976_n.jpg
GEO:38.4614206;-82.308194
X-APPLE-STRUCTURED-LOCATION;VALUE=URI;X-ADDRESS=Fly In Cafe 6090 Kyle Ln Huntington WV 25702 United States;X-APPLE-RADIUS=500;X-TITLE=6090 Kyle Ln:geo:-82.308194,38.4614206
END:VEVENT
BEGIN:VEVENT
DTSTART;TZID=UTC:20260820T193000
DTEND;TZID=UTC:20260820T230000
DTSTAMP:20260422T111326
CREATED:20260209T180857Z
LAST-MODIFIED:20260209T180857Z
UID:10012271-1787254200-1787266800@visithuntingtonwv.org
SUMMARY:Parker McCollum in Concert
DESCRIPTION:Chart-topping\, multi-Platinum Country star\, Parker McCollum\, has announced dates for the second leg of his 2026 Parker McCollum Tour. Known for being  one of the busiest touring acts in Country music\, McCollum is bringing fans his #1 hits and fan-favorite tracks to cities across the U.S. including Los Angeles\, Seattle\, Dayton\, Huntsville\, Bridgeport and more.\n\nHe will perform with special guests Max McNown and Annie Bosko.\n\nTickets will be available starting with a Citi presale beginning Tuesday\, February 10. Additional presales will run throughout the week ahead of the general on-sale beginning Friday\, February 13 at 10am local time at  parkermccollum.com.
URL:https://visithuntingtonwv.org/event/parker-mccollum-in-concert/
LOCATION:Marshall Health Network Arena\, 1 Civic Center Drive\, Huntington\, WV\, 25701\, United States
CATEGORIES:Arena,Concert,Downtown,Music
ATTACH;FMTTYPE=image/jpeg:https://visithuntingtonwv.org/wp-content/uploads/2026/02/Screenshot-2026-02-09-130531.jpg
GEO:38.4222705;-82.4470094
X-APPLE-STRUCTURED-LOCATION;VALUE=URI;X-ADDRESS=Marshall Health Network Arena 1 Civic Center Drive Huntington WV 25701 United States;X-APPLE-RADIUS=500;X-TITLE=1 Civic Center Drive:geo:-82.4470094,38.4222705
END:VEVENT
BEGIN:VEVENT
DTSTART;VALUE=DATE:20260910
DTEND;VALUE=DATE:20260913
DTSTAMP:20260422T111326
CREATED:20260305T161952Z
LAST-MODIFIED:20260305T161952Z
UID:10012332-1788998400-1789257599@visithuntingtonwv.org
SUMMARY:Healing Appalachia
DESCRIPTION:It’s here.\n\n\nMark your calendars\, Healing Appalachia returns to Ashland\, Kentucky September 10-12\, 2026.\n\n\nMore music. Bigger moments. Same mission.\n\n\nHeadliners and tickets dropping soon.\n\n\nSign up for the newsletter to get first access and follow along on socials for updates.
URL:https://visithuntingtonwv.org/event/healing-appalachia-2/
LOCATION:Ashland Riverfront Park\, Cs-2550\, Ashland\, KY\, 41101\, United States
CATEGORIES:Bluegrass,Camping,Concert,Mountain Music,Music,Street Festival
ATTACH;FMTTYPE=image/jpeg:https://visithuntingtonwv.org/wp-content/uploads/2026/03/Screenshot-2026-03-05-111732.jpg
GEO:38.4803833;-82.6537455
X-APPLE-STRUCTURED-LOCATION;VALUE=URI;X-ADDRESS=Ashland Riverfront Park Cs-2550 Ashland KY 41101 United States;X-APPLE-RADIUS=500;X-TITLE=Cs-2550:geo:-82.6537455,38.4803833
END:VEVENT
BEGIN:VEVENT
DTSTART;TZID=UTC:20260924T200000
DTEND;TZID=UTC:20260924T230000
DTSTAMP:20260422T111326
CREATED:20260421T165638Z
LAST-MODIFIED:20260421T165638Z
UID:10012518-1790280000-1790290800@visithuntingtonwv.org
SUMMARY:Violent Femmes at The Keith Albee
DESCRIPTION:Violent Femmes Mark 45 Years of Musical Mayhem with “45 Years of Violent Femmes” Tour \nThe Iconic Folk-Punk Trailblazers to Hit the Road to Celebrate Four and a Half Decades of Raw Energy\, Fearless Songwriting\, and Crowd-Chanting Chaos \nForty-five years after busking on the streets of Milwaukee and redefining folk-punk forever\, Violent Femmes have announced that they are hitting the road to celebrate their milestone with a full-throttle tour bringing their raucous live show to stages across the country. \nBased on undeniable tracks from “Blister in the Sun” to “Add It Up\,” the Femmes have built one of the most unpredictable and enduring careers in alternative music — part punk sermon\, part folk jam\, and all attitude. The 45th anniversary trek will bring that singular energy as they rip through their greatest hits\, deep cuts\, and fan favorites\, all with the unfiltered\, acoustic bite that made them legends. \nFormed in 1981\, Violent Femmes flipped the music world on its head with their raw\, acoustic-driven\, self-titled\, debut album — a record that went platinum without ever cracking the Billboard Top 200. Their sound– part street-corner folk\, part punk snarl –influenced generations of artists and cultivated a fiercely loyal fanbase that remains devoted to this day. Four and a half decades in\, the Femmes are still as defiant\, joyful\, and relevant as ever with their hit song “Blister in the Sun” featured in Netflix’s acclaimed 2025 series “Four Seasons” and the band continuing to sell out venues on each tour. After 45 years of defying expectations and igniting generations\, Violent Femmes prove that true originals don’t fade — they just play louder. \nVENUE PRESALE: Thursday\, 4/23 at 10 am | CODE FEMMES26 \nON SALE: Friday\, 4/24 at 10 am
URL:https://visithuntingtonwv.org/event/violent-femmes-at-the-keith-albee/
LOCATION:Keith-Albee Performing Arts Center\, 925 4th Ave\, Huntington\, WV\, 25701\, United States
CATEGORIES:Concert,Downtown,Music,Nightlife
ATTACH;FMTTYPE=image/jpeg:https://visithuntingtonwv.org/wp-content/uploads/2026/04/Screenshot-2026-04-21-125352.jpg
GEO:38.420751;-82.442916
X-APPLE-STRUCTURED-LOCATION;VALUE=URI;X-ADDRESS=Keith-Albee Performing Arts Center 925 4th Ave Huntington WV 25701 United States;X-APPLE-RADIUS=500;X-TITLE=925 4th Ave:geo:-82.442916,38.420751
END:VEVENT
END:VCALENDAR