BEGIN:VCALENDAR
VERSION:2.0
PRODID:-//Huntington Area CVB - ECPv6.15.17.1//NONSGML v1.0//EN
CALSCALE:GREGORIAN
METHOD:PUBLISH
X-WR-CALNAME:Huntington Area CVB
X-ORIGINAL-URL:https://visithuntingtonwv.org
X-WR-CALDESC:Events for Huntington Area CVB
REFRESH-INTERVAL;VALUE=DURATION:PT1H
X-Robots-Tag:noindex
X-PUBLISHED-TTL:PT1H
BEGIN:VTIMEZONE
TZID:UTC
BEGIN:STANDARD
TZOFFSETFROM:+0000
TZOFFSETTO:+0000
TZNAME:UTC
DTSTART:20240101T000000
END:STANDARD
END:VTIMEZONE
BEGIN:VEVENT
DTSTART;TZID=UTC:20250221T193000
DTEND;TZID=UTC:20250221T213000
DTSTAMP:20260420T225010
CREATED:20250129T144536Z
LAST-MODIFIED:20250129T144536Z
UID:10008680-1740166200-1740173400@visithuntingtonwv.org
SUMMARY:Lightning Thief at The Paramount
DESCRIPTION:Follow the thrilling adventures of 12-year-old Percy Jackson. As he learns that he’s a demigod and embarks on an epic quest to locate Zeus’s missing lightning bolt to stop an impending war among the Greek gods.\n\n\n\nThere will be two evening performances\, both at 7:30PM\, taking place Friday\, February 21st and Saturday\, February 22nd.\n\n\n\nTickets increase by $5 on the day of the show.\n\nNO REFUNDS OR EXCHANGES
URL:https://visithuntingtonwv.org/event/lightning-thief-at-the-paramount/2025-02-21/
LOCATION:Paramount Arts Center\, 1300 Winchester Avenue\, Ashland\, KY\, 41101\, United States
CATEGORIES:Music,Nightlife,Theater
ATTACH;FMTTYPE=image/jpeg:https://visithuntingtonwv.org/wp-content/uploads/2025/01/Screenshot-2025-01-29-094324.jpg
GEO:38.4800008;-82.6429215
X-APPLE-STRUCTURED-LOCATION;VALUE=URI;X-ADDRESS=Paramount Arts Center 1300 Winchester Avenue Ashland KY 41101 United States;X-APPLE-RADIUS=500;X-TITLE=1300 Winchester Avenue:geo:-82.6429215,38.4800008
END:VEVENT
BEGIN:VEVENT
DTSTART;TZID=UTC:20250221T193000
DTEND;TZID=UTC:20250221T220000
DTSTAMP:20260420T225010
CREATED:20240815T142543Z
LAST-MODIFIED:20240815T142543Z
UID:10007793-1740166200-1740175200@visithuntingtonwv.org
SUMMARY:Sylvia at MU Theatre
DESCRIPTION:Sylvia by A. R. Gurney \nFebruary 19-22\, 2025  7:30 PM Nightly\nFrancis-Booth Experimental Theatre in the Joan C. Edwards Performing Arts Center \n“Sylvia” by A.R. Gurney is a tail-wagging comedy about a man who finds more than a stray dog in the park—he finds his midlife crisis wrapped in fur! Greg brings Sylvia home against his wife Kate’s wishes\, sparking a hilarious battle of wills. Sylvia’s antics—think chasing cats and chewing shoes—push Greg and Kate to their limits. As Greg bonds with Sylvia like a lost soul mate\, Kate wonders if she’s been replaced by a four-legged rival. This uproarious play explores love\, loyalty\, and the absurdity of suburban pet dramas with a bark and a bite! Hilarious and unexpectedly touching. \n$22 at the door | $5 for Marshall Students | $15 for Seniors 60+ and Marshall Employees\nFree to Marshall Students on February 19th only with a valid ID.
URL:https://visithuntingtonwv.org/event/sylvia-at-mu-theatre-3/
LOCATION:Joan C. Edwards Performing Arts Center\, 1655 5th Ave\, Huntington\, WV\, 27501\, United States
CATEGORIES:Marshall,Nightlife,Theater
ATTACH;FMTTYPE=image/webp:https://visithuntingtonwv.org/wp-content/uploads/2024/08/Sylvia.webp
GEO:38.4215642;-82.4287624
X-APPLE-STRUCTURED-LOCATION;VALUE=URI;X-ADDRESS=Joan C. Edwards Performing Arts Center 1655 5th Ave Huntington WV 27501 United States;X-APPLE-RADIUS=500;X-TITLE=1655 5th Ave:geo:-82.4287624,38.4215642
END:VEVENT
BEGIN:VEVENT
DTSTART;TZID=UTC:20250221T193000
DTEND;TZID=UTC:20250221T223000
DTSTAMP:20260420T225010
CREATED:20250128T185800Z
LAST-MODIFIED:20250201T201203Z
UID:10008674-1740166200-1740177000@visithuntingtonwv.org
SUMMARY:The Crucible
DESCRIPTION:Alchemy Theatre and Alchemy Theatre’s Classics For Kids present – Arthur Miller’s harrowing look at The Salem Witch Trials (and allegory of the 1950s Red Scare / McCarthy Hearings)\, THE CRUCIBLE!\nFriday\, Feb. 14\, 7:30pmSaturday\, Feb. 15\, 7:30pmSunday\, Feb. 16\, 2:30pmFriday\, Feb. 21\, 7;30pmSaturday\, Feb. 22\, 7:30pmSunday\, Feb. 23\, 2:30pm\nGeneral Admission – $20
URL:https://visithuntingtonwv.org/event/the-crucible/2025-02-21/
LOCATION:Alchemy Theatre\, 68 Holley Ave\, Huntington\, WV\, 25705
CATEGORIES:Theater
ATTACH;FMTTYPE=image/jpeg:https://visithuntingtonwv.org/wp-content/uploads/2025/01/Screenshot-2025-01-28-135717.jpg
GEO:38.403073;-82.387608
X-APPLE-STRUCTURED-LOCATION;VALUE=URI;X-ADDRESS=Alchemy Theatre 68 Holley Ave Huntington WV 25705;X-APPLE-RADIUS=500;X-TITLE=68 Holley Ave:geo:-82.387608,38.403073
END:VEVENT
END:VCALENDAR