BEGIN:VCALENDAR
VERSION:2.0
PRODID:-//Huntington Area CVB - ECPv6.15.17.1//NONSGML v1.0//EN
CALSCALE:GREGORIAN
METHOD:PUBLISH
X-ORIGINAL-URL:https://visithuntingtonwv.org
X-WR-CALDESC:Events for Huntington Area CVB
REFRESH-INTERVAL;VALUE=DURATION:PT1H
X-Robots-Tag:noindex
X-PUBLISHED-TTL:PT1H
BEGIN:VTIMEZONE
TZID:UTC
BEGIN:STANDARD
TZOFFSETFROM:+0000
TZOFFSETTO:+0000
TZNAME:UTC
DTSTART:20240101T000000
END:STANDARD
END:VTIMEZONE
BEGIN:VEVENT
DTSTART;TZID=UTC:20250311T190000
DTEND;TZID=UTC:20250311T210000
DTSTAMP:20260420T225658
CREATED:20250228T143338Z
LAST-MODIFIED:20250228T143452Z
UID:10009042-1741719600-1741726800@visithuntingtonwv.org
SUMMARY:BodyShots XVII: Thank the God(dess)
DESCRIPTION:Tuesday\, March 11\, 7 pm\, Francis Booth Experimental Theater\, BodyShots XVII: Thank the God(dess). A unique multimedia performance featuring dance\, film\, poetry\, and more. Free\, open to the public\, reception to follow. \nhttps://events.marshall.edu/event/bodyshots-xvii-thank-the-goddess-call-for-participation
URL:https://visithuntingtonwv.org/event/23639/
LOCATION:Joan C. Edwards Performing Arts Center\, 1655 5th Ave\, Huntington\, WV\, 27501\, United States
CATEGORIES:Art,Author Reading,Concert,Costumes,Dance,Downtown,Free,Marshall,Music,Nightlife,Theater
ATTACH;FMTTYPE=image/jpeg:https://visithuntingtonwv.org/wp-content/uploads/2025/02/Screenshot-2025-02-28-093222.jpg
GEO:38.4215642;-82.4287624
X-APPLE-STRUCTURED-LOCATION;VALUE=URI;X-ADDRESS=Joan C. Edwards Performing Arts Center 1655 5th Ave Huntington WV 27501 United States;X-APPLE-RADIUS=500;X-TITLE=1655 5th Ave:geo:-82.4287624,38.4215642
END:VEVENT
END:VCALENDAR