BEGIN:VCALENDAR
VERSION:2.0
PRODID:-//Huntington Area CVB - ECPv6.15.17.1//NONSGML v1.0//EN
CALSCALE:GREGORIAN
METHOD:PUBLISH
X-ORIGINAL-URL:https://visithuntingtonwv.org
X-WR-CALDESC:Events for Huntington Area CVB
REFRESH-INTERVAL;VALUE=DURATION:PT1H
X-Robots-Tag:noindex
X-PUBLISHED-TTL:PT1H
BEGIN:VTIMEZONE
TZID:UTC
BEGIN:STANDARD
TZOFFSETFROM:+0000
TZOFFSETTO:+0000
TZNAME:UTC
DTSTART:20240101T000000
END:STANDARD
END:VTIMEZONE
BEGIN:VEVENT
DTSTART;TZID=UTC:20250323T143000
DTEND;TZID=UTC:20250323T163000
DTSTAMP:20260421T005458
CREATED:20250306T143540Z
LAST-MODIFIED:20250306T143540Z
UID:10009084-1742740200-1742747400@visithuntingtonwv.org
SUMMARY:Opening Night Cabaret with Alchemy Theatre
DESCRIPTION:Alchemy Theatre presents the OPENING NIGHT CABARET directed by Mark Smith!\nThree performances only!\nDifferent performances each night!\nPerformers include:\nAnna Baker\, Gracie Bumgarner\, Hilary Brewster\, Ellora Burns\, Cassandra Carrillo\, Helen Freeman\, Cyndi Mac Fuller\, Kaylee Herb\, Juliette Jasko\, Hannah Lanz\, McKenzie Lambiotte\, Bailey Lewis\, Joey Maroney\, Nolan Miller\, Ali Mounts\, Mike Naglee\, Apollo Noe\, Fiona Reynolds\, Akia Rice\, Kristen Rucker\, Mark Smith\, Connor Kimbler\, Steve Hall\, Kameron Nash\, Stephen Vance\, Caitlin Sexton\, Caleb Newsome\,\nTickets are $20!\nJoin us!
URL:https://visithuntingtonwv.org/event/opening-night-cabaret-with-alchemy-theatre-3/
LOCATION:Alchemy Theatre\, 68 Holley Ave\, Huntington\, WV\, 25705
CATEGORIES:Concert,Dance,Family Friendly,Music,Nightlife,Theater
ATTACH;FMTTYPE=image/jpeg:https://visithuntingtonwv.org/wp-content/uploads/2025/03/479682364_1093195389484865_5134636408285832235_n.jpg
GEO:38.403073;-82.387608
X-APPLE-STRUCTURED-LOCATION;VALUE=URI;X-ADDRESS=Alchemy Theatre 68 Holley Ave Huntington WV 25705;X-APPLE-RADIUS=500;X-TITLE=68 Holley Ave:geo:-82.387608,38.403073
END:VEVENT
END:VCALENDAR