BEGIN:VCALENDAR
VERSION:2.0
PRODID:-//Huntington Area CVB - ECPv6.15.17.1//NONSGML v1.0//EN
CALSCALE:GREGORIAN
METHOD:PUBLISH
X-WR-CALNAME:Huntington Area CVB
X-ORIGINAL-URL:https://visithuntingtonwv.org
X-WR-CALDESC:Events for Huntington Area CVB
REFRESH-INTERVAL;VALUE=DURATION:PT1H
X-Robots-Tag:noindex
X-PUBLISHED-TTL:PT1H
BEGIN:VTIMEZONE
TZID:UTC
BEGIN:STANDARD
TZOFFSETFROM:+0000
TZOFFSETTO:+0000
TZNAME:UTC
DTSTART:20240101T000000
END:STANDARD
END:VTIMEZONE
BEGIN:VEVENT
DTSTART;TZID=UTC:20250403T190000
DTEND;TZID=UTC:20250403T220000
DTSTAMP:20260424T111413
CREATED:20250321T153012Z
LAST-MODIFIED:20250321T153012Z
UID:10009133-1743706800-1743717600@visithuntingtonwv.org
SUMMARY:The Banff Mountain Film Festival
DESCRIPTION:The Banff Mountain Film Festival is the most prestigious mountain festival in the world. Featuring the world’s best mountain sport\, culture and environmental films\, you can experience the thrill and challenges of the mountain environments that inspire us all. These films explore the mountain world\, highlighting new landscapes and remote cultures\, and exposes audiences to exciting adventures and adrenaline packed sports. Since 1986\, right after the festival\, held every fall in Banff\, Alberta\, the Banff Mountain Film Festival World Tour starts to travel around the globe with stops in 450 communities and 40 countries. \nLearn more at https://www.banffcentre.ca/banffmountainfestival/tour/us
URL:https://visithuntingtonwv.org/event/the-banff-mountain-film-festival/
LOCATION:Joan C. Edwards Performing Arts Center\, 1655 5th Ave\, Huntington\, WV\, 27501\, United States
CATEGORIES:Marshall,Theater
ATTACH;FMTTYPE=image/jpeg:https://visithuntingtonwv.org/wp-content/uploads/2025/03/Screenshot-2025-03-21-112740.jpg
GEO:38.4215642;-82.4287624
X-APPLE-STRUCTURED-LOCATION;VALUE=URI;X-ADDRESS=Joan C. Edwards Performing Arts Center 1655 5th Ave Huntington WV 27501 United States;X-APPLE-RADIUS=500;X-TITLE=1655 5th Ave:geo:-82.4287624,38.4215642
END:VEVENT
END:VCALENDAR