BEGIN:VCALENDAR
VERSION:2.0
PRODID:-//Huntington Area CVB - ECPv6.15.17.1//NONSGML v1.0//EN
CALSCALE:GREGORIAN
METHOD:PUBLISH
X-WR-CALNAME:Huntington Area CVB
X-ORIGINAL-URL:https://visithuntingtonwv.org
X-WR-CALDESC:Events for Huntington Area CVB
REFRESH-INTERVAL;VALUE=DURATION:PT1H
X-Robots-Tag:noindex
X-PUBLISHED-TTL:PT1H
BEGIN:VTIMEZONE
TZID:UTC
BEGIN:STANDARD
TZOFFSETFROM:+0000
TZOFFSETTO:+0000
TZNAME:UTC
DTSTART:20250101T000000
END:STANDARD
END:VTIMEZONE
BEGIN:VEVENT
DTSTART;TZID=UTC:20260829T113000
DTEND;TZID=UTC:20260829T143000
DTSTAMP:20260425T191243
CREATED:20260211T145629Z
LAST-MODIFIED:20260323T175841Z
UID:10012273-1788003000-1788013800@visithuntingtonwv.org
SUMMARY:CONTACT Crisis Center's "Emerald City" Fundraiser Brunch
DESCRIPTION:Follow the yellow brick road to CONTACT Rape Crisis Center’s Emerald City–themed fundraiser brunch on August 29th from 11:30 a.m. to 2:30 p.m. Enjoy a delicious brunch\, festive mimosas\, and a lively silent auction while supporting vital services for survivors in our community. Gather with friends\, dress to impress\, and help us build a stronger\, safer Emerald City for all.
URL:https://visithuntingtonwv.org/event/contact-crisis-centers-emerald-city-fundraiser-brunch/
LOCATION:Trinity Episcopal Church\, 520 11th St\, Huntington\, WV\, 25701\, United States
CATEGORIES:21+,Brunch
ATTACH;FMTTYPE=image/jpeg:https://visithuntingtonwv.org/wp-content/uploads/2026/02/Contact-Crisis-Center.jpg
GEO:38.4196257;-82.4396023
X-APPLE-STRUCTURED-LOCATION;VALUE=URI;X-ADDRESS=Trinity Episcopal Church 520 11th St Huntington WV 25701 United States;X-APPLE-RADIUS=500;X-TITLE=520 11th St:geo:-82.4396023,38.4196257
END:VEVENT
BEGIN:VEVENT
DTSTART;VALUE=DATE:20260910
DTEND;VALUE=DATE:20260913
DTSTAMP:20260425T191243
CREATED:20260305T161952Z
LAST-MODIFIED:20260305T161952Z
UID:10012332-1788998400-1789257599@visithuntingtonwv.org
SUMMARY:Healing Appalachia
DESCRIPTION:It’s here.\n\n\nMark your calendars\, Healing Appalachia returns to Ashland\, Kentucky September 10-12\, 2026.\n\n\nMore music. Bigger moments. Same mission.\n\n\nHeadliners and tickets dropping soon.\n\n\nSign up for the newsletter to get first access and follow along on socials for updates.
URL:https://visithuntingtonwv.org/event/healing-appalachia-2/
LOCATION:Ashland Riverfront Park\, Cs-2550\, Ashland\, KY\, 41101\, United States
CATEGORIES:Bluegrass,Camping,Concert,Mountain Music,Music,Street Festival
ATTACH;FMTTYPE=image/jpeg:https://visithuntingtonwv.org/wp-content/uploads/2026/03/Screenshot-2026-03-05-111732.jpg
GEO:38.4803833;-82.6537455
X-APPLE-STRUCTURED-LOCATION;VALUE=URI;X-ADDRESS=Ashland Riverfront Park Cs-2550 Ashland KY 41101 United States;X-APPLE-RADIUS=500;X-TITLE=Cs-2550:geo:-82.6537455,38.4803833
END:VEVENT
BEGIN:VEVENT
DTSTART;TZID=UTC:20260913T190000
DTEND;TZID=UTC:20260913T230000
DTSTAMP:20260425T191244
CREATED:20260318T151705Z
LAST-MODIFIED:20260318T151705Z
UID:10012362-1789326000-1789340400@visithuntingtonwv.org
SUMMARY:John Crist at The Keith Albee
DESCRIPTION:Combining sharp wit\, tactfully-unhinged stand-up and viral sketches\, John Crist is one of today’s most distinctive\, fastest-rising comedic voices. With more than one billion video views and 8 million followers\, he consistently ranks among Pollstar’s Top 10 Global Touring Comedians. Crist is currently bringing his live show to fans nationwide on the John Crist Live! Tour\, with more than 30 shows scheduled through Fall 2026\, following his nearly sold-out 2025 Jokes for Humans Tour. \nThe Georgia native’s latest comedy special\, John Crist: Emotional Support\, has surpassed 3.9 million views on YouTube alone\, with clips from the special reaching millions more. Crist hosts the pop-culture-meets-comedy podcast Net Positive with John Crist and has appeared on The Tonight Show Starring Jimmy Fallon\, Good Morning America\, SEC Network\, SHERRI\, CBS Sports\, Barstool Sports and Theo Von’s This Past Weekend.
URL:https://visithuntingtonwv.org/event/john-crist-at-the-keith-albee/
LOCATION:Keith-Albee Performing Arts Center\, 925 4th Ave\, Huntington\, WV\, 25701\, United States
CATEGORIES:Comedy,Downtown,Nightlife
ATTACH;FMTTYPE=image/jpeg:https://visithuntingtonwv.org/wp-content/uploads/2026/03/Screenshot-2026-03-18-111342.jpg
GEO:38.420751;-82.442916
X-APPLE-STRUCTURED-LOCATION;VALUE=URI;X-ADDRESS=Keith-Albee Performing Arts Center 925 4th Ave Huntington WV 25701 United States;X-APPLE-RADIUS=500;X-TITLE=925 4th Ave:geo:-82.442916,38.420751
END:VEVENT
BEGIN:VEVENT
DTSTART;TZID=UTC:20260918T160000
DTEND;TZID=UTC:20260918T210000
DTSTAMP:20260425T191244
CREATED:20260415T190829Z
LAST-MODIFIED:20260415T190829Z
UID:10012497-1789747200-1789765200@visithuntingtonwv.org
SUMMARY:Huntington Art Walk
DESCRIPTION:Save the date! The Art Walk is returning to downtown Huntington!
URL:https://visithuntingtonwv.org/event/huntington-art-walk-4/
LOCATION:Downtown Huntington 4th Ave\, 4th Ave\, 7th st - 12th st\, Huntington\, WV\, United States
CATEGORIES:Art,Downtown,Free
ATTACH;FMTTYPE=image/jpeg:https://visithuntingtonwv.org/wp-content/uploads/2026/04/674049002_122263038680188347_2317015990666973412_n.jpg
GEO:38.420187;-82.447283
X-APPLE-STRUCTURED-LOCATION;VALUE=URI;X-ADDRESS=Downtown Huntington 4th Ave 4th Ave 7th st - 12th st Huntington WV United States;X-APPLE-RADIUS=500;X-TITLE=4th Ave\, 7th st - 12th st:geo:-82.447283,38.420187
END:VEVENT
BEGIN:VEVENT
DTSTART;TZID=UTC:20260924T200000
DTEND;TZID=UTC:20260924T230000
DTSTAMP:20260425T191244
CREATED:20260421T165638Z
LAST-MODIFIED:20260421T165638Z
UID:10012518-1790280000-1790290800@visithuntingtonwv.org
SUMMARY:Violent Femmes at The Keith Albee
DESCRIPTION:Violent Femmes Mark 45 Years of Musical Mayhem with “45 Years of Violent Femmes” Tour \nThe Iconic Folk-Punk Trailblazers to Hit the Road to Celebrate Four and a Half Decades of Raw Energy\, Fearless Songwriting\, and Crowd-Chanting Chaos \nForty-five years after busking on the streets of Milwaukee and redefining folk-punk forever\, Violent Femmes have announced that they are hitting the road to celebrate their milestone with a full-throttle tour bringing their raucous live show to stages across the country. \nBased on undeniable tracks from “Blister in the Sun” to “Add It Up\,” the Femmes have built one of the most unpredictable and enduring careers in alternative music — part punk sermon\, part folk jam\, and all attitude. The 45th anniversary trek will bring that singular energy as they rip through their greatest hits\, deep cuts\, and fan favorites\, all with the unfiltered\, acoustic bite that made them legends. \nFormed in 1981\, Violent Femmes flipped the music world on its head with their raw\, acoustic-driven\, self-titled\, debut album — a record that went platinum without ever cracking the Billboard Top 200. Their sound– part street-corner folk\, part punk snarl –influenced generations of artists and cultivated a fiercely loyal fanbase that remains devoted to this day. Four and a half decades in\, the Femmes are still as defiant\, joyful\, and relevant as ever with their hit song “Blister in the Sun” featured in Netflix’s acclaimed 2025 series “Four Seasons” and the band continuing to sell out venues on each tour. After 45 years of defying expectations and igniting generations\, Violent Femmes prove that true originals don’t fade — they just play louder. \nVENUE PRESALE: Thursday\, 4/23 at 10 am | CODE FEMMES26 \nON SALE: Friday\, 4/24 at 10 am
URL:https://visithuntingtonwv.org/event/violent-femmes-at-the-keith-albee/
LOCATION:Keith-Albee Performing Arts Center\, 925 4th Ave\, Huntington\, WV\, 25701\, United States
CATEGORIES:Concert,Downtown,Music,Nightlife
ATTACH;FMTTYPE=image/jpeg:https://visithuntingtonwv.org/wp-content/uploads/2026/04/Screenshot-2026-04-21-125352.jpg
GEO:38.420751;-82.442916
X-APPLE-STRUCTURED-LOCATION;VALUE=URI;X-ADDRESS=Keith-Albee Performing Arts Center 925 4th Ave Huntington WV 25701 United States;X-APPLE-RADIUS=500;X-TITLE=925 4th Ave:geo:-82.442916,38.420751
END:VEVENT
BEGIN:VEVENT
DTSTART;TZID=UTC:20261016T160000
DTEND;TZID=UTC:20261016T210000
DTSTAMP:20260425T191244
CREATED:20260415T190841Z
LAST-MODIFIED:20260415T190841Z
UID:10012498-1792166400-1792184400@visithuntingtonwv.org
SUMMARY:Huntington Art Walk
DESCRIPTION:Save the date! The Art Walk is returning to downtown Huntington!
URL:https://visithuntingtonwv.org/event/huntington-art-walk-5/
LOCATION:Downtown Huntington 4th Ave\, 4th Ave\, 7th st - 12th st\, Huntington\, WV\, United States
CATEGORIES:Art,Downtown,Free
ATTACH;FMTTYPE=image/jpeg:https://visithuntingtonwv.org/wp-content/uploads/2026/04/674049002_122263038680188347_2317015990666973412_n.jpg
GEO:38.420187;-82.447283
X-APPLE-STRUCTURED-LOCATION;VALUE=URI;X-ADDRESS=Downtown Huntington 4th Ave 4th Ave 7th st - 12th st Huntington WV United States;X-APPLE-RADIUS=500;X-TITLE=4th Ave\, 7th st - 12th st:geo:-82.447283,38.420187
END:VEVENT
BEGIN:VEVENT
DTSTART;VALUE=DATE:20261024
DTEND;VALUE=DATE:20261025
DTSTAMP:20260425T191244
CREATED:20260313T180812Z
LAST-MODIFIED:20260313T180827Z
UID:10012355-1792800000-1792886399@visithuntingtonwv.org
SUMMARY:Siptacular 2026
DESCRIPTION:Save the date! Details coming soon.
URL:https://visithuntingtonwv.org/event/siptacular-2026/
LOCATION:Sip Downtown Brasserie\, 311 9th St\, Huntington\, WV\, 25701\, United States
CATEGORIES:21+,Street Festival,Wine
ATTACH;FMTTYPE=image/jpeg:https://visithuntingtonwv.org/wp-content/uploads/2025/04/Sip-logo.jpg
GEO:38.4235342;-82.4406626
X-APPLE-STRUCTURED-LOCATION;VALUE=URI;X-ADDRESS=Sip Downtown Brasserie 311 9th St Huntington WV 25701 United States;X-APPLE-RADIUS=500;X-TITLE=311 9th St:geo:-82.4406626,38.4235342
END:VEVENT
BEGIN:VEVENT
DTSTART;TZID=UTC:20261024T180000
DTEND;TZID=UTC:20261024T220000
DTSTAMP:20260425T191244
CREATED:20260402T194135Z
LAST-MODIFIED:20260402T194135Z
UID:10012451-1792864800-1792879200@visithuntingtonwv.org
SUMMARY:Into the Woods: A Grimm Affair
DESCRIPTION:The Cabell County Public Library invites you to join us for the 2026 Library Gala.\n\nOnce upon a midnight dreary\,In woods both wicked and eerie\,Where shadows murmur\, candles gleam\,And nothing’s ever as it seems…\nBeneath the boughs where secrets creep\,Where fairies stir and monsters sleep\,The forest hums\, it knows your name\,And softly calls you to its game.\nStep lightly past the timberline;Each tale conceals a dark design.\nPromises linger in the gloom…Dinner. Drinks. Dancing.Delightful Doom.\nFollow the lanterns’ flickering spark\,The story begins after dark.\n\nTickets go on sale soon. 
URL:https://visithuntingtonwv.org/event/into-the-woods-a-grimm-affair/
LOCATION:Cabell County Public Library\, 455 9th St\, Huntington\, WV\, 25701\, United States
CATEGORIES:Costumes,Downtown,Holiday
ATTACH;FMTTYPE=image/jpeg:https://visithuntingtonwv.org/wp-content/uploads/2026/04/659213841_1350340370457902_4986447996550905729_n.jpg
GEO:38.4197509;-82.4439429
X-APPLE-STRUCTURED-LOCATION;VALUE=URI;X-ADDRESS=Cabell County Public Library 455 9th St Huntington WV 25701 United States;X-APPLE-RADIUS=500;X-TITLE=455 9th St:geo:-82.4439429,38.4197509
END:VEVENT
END:VCALENDAR