BEGIN:VCALENDAR
VERSION:2.0
PRODID:-//Huntington Area CVB - ECPv6.15.17.1//NONSGML v1.0//EN
CALSCALE:GREGORIAN
METHOD:PUBLISH
X-ORIGINAL-URL:https://visithuntingtonwv.org
X-WR-CALDESC:Events for Huntington Area CVB
REFRESH-INTERVAL;VALUE=DURATION:PT1H
X-Robots-Tag:noindex
X-PUBLISHED-TTL:PT1H
BEGIN:VTIMEZONE
TZID:UTC
BEGIN:STANDARD
TZOFFSETFROM:+0000
TZOFFSETTO:+0000
TZNAME:UTC
DTSTART:20250101T000000
END:STANDARD
END:VTIMEZONE
BEGIN:VEVENT
DTSTART;TZID=UTC:20260619T190000
DTEND;TZID=UTC:20260619T230000
DTSTAMP:20260425T154632
CREATED:20260317T153816Z
LAST-MODIFIED:20260317T153816Z
UID:10012359-1781895600-1781910000@visithuntingtonwv.org
SUMMARY:TOBYMAC in Concert
DESCRIPTION:Eight cities. One summer. TOBYMAC is hitting the road for a limited-run summer tour that’s set to be one of the hottest events of the season. Bringing his signature explosive energy and a lineup stacked with hit songs\, the tour\nwill make select stops across the country\, creating must-see nights fans won’t want to miss. Audiences can expect TOBYMAC to deliver crowd favorites like “Everything\,” “Help Is On The Way (Maybe Midnight)\,” and “I just  need U.” – songs that have defined his sound and fueled arenas nationwide. Joining him is Zach Williams\, whose powerful anthems “Chain Breaker” and “There Was Jesus” continue to resonate deeply with listeners. The lineup  also features rising voices Seph Schlueter\, known for his breakout “Counting My Blessings\,” and Jamie MacDonald\, whose hit “Desperate” has quickly captured attention across Christian music.\nWith only eight dates on the calendar\, this summer run offers fans a rare opportunity to catch a curated lineup in a limited window. It’s high energy\, high impact\, and built for summer nights that feel bigger than the moment.
URL:https://visithuntingtonwv.org/event/tobymac-in-concert/
LOCATION:Marshall Health Network Arena\, 1 Civic Center Drive\, Huntington\, WV\, 25701\, United States
CATEGORIES:Arena,Concert,Music
ATTACH;FMTTYPE=image/jpeg:https://visithuntingtonwv.org/wp-content/uploads/2026/03/Screenshot-2026-03-17-113404.jpg
GEO:38.4222705;-82.4470094
X-APPLE-STRUCTURED-LOCATION;VALUE=URI;X-ADDRESS=Marshall Health Network Arena 1 Civic Center Drive Huntington WV 25701 United States;X-APPLE-RADIUS=500;X-TITLE=1 Civic Center Drive:geo:-82.4470094,38.4222705
END:VEVENT
BEGIN:VEVENT
DTSTART;TZID=UTC:20260619T193000
DTEND;TZID=UTC:20260619T220000
DTSTAMP:20260425T154632
CREATED:20260226T184719Z
LAST-MODIFIED:20260226T184719Z
UID:10012309-1781897400-1781906400@visithuntingtonwv.org
SUMMARY:Josh Turner at the Keith Albee
DESCRIPTION:Known for his unmistakable buttery baritone and timeless hits like “Long Black Train” and “Why Don’t We Just Dance\,” Grammy-nominated Josh Turner has earned five No. 1 singles — including “Your Man\,” whose official video has surpassed 233 million views — and has amassed more than 6 billion global career streams. \nA South Carolina native\, Turner is a GMA Dove Award winner\, recipient of the Order of the Palmetto\, and an inductee into the South Carolina Entertainment and Music Hall of Fame. He released his first Greatest Hits album in 2023 and continues touring nationwide while supporting arts education through The Josh Turner Scholarship Fund for the Arts. \nDon’t miss your chance to experience one of country music’s most distinctive voices live on stage. We hope to see you there!
URL:https://visithuntingtonwv.org/event/josh-turner-at-the-keith-albee/
LOCATION:Keith-Albee Performing Arts Center\, 925 4th Ave\, Huntington\, WV\, 25701\, United States
CATEGORIES:Concert,Downtown,Music,Nightlife
ATTACH;FMTTYPE=image/jpeg:https://visithuntingtonwv.org/wp-content/uploads/2026/02/Screenshot-2026-02-26-134532.jpg
GEO:38.420751;-82.442916
X-APPLE-STRUCTURED-LOCATION;VALUE=URI;X-ADDRESS=Keith-Albee Performing Arts Center 925 4th Ave Huntington WV 25701 United States;X-APPLE-RADIUS=500;X-TITLE=925 4th Ave:geo:-82.442916,38.420751
END:VEVENT
BEGIN:VEVENT
DTSTART;VALUE=DATE:20260622
DTEND;VALUE=DATE:20260627
DTSTAMP:20260425T154632
CREATED:20260331T181250Z
LAST-MODIFIED:20260331T181250Z
UID:10012443-1782086400-1782518399@visithuntingtonwv.org
SUMMARY:Alchemy Kids Theatre Summer Intensive
DESCRIPTION:ALCHEMY SUMMER KIDS THEATRE INTENSIVE\nSign up at the link below:\nhttps://forms.gle/DKDD4f6s2WyJ2miF7\n\n\nJUNE\nMonday 6/22 – Friday 6/26\n2nd Grade – Middle School 9:00AM – 12:00PM\nMiddle School – High School 1:00PM – 4:00 PM\nShowcase Saturday 6/27\, part of the 9th Annual WV Shakespeare Festival\n\n\nCost: $175 / Camper\, $25 Sibling Discount
URL:https://visithuntingtonwv.org/event/alchemy-kids-theatre-summer-intensive/
LOCATION:Alchemy Theatre\, 68 Holley Ave\, Huntington\, WV\, 25705
CATEGORIES:Family Friendly,Theater
ATTACH;FMTTYPE=image/jpeg:https://visithuntingtonwv.org/wp-content/uploads/2026/03/Screenshot-2026-03-31-141052.jpg
GEO:38.403073;-82.387608
X-APPLE-STRUCTURED-LOCATION;VALUE=URI;X-ADDRESS=Alchemy Theatre 68 Holley Ave Huntington WV 25705;X-APPLE-RADIUS=500;X-TITLE=68 Holley Ave:geo:-82.387608,38.403073
END:VEVENT
BEGIN:VEVENT
DTSTART;VALUE=DATE:20260627
DTEND;VALUE=DATE:20260628
DTSTAMP:20260425T154632
CREATED:20260323T190612Z
LAST-MODIFIED:20260323T190612Z
UID:10012375-1782518400-1782604799@visithuntingtonwv.org
SUMMARY:Pride in the Park 2026
DESCRIPTION:Mark your calendars for June 27th!Gates open at 11am\, Show starts at 12PM.Tickets can be purchased here: https://www.zeffy.com/en-US/ticketing/pride-in-the-park–2026 \nTickets also available with CASH at the gate.Pride in the Park at the amphitheater is coming back for its SIXTH year! This is one of our biggest and most popular annual events and we need YOU to help us make this the biggest and best yet! ***Applications for performers will go live May 1st***
URL:https://visithuntingtonwv.org/event/pride-in-the-park-2026/
LOCATION:Ritter Park Amphitheater\, Caldwell Rd off 12th St Hill\, Huntington\, WV\, 25701\, United States
CATEGORIES:Concert,Costumes,Family Friendly,LGBTQ+,Street Festival
ATTACH;FMTTYPE=image/jpeg:https://visithuntingtonwv.org/wp-content/uploads/2026/03/Screenshot-2026-03-23-150319.jpg
GEO:38.413602;-82.436413
X-APPLE-STRUCTURED-LOCATION;VALUE=URI;X-ADDRESS=Ritter Park Amphitheater Caldwell Rd off 12th St Hill Huntington WV 25701 United States;X-APPLE-RADIUS=500;X-TITLE=Caldwell Rd off 12th St Hill:geo:-82.436413,38.413602
END:VEVENT
BEGIN:VEVENT
DTSTART;TZID=UTC:20260717T160000
DTEND;TZID=UTC:20260717T210000
DTSTAMP:20260425T154632
CREATED:20260415T190802Z
LAST-MODIFIED:20260415T190802Z
UID:10012495-1784304000-1784322000@visithuntingtonwv.org
SUMMARY:Huntington Art Walk
DESCRIPTION:Save the date! The Art Walk is returning to downtown Huntington!
URL:https://visithuntingtonwv.org/event/huntington-art-walk-2/
LOCATION:Downtown Huntington 4th Ave\, 4th Ave\, 7th st - 12th st\, Huntington\, WV\, United States
CATEGORIES:Art,Downtown,Free
ATTACH;FMTTYPE=image/jpeg:https://visithuntingtonwv.org/wp-content/uploads/2026/04/674049002_122263038680188347_2317015990666973412_n.jpg
GEO:38.420187;-82.447283
X-APPLE-STRUCTURED-LOCATION;VALUE=URI;X-ADDRESS=Downtown Huntington 4th Ave 4th Ave 7th st - 12th st Huntington WV United States;X-APPLE-RADIUS=500;X-TITLE=4th Ave\, 7th st - 12th st:geo:-82.447283,38.420187
END:VEVENT
BEGIN:VEVENT
DTSTART;VALUE=DATE:20260723
DTEND;VALUE=DATE:20260726
DTSTAMP:20260425T154632
CREATED:20260123T204143Z
LAST-MODIFIED:20260123T204143Z
UID:10012231-1784764800-1785023999@visithuntingtonwv.org
SUMMARY:Fly In Festival 2026
DESCRIPTION:We are EXCITED to announce the initial artist lineup for the 11th Annual Fly In Festival \, JULY 23-25\, 2026 at the Robert Newlon Airpark (I-41) in Huntington\, WV.More exciting announcements will be coming over the next few weeks\, so stay tuned !!We want to THANK Joe Eddins Design for that great artwork.We welcome to the 2026 Fly In Festival:  Appalachian Road Show \, Jason Carter\, Kenny and Amanda Smith\, The Bing Brothers Band featuring Jake Krack\, Mason Via\, Don Rigsby\, Kevin Denney & Neo-Grass\, DownRiver Collective\, Chris Davis Band\, Hammaville\, Tessa McCoy & The State Birds\, Schultz Creek Bluegrass Band\, Southridge\, The Jason Mays Band\, Jayce Turley\, Sasha Colette & The Magnolias\, The Gladson Family Band\, Robert Shafer\, Bobby Taylor & Kim Johnson\, String Therapy\, Mudhole Control \, Larry Adkins “The Karaoke King” & MORE !!!! \nTICKETS ARE ON SALE NOW at https://www.ticketleap.events/tickets/fly-in-festival/2026-fly-in-festival
URL:https://visithuntingtonwv.org/event/fly-in-festival-2026/
LOCATION:Fly In Cafe\, 6090 Kyle Ln\, Huntington\, WV\, 25702\, United States
CATEGORIES:Concert,Family Friendly,Mountain Music,Music,Street Festival
ATTACH;FMTTYPE=image/jpeg:https://visithuntingtonwv.org/wp-content/uploads/2026/01/619456293_1464436492358411_6298007792061755976_n.jpg
GEO:38.4614206;-82.308194
X-APPLE-STRUCTURED-LOCATION;VALUE=URI;X-ADDRESS=Fly In Cafe 6090 Kyle Ln Huntington WV 25702 United States;X-APPLE-RADIUS=500;X-TITLE=6090 Kyle Ln:geo:-82.308194,38.4614206
END:VEVENT
BEGIN:VEVENT
DTSTART;VALUE=DATE:20260725
DTEND;VALUE=DATE:20260727
DTSTAMP:20260425T154632
CREATED:20250903T202939Z
LAST-MODIFIED:20250926T163853Z
UID:10011794-1784937600-1785110399@visithuntingtonwv.org
SUMMARY:GenreCon 2026
DESCRIPTION:Save the date! The tri-state’s largest writing conference returns to the Doubletree in downtown Huntington for its third year. There will be workshops and panels on writing craft\, business\, marketing\, and more. Plus attendees will have the opportunity to pitch their manuscripts to agents and editors. \nDetails coming soon! Sign up to be on the mailing list at www.AskIGW.com \n 
URL:https://visithuntingtonwv.org/event/genrecon-2026/
LOCATION:Double Tree Hotel\, 1001 3rd Ave\, Huntington\, WV\, 25701\, United States
CATEGORIES:Author Reading,Craft,Downtown
ATTACH;FMTTYPE=image/jpeg:https://visithuntingtonwv.org/wp-content/uploads/2025/09/Screenshot-2025-09-03-162626.jpg
GEO:38.422011;-82.441598
X-APPLE-STRUCTURED-LOCATION;VALUE=URI;X-ADDRESS=Double Tree Hotel 1001 3rd Ave Huntington WV 25701 United States;X-APPLE-RADIUS=500;X-TITLE=1001 3rd Ave:geo:-82.441598,38.422011
END:VEVENT
BEGIN:VEVENT
DTSTART;VALUE=DATE:20260727
DTEND;VALUE=DATE:20260801
DTSTAMP:20260425T154632
CREATED:20260331T181420Z
LAST-MODIFIED:20260331T181420Z
UID:10012444-1785110400-1785542399@visithuntingtonwv.org
SUMMARY:Drama With Helen Summer Camp
DESCRIPTION:DRAMA WITH HELEN SUMMER CAMP\nSign up at:\nhttp://www.DramaWithHelen.org\n\n\nJULY\nMonday 7/27 – Friday 7/31 (showcase 7/31)\n\n\n9:00AM – 12:00PM – Ages 6-12\n1:00PM – 4:00 PM – Ages 13-99\n\n\n$165 for all 5 days / $15 sibling discount (cash\, check\, or card payment due 1st day of camp)\n\n\nRegistration deadline: 7/20
URL:https://visithuntingtonwv.org/event/drama-with-helen-summer-camp/
LOCATION:Alchemy Theatre\, 68 Holley Ave\, Huntington\, WV\, 25705
CATEGORIES:Family Friendly,Theater
ATTACH;FMTTYPE=image/jpeg:https://visithuntingtonwv.org/wp-content/uploads/2026/03/Screenshot-2026-03-31-141309.jpg
GEO:38.403073;-82.387608
X-APPLE-STRUCTURED-LOCATION;VALUE=URI;X-ADDRESS=Alchemy Theatre 68 Holley Ave Huntington WV 25705;X-APPLE-RADIUS=500;X-TITLE=68 Holley Ave:geo:-82.387608,38.403073
END:VEVENT
BEGIN:VEVENT
DTSTART;TZID=UTC:20260808T080000
DTEND;TZID=UTC:20260808T120000
DTSTAMP:20260425T154632
CREATED:20260415T170700Z
LAST-MODIFIED:20260415T170700Z
UID:10012492-1786176000-1786190400@visithuntingtonwv.org
SUMMARY:Dolly Dash 5k for Reading
DESCRIPTION:Celebrate 20 Years of Dolly Parton’s Imagination Library in West Virginia with us at the 4th Annual Dolly Dash 5K Race For Reading in Ritter Park\, Huntington on Saturday\, August 8th @9:25AM!\nAll proceeds directly benefit Dolly Parton’s Imagination Library of West Virginia – a book gifting program that mails free\, high-quality books to children from birth to age five\, promoting early literacy\, family engagement\, school readiness\, academic and lifetime success!\nEach Race Registrations Sponsors a Child’s Annual Enrollment.\nReserve Your Commemorative T-Shirt!Each registration includes a commemorative T-shirt with the 20th Anniversary banner. You do not have to participate in the race nor be present on race day to get your shirt. Pick up your shirt on race day OR Email imaginationlibrary@k12.wv.us to coordinate!\nAwards and Prizes! Best Dressed Dolly Contest! Family Fun Event!\n8am- Registration opens by the big red tent at the shelter near the starting line. Check in to receive bib assignment and T-shirt**T-shirt guaranteed with early registration by July 31st\n8:30am- Vendors\, Shaved Ice\, Music\, Playground\n9:15am- Best Dressed Dolly Contest in Child\, Adult\, and Pet “Doggy Parton” Categories**Race registration required to participate\n9:25am- Race Starts\nDolly Dash MedalsCommemorative locally-made wooden embossed medal awarded to 1st Place and 1st Runner-Up male and female in each age group**Children in strollers are ineligible to win in child categories.*All minors must be accompanied by an adult\nRegister\, Become A Sponsor\, and Donate at DollyBooksWV.com
URL:https://visithuntingtonwv.org/event/dolly-dash-5k-for-reading/
LOCATION:Ritter Park Picnic Shelter\, 13th Ave & 12th St\, Huntington\, WV\, 25701\, United States
CATEGORIES:5K,Race
ATTACH;FMTTYPE=image/jpeg:https://visithuntingtonwv.org/wp-content/uploads/2026/04/660837702_122269801814083220_2695804006551473979_n.jpg
GEO:38.4092179;-82.4352299
X-APPLE-STRUCTURED-LOCATION;VALUE=URI;X-ADDRESS=Ritter Park Picnic Shelter 13th Ave & 12th St Huntington WV 25701 United States;X-APPLE-RADIUS=500;X-TITLE=13th Ave & 12th St:geo:-82.4352299,38.4092179
END:VEVENT
BEGIN:VEVENT
DTSTART;TZID=UTC:20260820T193000
DTEND;TZID=UTC:20260820T230000
DTSTAMP:20260425T154632
CREATED:20260209T180857Z
LAST-MODIFIED:20260209T180857Z
UID:10012271-1787254200-1787266800@visithuntingtonwv.org
SUMMARY:Parker McCollum in Concert
DESCRIPTION:Chart-topping\, multi-Platinum Country star\, Parker McCollum\, has announced dates for the second leg of his 2026 Parker McCollum Tour. Known for being  one of the busiest touring acts in Country music\, McCollum is bringing fans his #1 hits and fan-favorite tracks to cities across the U.S. including Los Angeles\, Seattle\, Dayton\, Huntsville\, Bridgeport and more.\n\nHe will perform with special guests Max McNown and Annie Bosko.\n\nTickets will be available starting with a Citi presale beginning Tuesday\, February 10. Additional presales will run throughout the week ahead of the general on-sale beginning Friday\, February 13 at 10am local time at  parkermccollum.com.
URL:https://visithuntingtonwv.org/event/parker-mccollum-in-concert/
LOCATION:Marshall Health Network Arena\, 1 Civic Center Drive\, Huntington\, WV\, 25701\, United States
CATEGORIES:Arena,Concert,Downtown,Music
ATTACH;FMTTYPE=image/jpeg:https://visithuntingtonwv.org/wp-content/uploads/2026/02/Screenshot-2026-02-09-130531.jpg
GEO:38.4222705;-82.4470094
X-APPLE-STRUCTURED-LOCATION;VALUE=URI;X-ADDRESS=Marshall Health Network Arena 1 Civic Center Drive Huntington WV 25701 United States;X-APPLE-RADIUS=500;X-TITLE=1 Civic Center Drive:geo:-82.4470094,38.4222705
END:VEVENT
BEGIN:VEVENT
DTSTART;TZID=UTC:20260821T160000
DTEND;TZID=UTC:20260821T210000
DTSTAMP:20260425T154632
CREATED:20260415T190814Z
LAST-MODIFIED:20260415T190814Z
UID:10012496-1787328000-1787346000@visithuntingtonwv.org
SUMMARY:Huntington Art Walk
DESCRIPTION:Save the date! The Art Walk is returning to downtown Huntington!
URL:https://visithuntingtonwv.org/event/huntington-art-walk-3/
LOCATION:Downtown Huntington 4th Ave\, 4th Ave\, 7th st - 12th st\, Huntington\, WV\, United States
CATEGORIES:Art,Downtown,Free
ATTACH;FMTTYPE=image/jpeg:https://visithuntingtonwv.org/wp-content/uploads/2026/04/674049002_122263038680188347_2317015990666973412_n.jpg
GEO:38.420187;-82.447283
X-APPLE-STRUCTURED-LOCATION;VALUE=URI;X-ADDRESS=Downtown Huntington 4th Ave 4th Ave 7th st - 12th st Huntington WV United States;X-APPLE-RADIUS=500;X-TITLE=4th Ave\, 7th st - 12th st:geo:-82.447283,38.420187
END:VEVENT
BEGIN:VEVENT
DTSTART;TZID=UTC:20260829T113000
DTEND;TZID=UTC:20260829T143000
DTSTAMP:20260425T154632
CREATED:20260211T145629Z
LAST-MODIFIED:20260323T175841Z
UID:10012273-1788003000-1788013800@visithuntingtonwv.org
SUMMARY:CONTACT Crisis Center's "Emerald City" Fundraiser Brunch
DESCRIPTION:Follow the yellow brick road to CONTACT Rape Crisis Center’s Emerald City–themed fundraiser brunch on August 29th from 11:30 a.m. to 2:30 p.m. Enjoy a delicious brunch\, festive mimosas\, and a lively silent auction while supporting vital services for survivors in our community. Gather with friends\, dress to impress\, and help us build a stronger\, safer Emerald City for all.
URL:https://visithuntingtonwv.org/event/contact-crisis-centers-emerald-city-fundraiser-brunch/
LOCATION:Trinity Episcopal Church\, 520 11th St\, Huntington\, WV\, 25701\, United States
CATEGORIES:21+,Brunch
ATTACH;FMTTYPE=image/jpeg:https://visithuntingtonwv.org/wp-content/uploads/2026/02/Contact-Crisis-Center.jpg
GEO:38.4196257;-82.4396023
X-APPLE-STRUCTURED-LOCATION;VALUE=URI;X-ADDRESS=Trinity Episcopal Church 520 11th St Huntington WV 25701 United States;X-APPLE-RADIUS=500;X-TITLE=520 11th St:geo:-82.4396023,38.4196257
END:VEVENT
BEGIN:VEVENT
DTSTART;VALUE=DATE:20260910
DTEND;VALUE=DATE:20260913
DTSTAMP:20260425T154632
CREATED:20260305T161952Z
LAST-MODIFIED:20260305T161952Z
UID:10012332-1788998400-1789257599@visithuntingtonwv.org
SUMMARY:Healing Appalachia
DESCRIPTION:It’s here.\n\n\nMark your calendars\, Healing Appalachia returns to Ashland\, Kentucky September 10-12\, 2026.\n\n\nMore music. Bigger moments. Same mission.\n\n\nHeadliners and tickets dropping soon.\n\n\nSign up for the newsletter to get first access and follow along on socials for updates.
URL:https://visithuntingtonwv.org/event/healing-appalachia-2/
LOCATION:Ashland Riverfront Park\, Cs-2550\, Ashland\, KY\, 41101\, United States
CATEGORIES:Bluegrass,Camping,Concert,Mountain Music,Music,Street Festival
ATTACH;FMTTYPE=image/jpeg:https://visithuntingtonwv.org/wp-content/uploads/2026/03/Screenshot-2026-03-05-111732.jpg
GEO:38.4803833;-82.6537455
X-APPLE-STRUCTURED-LOCATION;VALUE=URI;X-ADDRESS=Ashland Riverfront Park Cs-2550 Ashland KY 41101 United States;X-APPLE-RADIUS=500;X-TITLE=Cs-2550:geo:-82.6537455,38.4803833
END:VEVENT
BEGIN:VEVENT
DTSTART;TZID=UTC:20260913T190000
DTEND;TZID=UTC:20260913T230000
DTSTAMP:20260425T154632
CREATED:20260318T151705Z
LAST-MODIFIED:20260318T151705Z
UID:10012362-1789326000-1789340400@visithuntingtonwv.org
SUMMARY:John Crist at The Keith Albee
DESCRIPTION:Combining sharp wit\, tactfully-unhinged stand-up and viral sketches\, John Crist is one of today’s most distinctive\, fastest-rising comedic voices. With more than one billion video views and 8 million followers\, he consistently ranks among Pollstar’s Top 10 Global Touring Comedians. Crist is currently bringing his live show to fans nationwide on the John Crist Live! Tour\, with more than 30 shows scheduled through Fall 2026\, following his nearly sold-out 2025 Jokes for Humans Tour. \nThe Georgia native’s latest comedy special\, John Crist: Emotional Support\, has surpassed 3.9 million views on YouTube alone\, with clips from the special reaching millions more. Crist hosts the pop-culture-meets-comedy podcast Net Positive with John Crist and has appeared on The Tonight Show Starring Jimmy Fallon\, Good Morning America\, SEC Network\, SHERRI\, CBS Sports\, Barstool Sports and Theo Von’s This Past Weekend.
URL:https://visithuntingtonwv.org/event/john-crist-at-the-keith-albee/
LOCATION:Keith-Albee Performing Arts Center\, 925 4th Ave\, Huntington\, WV\, 25701\, United States
CATEGORIES:Comedy,Downtown,Nightlife
ATTACH;FMTTYPE=image/jpeg:https://visithuntingtonwv.org/wp-content/uploads/2026/03/Screenshot-2026-03-18-111342.jpg
GEO:38.420751;-82.442916
X-APPLE-STRUCTURED-LOCATION;VALUE=URI;X-ADDRESS=Keith-Albee Performing Arts Center 925 4th Ave Huntington WV 25701 United States;X-APPLE-RADIUS=500;X-TITLE=925 4th Ave:geo:-82.442916,38.420751
END:VEVENT
BEGIN:VEVENT
DTSTART;TZID=UTC:20260918T160000
DTEND;TZID=UTC:20260918T210000
DTSTAMP:20260425T154632
CREATED:20260415T190829Z
LAST-MODIFIED:20260415T190829Z
UID:10012497-1789747200-1789765200@visithuntingtonwv.org
SUMMARY:Huntington Art Walk
DESCRIPTION:Save the date! The Art Walk is returning to downtown Huntington!
URL:https://visithuntingtonwv.org/event/huntington-art-walk-4/
LOCATION:Downtown Huntington 4th Ave\, 4th Ave\, 7th st - 12th st\, Huntington\, WV\, United States
CATEGORIES:Art,Downtown,Free
ATTACH;FMTTYPE=image/jpeg:https://visithuntingtonwv.org/wp-content/uploads/2026/04/674049002_122263038680188347_2317015990666973412_n.jpg
GEO:38.420187;-82.447283
X-APPLE-STRUCTURED-LOCATION;VALUE=URI;X-ADDRESS=Downtown Huntington 4th Ave 4th Ave 7th st - 12th st Huntington WV United States;X-APPLE-RADIUS=500;X-TITLE=4th Ave\, 7th st - 12th st:geo:-82.447283,38.420187
END:VEVENT
BEGIN:VEVENT
DTSTART;TZID=UTC:20260924T200000
DTEND;TZID=UTC:20260924T230000
DTSTAMP:20260425T154632
CREATED:20260421T165638Z
LAST-MODIFIED:20260421T165638Z
UID:10012518-1790280000-1790290800@visithuntingtonwv.org
SUMMARY:Violent Femmes at The Keith Albee
DESCRIPTION:Violent Femmes Mark 45 Years of Musical Mayhem with “45 Years of Violent Femmes” Tour \nThe Iconic Folk-Punk Trailblazers to Hit the Road to Celebrate Four and a Half Decades of Raw Energy\, Fearless Songwriting\, and Crowd-Chanting Chaos \nForty-five years after busking on the streets of Milwaukee and redefining folk-punk forever\, Violent Femmes have announced that they are hitting the road to celebrate their milestone with a full-throttle tour bringing their raucous live show to stages across the country. \nBased on undeniable tracks from “Blister in the Sun” to “Add It Up\,” the Femmes have built one of the most unpredictable and enduring careers in alternative music — part punk sermon\, part folk jam\, and all attitude. The 45th anniversary trek will bring that singular energy as they rip through their greatest hits\, deep cuts\, and fan favorites\, all with the unfiltered\, acoustic bite that made them legends. \nFormed in 1981\, Violent Femmes flipped the music world on its head with their raw\, acoustic-driven\, self-titled\, debut album — a record that went platinum without ever cracking the Billboard Top 200. Their sound– part street-corner folk\, part punk snarl –influenced generations of artists and cultivated a fiercely loyal fanbase that remains devoted to this day. Four and a half decades in\, the Femmes are still as defiant\, joyful\, and relevant as ever with their hit song “Blister in the Sun” featured in Netflix’s acclaimed 2025 series “Four Seasons” and the band continuing to sell out venues on each tour. After 45 years of defying expectations and igniting generations\, Violent Femmes prove that true originals don’t fade — they just play louder. \nVENUE PRESALE: Thursday\, 4/23 at 10 am | CODE FEMMES26 \nON SALE: Friday\, 4/24 at 10 am
URL:https://visithuntingtonwv.org/event/violent-femmes-at-the-keith-albee/
LOCATION:Keith-Albee Performing Arts Center\, 925 4th Ave\, Huntington\, WV\, 25701\, United States
CATEGORIES:Concert,Downtown,Music,Nightlife
ATTACH;FMTTYPE=image/jpeg:https://visithuntingtonwv.org/wp-content/uploads/2026/04/Screenshot-2026-04-21-125352.jpg
GEO:38.420751;-82.442916
X-APPLE-STRUCTURED-LOCATION;VALUE=URI;X-ADDRESS=Keith-Albee Performing Arts Center 925 4th Ave Huntington WV 25701 United States;X-APPLE-RADIUS=500;X-TITLE=925 4th Ave:geo:-82.442916,38.420751
END:VEVENT
BEGIN:VEVENT
DTSTART;TZID=UTC:20261016T160000
DTEND;TZID=UTC:20261016T210000
DTSTAMP:20260425T154632
CREATED:20260415T190841Z
LAST-MODIFIED:20260415T190841Z
UID:10012498-1792166400-1792184400@visithuntingtonwv.org
SUMMARY:Huntington Art Walk
DESCRIPTION:Save the date! The Art Walk is returning to downtown Huntington!
URL:https://visithuntingtonwv.org/event/huntington-art-walk-5/
LOCATION:Downtown Huntington 4th Ave\, 4th Ave\, 7th st - 12th st\, Huntington\, WV\, United States
CATEGORIES:Art,Downtown,Free
ATTACH;FMTTYPE=image/jpeg:https://visithuntingtonwv.org/wp-content/uploads/2026/04/674049002_122263038680188347_2317015990666973412_n.jpg
GEO:38.420187;-82.447283
X-APPLE-STRUCTURED-LOCATION;VALUE=URI;X-ADDRESS=Downtown Huntington 4th Ave 4th Ave 7th st - 12th st Huntington WV United States;X-APPLE-RADIUS=500;X-TITLE=4th Ave\, 7th st - 12th st:geo:-82.447283,38.420187
END:VEVENT
BEGIN:VEVENT
DTSTART;VALUE=DATE:20261024
DTEND;VALUE=DATE:20261025
DTSTAMP:20260425T154632
CREATED:20260313T180812Z
LAST-MODIFIED:20260313T180827Z
UID:10012355-1792800000-1792886399@visithuntingtonwv.org
SUMMARY:Siptacular 2026
DESCRIPTION:Save the date! Details coming soon.
URL:https://visithuntingtonwv.org/event/siptacular-2026/
LOCATION:Sip Downtown Brasserie\, 311 9th St\, Huntington\, WV\, 25701\, United States
CATEGORIES:21+,Street Festival,Wine
ATTACH;FMTTYPE=image/jpeg:https://visithuntingtonwv.org/wp-content/uploads/2025/04/Sip-logo.jpg
GEO:38.4235342;-82.4406626
X-APPLE-STRUCTURED-LOCATION;VALUE=URI;X-ADDRESS=Sip Downtown Brasserie 311 9th St Huntington WV 25701 United States;X-APPLE-RADIUS=500;X-TITLE=311 9th St:geo:-82.4406626,38.4235342
END:VEVENT
BEGIN:VEVENT
DTSTART;TZID=UTC:20261024T180000
DTEND;TZID=UTC:20261024T220000
DTSTAMP:20260425T154632
CREATED:20260402T194135Z
LAST-MODIFIED:20260402T194135Z
UID:10012451-1792864800-1792879200@visithuntingtonwv.org
SUMMARY:Into the Woods: A Grimm Affair
DESCRIPTION:The Cabell County Public Library invites you to join us for the 2026 Library Gala.\n\nOnce upon a midnight dreary\,In woods both wicked and eerie\,Where shadows murmur\, candles gleam\,And nothing’s ever as it seems…\nBeneath the boughs where secrets creep\,Where fairies stir and monsters sleep\,The forest hums\, it knows your name\,And softly calls you to its game.\nStep lightly past the timberline;Each tale conceals a dark design.\nPromises linger in the gloom…Dinner. Drinks. Dancing.Delightful Doom.\nFollow the lanterns’ flickering spark\,The story begins after dark.\n\nTickets go on sale soon. 
URL:https://visithuntingtonwv.org/event/into-the-woods-a-grimm-affair/
LOCATION:Cabell County Public Library\, 455 9th St\, Huntington\, WV\, 25701\, United States
CATEGORIES:Costumes,Downtown,Holiday
ATTACH;FMTTYPE=image/jpeg:https://visithuntingtonwv.org/wp-content/uploads/2026/04/659213841_1350340370457902_4986447996550905729_n.jpg
GEO:38.4197509;-82.4439429
X-APPLE-STRUCTURED-LOCATION;VALUE=URI;X-ADDRESS=Cabell County Public Library 455 9th St Huntington WV 25701 United States;X-APPLE-RADIUS=500;X-TITLE=455 9th St:geo:-82.4439429,38.4197509
END:VEVENT
END:VCALENDAR