BEGIN:VCALENDAR
VERSION:2.0
PRODID:-//Huntington Area CVB - ECPv6.15.17.1//NONSGML v1.0//EN
CALSCALE:GREGORIAN
METHOD:PUBLISH
X-WR-CALNAME:Huntington Area CVB
X-ORIGINAL-URL:https://visithuntingtonwv.org
X-WR-CALDESC:Events for Huntington Area CVB
REFRESH-INTERVAL;VALUE=DURATION:PT1H
X-Robots-Tag:noindex
X-PUBLISHED-TTL:PT1H
BEGIN:VTIMEZONE
TZID:UTC
BEGIN:STANDARD
TZOFFSETFROM:+0000
TZOFFSETTO:+0000
TZNAME:UTC
DTSTART:20180101T000000
END:STANDARD
END:VTIMEZONE
BEGIN:VEVENT
DTSTART;TZID=UTC:20191206T193000
DTEND;TZID=UTC:20191206T220000
DTSTAMP:20260422T145354
CREATED:20191127T160119Z
LAST-MODIFIED:20191127T160119Z
UID:10002592-1575660600-1575669600@visithuntingtonwv.org
SUMMARY:Renaissance Choir
DESCRIPTION:Renaissance\, the Huntington based choral group\, has been giving free community concerts since 1985. Started by Janice Chandler Gold\, and now will be sharing its Christmas concert at several area churches this Holiday season. \nDec 6\, 7:30 pm Baptist Temple\nDec 7\, 7:30 pm Grace Gospel Church\nDec 9\, 7:30 pm Steele Memorial Methodist Church\nDec 13\, 7:30 pm Prince of Peace Freewill Baptist Church\nDec 16\, 7:30 pm Highlawn Presbyterian Church\nDec 19\, 7:30 pm Fifth Avenue Baptist Church\nDec 20\, 7:30 pm Beverly Hills United Methodist Church
URL:https://visithuntingtonwv.org/event/renaissance-choir/
LOCATION:Baptist Temple\, 902 21st St\, Huntintgon\, WV\, 25701\, United States
GEO:38.4174223;-82.4188161
X-APPLE-STRUCTURED-LOCATION;VALUE=URI;X-ADDRESS=Baptist Temple 902 21st St Huntintgon WV 25701 United States;X-APPLE-RADIUS=500;X-TITLE=902 21st St:geo:-82.4188161,38.4174223
END:VEVENT
END:VCALENDAR