BEGIN:VCALENDAR
VERSION:2.0
PRODID:-//Huntington Area CVB - ECPv6.15.17.1//NONSGML v1.0//EN
CALSCALE:GREGORIAN
METHOD:PUBLISH
X-WR-CALNAME:Huntington Area CVB
X-ORIGINAL-URL:https://visithuntingtonwv.org
X-WR-CALDESC:Events for Huntington Area CVB
REFRESH-INTERVAL;VALUE=DURATION:PT1H
X-Robots-Tag:noindex
X-PUBLISHED-TTL:PT1H
BEGIN:VTIMEZONE
TZID:UTC
BEGIN:STANDARD
TZOFFSETFROM:+0000
TZOFFSETTO:+0000
TZNAME:UTC
DTSTART:20250101T000000
END:STANDARD
END:VTIMEZONE
BEGIN:VEVENT
DTSTART;VALUE=DATE:20260213
DTEND;VALUE=DATE:20260214
DTSTAMP:20260424T104704
CREATED:20260123T170354Z
LAST-MODIFIED:20260123T170354Z
UID:10012230-1770940800-1771027199@visithuntingtonwv.org
SUMMARY:Valentine's Date Night Glass Experience
DESCRIPTION:We’re offering Valentine’s Date Night Experiences! Sign up to bring in your honey to make beautiful heart paperweights for each other\, and cheer each other on. This is a really cool way to get a taste of hot glass\, and also to get a chance to make your very own heart – beautiful\, unique\, and as lovely as you and your partner. Share your love for each other with us\, and we’ll share our love of hot glass with you. Friday\, February 13th\, 5-10pm in 1/2hr increments. Book now on the Experiences section of our website! Located in Huntington\, WV\, with free local delivery or distant shipping when the glass is done cooling off!
URL:https://visithuntingtonwv.org/event/valentines-date-night-glass-experience/
LOCATION:Marrowbone Glassworks\, 1525R Washington Ave\, Huntington\, WV\, 25704\, United States
CATEGORIES:Craft,Holiday
ATTACH;FMTTYPE=image/jpeg:https://visithuntingtonwv.org/wp-content/uploads/2026/01/619220500_122152068824897530_6733969770629881085_n.jpg
GEO:38.4119725;-82.4822471
X-APPLE-STRUCTURED-LOCATION;VALUE=URI;X-ADDRESS=Marrowbone Glassworks 1525R Washington Ave Huntington WV 25704 United States;X-APPLE-RADIUS=500;X-TITLE=1525R Washington Ave:geo:-82.4822471,38.4119725
END:VEVENT
END:VCALENDAR