BEGIN:VCALENDAR
VERSION:2.0
PRODID:-//Huntington Area CVB - ECPv6.15.17.1//NONSGML v1.0//EN
CALSCALE:GREGORIAN
METHOD:PUBLISH
X-WR-CALNAME:Huntington Area CVB
X-ORIGINAL-URL:https://visithuntingtonwv.org
X-WR-CALDESC:Events for Huntington Area CVB
REFRESH-INTERVAL;VALUE=DURATION:PT1H
X-Robots-Tag:noindex
X-PUBLISHED-TTL:PT1H
BEGIN:VTIMEZONE
TZID:UTC
BEGIN:STANDARD
TZOFFSETFROM:+0000
TZOFFSETTO:+0000
TZNAME:UTC
DTSTART:20180101T000000
END:STANDARD
END:VTIMEZONE
BEGIN:VEVENT
DTSTART;TZID=UTC:20241114T173000
DTEND;TZID=UTC:20241114T203000
DTSTAMP:20260421T185518
CREATED:20241107T143704Z
LAST-MODIFIED:20241107T143704Z
UID:10008453-1731605400-1731616200@visithuntingtonwv.org
SUMMARY:Spirits & Stars - Fundraiser for Keith-Albee
DESCRIPTION:Join us on Thursday\, November 14th to support the restoration of the Keith-Albee Performing Arts Center!\nThe Jockey Club at The Frederick is hosting a “Spirits & Stars” night to benefit the Keith-Albee Performing Arts Center! Come support the Keith-Albee\, bring friends\, and tip big! All tips that night will support the restoration of this historic gem of the Jewel City.\n——-\nSPIRITS & STARS TOURYou can pre-purchase a $25 ticket that includes 1 PODA drink ticket from the Jockey Club and a tour of the Keith-Albee from a KAPAC board member\, between 6:00-8:00 pm that night.
URL:https://visithuntingtonwv.org/event/spirits-stars-fundraiser-for-keith-albee/
LOCATION:The Jockey Club\, 938 4th Ave\, Huntington\, 25701\, United States
CATEGORIES:21+,Downtown,Nightlife
ATTACH;FMTTYPE=image/jpeg:https://visithuntingtonwv.org/wp-content/uploads/2024/11/Screenshot-2024-11-07-093446-1.jpg
GEO:38.4211;-82.4428609
X-APPLE-STRUCTURED-LOCATION;VALUE=URI;X-ADDRESS=The Jockey Club 938 4th Ave Huntington 25701 United States;X-APPLE-RADIUS=500;X-TITLE=938 4th Ave:geo:-82.4428609,38.4211
END:VEVENT
BEGIN:VEVENT
DTSTART;TZID=UTC:20240526T140000
DTEND;TZID=UTC:20240526T160000
DTSTAMP:20260421T185518
CREATED:20240513T154611Z
LAST-MODIFIED:20240513T154611Z
UID:10007027-1716732000-1716739200@visithuntingtonwv.org
SUMMARY:Cocktail Class at The Jockey Club
DESCRIPTION:Join us for our second cocktail class\, this time we are focusing on BOURBON! 4 drinks will be served: first up is a welcome drink\, and then you’ll make the next 3 yourself with our very own expert Aaron Pennington walking you through it.Lindsey Cook is back at it in the kitchen with superb food pairings for each drink. This is not something you’ll want to miss!Tickets are $70 per person. Stop by the Jockey and buy yours in advance\, or call/text 304-634-7624 to reserve your spot. Only 14 spots available!**We will be unveiling the names of the drinks soon\, so follow us on Instagram for the latest! @jockeyclub.wv
URL:https://visithuntingtonwv.org/event/cocktail-class-at-the-jockey-club/
LOCATION:The Jockey Club\, 938 4th Ave\, Huntington\, 25701\, United States
CATEGORIES:21+,Downtown
ATTACH;FMTTYPE=image/jpeg:https://visithuntingtonwv.org/wp-content/uploads/2024/05/440331393_926280592841469_8266807980942293181_n.jpg
GEO:38.4211;-82.4428609
X-APPLE-STRUCTURED-LOCATION;VALUE=URI;X-ADDRESS=The Jockey Club 938 4th Ave Huntington 25701 United States;X-APPLE-RADIUS=500;X-TITLE=938 4th Ave:geo:-82.4428609,38.4211
END:VEVENT
BEGIN:VEVENT
DTSTART;TZID=UTC:20231207T190000
DTEND;TZID=UTC:20231207T230000
DTSTAMP:20260421T185518
CREATED:20231121T185209Z
LAST-MODIFIED:20231121T185209Z
UID:10006315-1701975600-1701990000@visithuntingtonwv.org
SUMMARY:Hot Flashes- an 80's and 90's Dance Party
DESCRIPTION:Let’s dance all night and be in bed by 11! It’s time to get back out there with a special night of dancing to all you favorite 80’s and 90’s tunes. DJ Robin has a curated playlist of all your favorites\, and Anna has all your favorite drinks ready to serve. Let’s do this!
URL:https://visithuntingtonwv.org/event/hot-flashes-an-80s-and-90s-dance-party/
LOCATION:The Jockey Club\, 938 4th Ave\, Huntington\, 25701\, United States
CATEGORIES:18+,21+,Beer,Dance,Music
ATTACH;FMTTYPE=image/jpeg:https://visithuntingtonwv.org/wp-content/uploads/2023/11/400045843_808160597986803_7580912802566590959_n.jpg
GEO:38.4211;-82.4428609
X-APPLE-STRUCTURED-LOCATION;VALUE=URI;X-ADDRESS=The Jockey Club 938 4th Ave Huntington 25701 United States;X-APPLE-RADIUS=500;X-TITLE=938 4th Ave:geo:-82.4428609,38.4211
END:VEVENT
BEGIN:VEVENT
DTSTART;TZID=UTC:20220610T190000
DTEND;TZID=UTC:20220610T210000
DTSTAMP:20260421T185518
CREATED:20220602T165614Z
LAST-MODIFIED:20220602T165614Z
UID:10004386-1654887600-1654894800@visithuntingtonwv.org
SUMMARY:Bourbon and Cigars
DESCRIPTION:Back by popular demand!\nJoin us to watch Stoney Chaffin of Stoney Creek Cigars hand roll cigars while enjoying your favorite bourbon!\nThere is no cost to attend!\nStoney Creek Cigars is your number one choice for flavored and traditional premium cigars\, and there will be various options offered for sale.
URL:https://visithuntingtonwv.org/event/bourbon-and-cigars/
LOCATION:The Jockey Club\, 938 4th Ave\, Huntington\, 25701\, United States
GEO:38.4211;-82.4428609
X-APPLE-STRUCTURED-LOCATION;VALUE=URI;X-ADDRESS=The Jockey Club 938 4th Ave Huntington 25701 United States;X-APPLE-RADIUS=500;X-TITLE=938 4th Ave:geo:-82.4428609,38.4211
END:VEVENT
BEGIN:VEVENT
DTSTART;TZID=UTC:20220513T210000
DTEND;TZID=UTC:20220513T230000
DTSTAMP:20260421T185518
CREATED:20220217T174135Z
LAST-MODIFIED:20220217T174135Z
UID:10004003-1652475600-1652482800@visithuntingtonwv.org
SUMMARY:Jockey Club Jazz Night
DESCRIPTION:Join Veezy at The New Jockey Club for your favorite jazz tunes and drinks!\nBest evening spot to hang out in Huntington!\n21+ 9pm-11pm
URL:https://visithuntingtonwv.org/event/jockey-club-jazz-night-10/
LOCATION:The Jockey Club\, 938 4th Ave\, Huntington\, 25701\, United States
GEO:38.4211;-82.4428609
X-APPLE-STRUCTURED-LOCATION;VALUE=URI;X-ADDRESS=The Jockey Club 938 4th Ave Huntington 25701 United States;X-APPLE-RADIUS=500;X-TITLE=938 4th Ave:geo:-82.4428609,38.4211
END:VEVENT
BEGIN:VEVENT
DTSTART;TZID=UTC:20220408T210000
DTEND;TZID=UTC:20220408T230000
DTSTAMP:20260421T185518
CREATED:20220217T174128Z
LAST-MODIFIED:20220217T174128Z
UID:10004002-1649451600-1649458800@visithuntingtonwv.org
SUMMARY:Jockey Club Jazz Night
DESCRIPTION:Join Veezy at The New Jockey Club for your favorite jazz tunes and drinks!\nBest evening spot to hang out in Huntington!\n21+ 9pm-11pm
URL:https://visithuntingtonwv.org/event/jockey-club-jazz-night-9/
LOCATION:The Jockey Club\, 938 4th Ave\, Huntington\, 25701\, United States
GEO:38.4211;-82.4428609
X-APPLE-STRUCTURED-LOCATION;VALUE=URI;X-ADDRESS=The Jockey Club 938 4th Ave Huntington 25701 United States;X-APPLE-RADIUS=500;X-TITLE=938 4th Ave:geo:-82.4428609,38.4211
END:VEVENT
BEGIN:VEVENT
DTSTART;TZID=UTC:20220326T170000
DTEND;TZID=UTC:20220326T230000
DTSTAMP:20260421T185518
CREATED:20220315T162425Z
LAST-MODIFIED:20220321T202019Z
UID:10004108-1648314000-1648335600@visithuntingtonwv.org
SUMMARY:Jazz at Jockey Club's 10 Year Anniversary
DESCRIPTION:The Jockey Club is celebrating its 10 year anniversary on March 26th from 5-11pm. Multiple jazz musicians will be alternating on stage from 5-11 as part of the evening’s festivities\, so join the party!\n\nMusicians:\nVeezy Coffman – Tenor Saxophone\nShae Crum – Bass\nJeff Hutchinson – Trombone\nWes McDowell – Drums\nLuke Turner – Guitar
URL:https://visithuntingtonwv.org/event/jazz-at-jockey-clubs-10-year-anniversary/
LOCATION:The Jockey Club\, 938 4th Ave\, Huntington\, 25701\, United States
ATTACH;FMTTYPE=image/jpeg:https://visithuntingtonwv.org/wp-content/uploads/2022/03/276173869_4970352573010595_1796046597614350722_n.jpg
GEO:38.4211;-82.4428609
X-APPLE-STRUCTURED-LOCATION;VALUE=URI;X-ADDRESS=The Jockey Club 938 4th Ave Huntington 25701 United States;X-APPLE-RADIUS=500;X-TITLE=938 4th Ave:geo:-82.4428609,38.4211
END:VEVENT
BEGIN:VEVENT
DTSTART;TZID=UTC:20220225T210000
DTEND;TZID=UTC:20220225T230000
DTSTAMP:20260421T185518
CREATED:20211124T154554Z
LAST-MODIFIED:20220217T174023Z
UID:10003812-1645822800-1645830000@visithuntingtonwv.org
SUMMARY:Jockey Club Jazz Night
DESCRIPTION:Join Veezy at The New Jockey Club for your favorite jazz tunes and drinks!\nBest evening spot to hang out in Huntington!\n21+ 9pm-11pm
URL:https://visithuntingtonwv.org/event/jockey-club-jazz-night-8/
LOCATION:The Jockey Club\, 938 4th Ave\, Huntington\, 25701\, United States
GEO:38.4211;-82.4428609
X-APPLE-STRUCTURED-LOCATION;VALUE=URI;X-ADDRESS=The Jockey Club 938 4th Ave Huntington 25701 United States;X-APPLE-RADIUS=500;X-TITLE=938 4th Ave:geo:-82.4428609,38.4211
END:VEVENT
BEGIN:VEVENT
DTSTART;TZID=UTC:20220114T210000
DTEND;TZID=UTC:20220114T230000
DTSTAMP:20260421T185519
CREATED:20211014T145826Z
LAST-MODIFIED:20211014T145826Z
UID:10003678-1642194000-1642201200@visithuntingtonwv.org
SUMMARY:Jockey Club Jazz Night
DESCRIPTION:Join Veezy at The New Jockey Club for your favorite jazz tunes and drinks!\nBest evening spot to hang out in Huntington!\n21+ 9pm-11pm
URL:https://visithuntingtonwv.org/event/jockey-club-jazz-night-7/
LOCATION:The Jockey Club\, 938 4th Ave\, Huntington\, 25701\, United States
GEO:38.4211;-82.4428609
X-APPLE-STRUCTURED-LOCATION;VALUE=URI;X-ADDRESS=The Jockey Club 938 4th Ave Huntington 25701 United States;X-APPLE-RADIUS=500;X-TITLE=938 4th Ave:geo:-82.4428609,38.4211
END:VEVENT
BEGIN:VEVENT
DTSTART;TZID=UTC:20211231T220000
DTEND;TZID=UTC:20211231T233000
DTSTAMP:20260421T185519
CREATED:20211119T173603Z
LAST-MODIFIED:20211119T173603Z
UID:10003832-1640988000-1640993400@visithuntingtonwv.org
SUMMARY:New Year's Eve at The Jockey Club
DESCRIPTION:Ring in 2022 at The Jockey Club on New Year’s Eve\, Dec. 31st!\nI’ll be playing your favorite jazz songs from 10-12+! Guest artist\, Gary Coffman\, sitting in on saxophone! This guy taught me how to have “soul” when I play jazz music. He’s my father\, best friend\, and the coolest old-school mafia man I’ve ever met! (Okay\, the mafia part’s a joke).\nCome hear our show! Sometimes we’ll be best friends in the music. Sometimes we’ll being dueling saxophones!\nMilca and Alejandro run a tight and awesome ship at The Jockey Club; you won’t want to miss out on this New Year’s celebration! Music from 10:00-12:00am+!\nBest drinks\, jazz music\, and celebration in town!
URL:https://visithuntingtonwv.org/event/new-years-eve-at-the-jockey-club/
LOCATION:The Jockey Club\, 938 4th Ave\, Huntington\, 25701\, United States
GEO:38.4211;-82.4428609
X-APPLE-STRUCTURED-LOCATION;VALUE=URI;X-ADDRESS=The Jockey Club 938 4th Ave Huntington 25701 United States;X-APPLE-RADIUS=500;X-TITLE=938 4th Ave:geo:-82.4428609,38.4211
END:VEVENT
BEGIN:VEVENT
DTSTART;TZID=UTC:20211211T210000
DTEND;TZID=UTC:20211211T230000
DTSTAMP:20260421T185519
CREATED:20211014T145817Z
LAST-MODIFIED:20211027T153154Z
UID:10003677-1639256400-1639263600@visithuntingtonwv.org
SUMMARY:Jockey Club Jazz Night
DESCRIPTION:Join Veezy at The New Jockey Club for your favorite jazz tunes and drinks!\nBest evening spot to hang out in Huntington!\n21+ 9pm-11pm
URL:https://visithuntingtonwv.org/event/jockey-club-jazz-night-6/
LOCATION:The Jockey Club\, 938 4th Ave\, Huntington\, 25701\, United States
GEO:38.4211;-82.4428609
X-APPLE-STRUCTURED-LOCATION;VALUE=URI;X-ADDRESS=The Jockey Club 938 4th Ave Huntington 25701 United States;X-APPLE-RADIUS=500;X-TITLE=938 4th Ave:geo:-82.4428609,38.4211
END:VEVENT
BEGIN:VEVENT
DTSTART;TZID=UTC:20211113T210000
DTEND;TZID=UTC:20211113T230000
DTSTAMP:20260421T185519
CREATED:20211014T145756Z
LAST-MODIFIED:20211014T145756Z
UID:10003679-1636837200-1636844400@visithuntingtonwv.org
SUMMARY:Jockey Club Jazz Night
DESCRIPTION:Join Veezy at The New Jockey Club for your favorite jazz tunes and drinks!\nBest evening spot to hang out in Huntington!\n21+ 9pm-11pm
URL:https://visithuntingtonwv.org/event/jockey-club-jazz-night-5/
LOCATION:The Jockey Club\, 938 4th Ave\, Huntington\, 25701\, United States
GEO:38.4211;-82.4428609
X-APPLE-STRUCTURED-LOCATION;VALUE=URI;X-ADDRESS=The Jockey Club 938 4th Ave Huntington 25701 United States;X-APPLE-RADIUS=500;X-TITLE=938 4th Ave:geo:-82.4428609,38.4211
END:VEVENT
BEGIN:VEVENT
DTSTART;TZID=UTC:20211023T210000
DTEND;TZID=UTC:20211023T230000
DTSTAMP:20260421T185519
CREATED:20211014T145748Z
LAST-MODIFIED:20211014T145748Z
UID:10003713-1635022800-1635030000@visithuntingtonwv.org
SUMMARY:Jockey Club Jazz Night
DESCRIPTION:Join Veezy at The New Jockey Club for your favorite jazz tunes and drinks!\nBest evening spot to hang out in Huntington!\n21+ 9pm-11pm
URL:https://visithuntingtonwv.org/event/jockey-club-jazz-night-4/
LOCATION:The Jockey Club\, 938 4th Ave\, Huntington\, 25701\, United States
GEO:38.4211;-82.4428609
X-APPLE-STRUCTURED-LOCATION;VALUE=URI;X-ADDRESS=The Jockey Club 938 4th Ave Huntington 25701 United States;X-APPLE-RADIUS=500;X-TITLE=938 4th Ave:geo:-82.4428609,38.4211
END:VEVENT
BEGIN:VEVENT
DTSTART;TZID=UTC:20210925T210000
DTEND;TZID=UTC:20210925T230000
DTSTAMP:20260421T185519
CREATED:20210819T173256Z
LAST-MODIFIED:20210819T173256Z
UID:10003482-1632603600-1632610800@visithuntingtonwv.org
SUMMARY:Jockey Club Jazz Night
DESCRIPTION:Join Veezy at The New Jockey Club for your favorite jazz tunes and drinks!\nBest evening spot to hang out in Huntington!\n21+ 9pm-11pm
URL:https://visithuntingtonwv.org/event/jockey-club-jazz-night-3/
LOCATION:The Jockey Club\, 938 4th Ave\, Huntington\, 25701\, United States
GEO:38.4211;-82.4428609
X-APPLE-STRUCTURED-LOCATION;VALUE=URI;X-ADDRESS=The Jockey Club 938 4th Ave Huntington 25701 United States;X-APPLE-RADIUS=500;X-TITLE=938 4th Ave:geo:-82.4428609,38.4211
END:VEVENT
BEGIN:VEVENT
DTSTART;TZID=UTC:20210910T210000
DTEND;TZID=UTC:20210910T230000
DTSTAMP:20260421T185519
CREATED:20210819T173249Z
LAST-MODIFIED:20210819T173249Z
UID:10003483-1631307600-1631314800@visithuntingtonwv.org
SUMMARY:Jockey Club Jazz Night
DESCRIPTION:Join Veezy at The New Jockey Club for your favorite jazz tunes and drinks!\nBest evening spot to hang out in Huntington!\n21+ 9pm-11pm
URL:https://visithuntingtonwv.org/event/jockey-club-jazz-night-2/
LOCATION:The Jockey Club\, 938 4th Ave\, Huntington\, 25701\, United States
GEO:38.4211;-82.4428609
X-APPLE-STRUCTURED-LOCATION;VALUE=URI;X-ADDRESS=The Jockey Club 938 4th Ave Huntington 25701 United States;X-APPLE-RADIUS=500;X-TITLE=938 4th Ave:geo:-82.4428609,38.4211
END:VEVENT
BEGIN:VEVENT
DTSTART;TZID=UTC:20210828T210000
DTEND;TZID=UTC:20210828T230000
DTSTAMP:20260421T185519
CREATED:20210819T173056Z
LAST-MODIFIED:20210819T173205Z
UID:10003484-1630184400-1630191600@visithuntingtonwv.org
SUMMARY:Jockey Club Jazz Night
DESCRIPTION:Join Veezy at The New Jockey Club for your favorite jazz tunes and drinks!\nBest evening spot to hang out in Huntington!\n21+ 9pm-11pm
URL:https://visithuntingtonwv.org/event/jockey-club-jazz-night/
LOCATION:The Jockey Club\, 938 4th Ave\, Huntington\, 25701\, United States
GEO:38.4211;-82.4428609
X-APPLE-STRUCTURED-LOCATION;VALUE=URI;X-ADDRESS=The Jockey Club 938 4th Ave Huntington 25701 United States;X-APPLE-RADIUS=500;X-TITLE=938 4th Ave:geo:-82.4428609,38.4211
END:VEVENT
BEGIN:VEVENT
DTSTART;TZID=UTC:20191231T210000
DTEND;TZID=UTC:20191231T233000
DTSTAMP:20260421T185519
CREATED:20191218T165100Z
LAST-MODIFIED:20191218T165224Z
UID:10002671-1577826000-1577835000@visithuntingtonwv.org
SUMMARY:Roaring 20’s NYE
DESCRIPTION:Ring in 2020 with Jockey Club’s Roaring 20’s themed party! So grab your flapper outfit and your dapper suit & come party!
URL:https://visithuntingtonwv.org/event/roaring-20s-nye/
LOCATION:The Jockey Club\, 938 4th Ave\, Huntington\, 25701\, United States
GEO:38.4211;-82.4428609
X-APPLE-STRUCTURED-LOCATION;VALUE=URI;X-ADDRESS=The Jockey Club 938 4th Ave Huntington 25701 United States;X-APPLE-RADIUS=500;X-TITLE=938 4th Ave:geo:-82.4428609,38.4211
END:VEVENT
BEGIN:VEVENT
DTSTART;TZID=UTC:20190607T210000
DTEND;TZID=UTC:20190607T233000
DTSTAMP:20260421T185519
CREATED:20190606T191817Z
LAST-MODIFIED:20190606T191817Z
UID:10002111-1559941200-1559950200@visithuntingtonwv.org
SUMMARY:Jazz Night
DESCRIPTION:A fun evening of live jazz performed by some great local musicians! Always free!Music starts at 9pm. Ages 18+
URL:https://visithuntingtonwv.org/event/jazz-night-4/
LOCATION:The Jockey Club\, 938 4th Ave\, Huntington\, 25701\, United States
GEO:38.4211;-82.4428609
X-APPLE-STRUCTURED-LOCATION;VALUE=URI;X-ADDRESS=The Jockey Club 938 4th Ave Huntington 25701 United States;X-APPLE-RADIUS=500;X-TITLE=938 4th Ave:geo:-82.4428609,38.4211
END:VEVENT
BEGIN:VEVENT
DTSTART;TZID=UTC:20190504T163000
DTEND;TZID=UTC:20190504T200000
DTSTAMP:20260421T185519
CREATED:20190501T201457Z
LAST-MODIFIED:20190501T201457Z
UID:10001382-1556987400-1557000000@visithuntingtonwv.org
SUMMARY:Kentucky Derby
DESCRIPTION:Bring your best hat & derby wear for the Jocky Club’s annual Kentucky Derby Party! They open at 4:30 and will be showing the derby. Race starts at 6:30pm. Get your taste buds ready for mint juleps! Appetizers will be provided!
URL:https://visithuntingtonwv.org/event/kentucky-derby/
LOCATION:The Jockey Club\, 938 4th Ave\, Huntington\, 25701\, United States
GEO:38.4211;-82.4428609
X-APPLE-STRUCTURED-LOCATION;VALUE=URI;X-ADDRESS=The Jockey Club 938 4th Ave Huntington 25701 United States;X-APPLE-RADIUS=500;X-TITLE=938 4th Ave:geo:-82.4428609,38.4211
END:VEVENT
END:VCALENDAR