BEGIN:VCALENDAR
VERSION:2.0
PRODID:-//Huntington Area CVB - ECPv6.15.17.1//NONSGML v1.0//EN
CALSCALE:GREGORIAN
METHOD:PUBLISH
X-WR-CALNAME:Huntington Area CVB
X-ORIGINAL-URL:https://visithuntingtonwv.org
X-WR-CALDESC:Events for Huntington Area CVB
REFRESH-INTERVAL;VALUE=DURATION:PT1H
X-Robots-Tag:noindex
X-PUBLISHED-TTL:PT1H
BEGIN:VTIMEZONE
TZID:UTC
BEGIN:STANDARD
TZOFFSETFROM:+0000
TZOFFSETTO:+0000
TZNAME:UTC
DTSTART:20230101T000000
END:STANDARD
END:VTIMEZONE
BEGIN:VEVENT
DTSTART;TZID=UTC:20250824T173000
DTEND;TZID=UTC:20250824T200000
DTSTAMP:20260424T160545
CREATED:20250806T152326Z
LAST-MODIFIED:20250806T152326Z
UID:10011677-1756056600-1756065600@visithuntingtonwv.org
SUMMARY:Unconventional Friends Meeting
DESCRIPTION:Friends meetings are starting back up! Open to all! Come see what we have to offer!\nThe religious society of friends is open to people of all backgrounds and beliefs.\nEnter in silence and take a seat. Don’t feel awkward. We start every meeting with 15 minutes of quiet meditation. Then we partake in food\, fun and conversation before a half hour of interfaith discussion with people of all religions across the country on zoom!\nThis is a time to meet people\, eat food (potluck style)\, and discuss the divine!\nBring a testimony\, sermon or artwork to share if you would like\, but if not\, just show up for the conversation.\nThis month’s potluck theme is “tiny food”. Tiny sandwiches. Grapes. Any food that is little
URL:https://visithuntingtonwv.org/event/unconventional-friends-meeting/
LOCATION:Mothman Ministries\, 619 6th Ave\, Huntington\, WV\, 25701\, United States
CATEGORIES:Downtown,Free,Talk
ATTACH;FMTTYPE=image/jpeg:https://visithuntingtonwv.org/wp-content/uploads/2025/08/Screenshot-2025-08-06-112249.jpg
GEO:38.4170821;-82.4473691
X-APPLE-STRUCTURED-LOCATION;VALUE=URI;X-ADDRESS=Mothman Ministries 619 6th Ave Huntington WV 25701 United States;X-APPLE-RADIUS=500;X-TITLE=619 6th Ave:geo:-82.4473691,38.4170821
END:VEVENT
BEGIN:VEVENT
DTSTART;TZID=UTC:20250509T190000
DTEND;TZID=UTC:20250509T220000
DTSTAMP:20260424T160545
CREATED:20250508T145120Z
LAST-MODIFIED:20250508T145120Z
UID:10011419-1746817200-1746828000@visithuntingtonwv.org
SUMMARY:Queer Movie Night - Vamp
DESCRIPTION:Why don’t you see me at the club? Why don’t I see you at the blood bank?!\n\nThis month’s choice is 1986’s Vamp\, a camp-o-rama vampire movie with a special appearance by Grace Jones.\n\nQueer Movie Night is a free 18+ event held on the First Friday at the Unitarian Fellowship of Huntington. Event is a potluck\, so bring your favorite snack or dish!
URL:https://visithuntingtonwv.org/event/queer-movie-night-vamp/
LOCATION:Mothman Ministries\, 619 6th Ave\, Huntington\, WV\, 25701\, United States
CATEGORIES:Downtown,Family Friendly,Free,LGBTQ+,Movie,Nightlife
ATTACH;FMTTYPE=image/jpeg:https://visithuntingtonwv.org/wp-content/uploads/2025/05/495539348_711321487949307_5683897078037225875_n.jpg
GEO:38.4170821;-82.4473691
X-APPLE-STRUCTURED-LOCATION;VALUE=URI;X-ADDRESS=Mothman Ministries 619 6th Ave Huntington WV 25701 United States;X-APPLE-RADIUS=500;X-TITLE=619 6th Ave:geo:-82.4473691,38.4170821
END:VEVENT
BEGIN:VEVENT
DTSTART;TZID=UTC:20250307T190000
DTEND;TZID=UTC:20250307T230000
DTSTAMP:20260424T160545
CREATED:20250226T160657Z
LAST-MODIFIED:20250226T160657Z
UID:10008763-1741374000-1741388400@visithuntingtonwv.org
SUMMARY:Queer Movie Night - The Shape of Water
DESCRIPTION:This month’s selection is a safe space for all the creature enthusiasts out there\, Guillermo del Toro’s Shape of Water. It cleaned up at the 90th Academy Awards\, so come hang out with us to see why!\nQueer Movie Night is a free 18+ event held on the First Friday at the Unitarian Fellowship of Huntington. Event is a potluck\, so bring your favorite snack or dish!
URL:https://visithuntingtonwv.org/event/queer-movie-night-the-shape-of-water/
LOCATION:Mothman Ministries\, 619 6th Ave\, Huntington\, WV\, 25701\, United States
CATEGORIES:Downtown,Family Friendly,Free,LGBTQ+,Movie
ATTACH;FMTTYPE=image/jpeg:https://visithuntingtonwv.org/wp-content/uploads/2025/02/472745558_624129263335197_1014836091770569332_n.jpg
GEO:38.4170821;-82.4473691
X-APPLE-STRUCTURED-LOCATION;VALUE=URI;X-ADDRESS=Mothman Ministries 619 6th Ave Huntington WV 25701 United States;X-APPLE-RADIUS=500;X-TITLE=619 6th Ave:geo:-82.4473691,38.4170821
END:VEVENT
BEGIN:VEVENT
DTSTART;TZID=UTC:20250125T130000
DTEND;TZID=UTC:20250125T170000
DTSTAMP:20260424T160545
CREATED:20250109T165006Z
LAST-MODIFIED:20250109T165006Z
UID:10008623-1737810000-1737824400@visithuntingtonwv.org
SUMMARY:Sack Lunch Outreach
DESCRIPTION:Come help us make sack lunches for our unhoused neighbors and other folks in need! We’ll assemble sack lunches at 1 PM at the Unitarian Fellowship of Huntington\, then distribute them in the community. Wear weather-appropriate clothes and sturdy shoes. Donations welcome as well! Check out our linktree for up-to-date wishlists
URL:https://visithuntingtonwv.org/event/sack-lunch-outreach/
LOCATION:Mothman Ministries\, 619 6th Ave\, Huntington\, WV\, 25701\, United States
CATEGORIES:Downtown,Free,Service
ATTACH;FMTTYPE=image/jpeg:https://visithuntingtonwv.org/wp-content/uploads/2025/01/472774443_624121550002635_8743785665320456902_n.jpg
GEO:38.4170821;-82.4473691
X-APPLE-STRUCTURED-LOCATION;VALUE=URI;X-ADDRESS=Mothman Ministries 619 6th Ave Huntington WV 25701 United States;X-APPLE-RADIUS=500;X-TITLE=619 6th Ave:geo:-82.4473691,38.4170821
END:VEVENT
BEGIN:VEVENT
DTSTART;TZID=UTC:20241201T190000
DTEND;TZID=UTC:20241201T210000
DTSTAMP:20260424T160545
CREATED:20241115T144359Z
LAST-MODIFIED:20241115T144359Z
UID:10008484-1733079600-1733086800@visithuntingtonwv.org
SUMMARY:Interfaith Discussion Group
DESCRIPTION:Join us for a night of lively interfaith discussion on some of the most pressing issues of our time\, with the intention of building a better world.
URL:https://visithuntingtonwv.org/event/interfaith-discussion-group/
LOCATION:Mothman Ministries\, 619 6th Ave\, Huntington\, WV\, 25701\, United States
CATEGORIES:Downtown,Family Friendly,Free,History
ATTACH;FMTTYPE=image/jpeg:https://visithuntingtonwv.org/wp-content/uploads/2024/11/466632175_587675720313885_2141049975515821198_n.jpg
GEO:38.4170821;-82.4473691
X-APPLE-STRUCTURED-LOCATION;VALUE=URI;X-ADDRESS=Mothman Ministries 619 6th Ave Huntington WV 25701 United States;X-APPLE-RADIUS=500;X-TITLE=619 6th Ave:geo:-82.4473691,38.4170821
END:VEVENT
BEGIN:VEVENT
DTSTART;TZID=UTC:20241101T190000
DTEND;TZID=UTC:20241101T220000
DTSTAMP:20260424T160545
CREATED:20241031T135154Z
LAST-MODIFIED:20241031T135154Z
UID:10008431-1730487600-1730498400@visithuntingtonwv.org
SUMMARY:Campy Queer Movie Night
DESCRIPTION:Come Join us for a campy queer movie night! Settle in for Maximum Overdrive. Light snacks provided. Bring some for the group if you can!
URL:https://visithuntingtonwv.org/event/campy-queer-movie-night-2/
LOCATION:Mothman Ministries\, 619 6th Ave\, Huntington\, WV\, 25701\, United States
CATEGORIES:Downtown,Family Friendly,Free,LGBTQ+,Movie
ATTACH;FMTTYPE=image/jpeg:https://visithuntingtonwv.org/wp-content/uploads/2024/10/462218458_560552463026211_121505366709262960_n.jpg
GEO:38.4170821;-82.4473691
X-APPLE-STRUCTURED-LOCATION;VALUE=URI;X-ADDRESS=Mothman Ministries 619 6th Ave Huntington WV 25701 United States;X-APPLE-RADIUS=500;X-TITLE=619 6th Ave:geo:-82.4473691,38.4170821
END:VEVENT
BEGIN:VEVENT
DTSTART;TZID=UTC:20241006T190000
DTEND;TZID=UTC:20241006T210000
DTSTAMP:20260424T160545
CREATED:20240904T140106Z
LAST-MODIFIED:20240904T140106Z
UID:10007876-1728241200-1728248400@visithuntingtonwv.org
SUMMARY:Campy Queer Movie Night
DESCRIPTION:Come Join Us for a night of fun and fabulousness as we watch either a queer movie or a B-Movie! (We are well aware these two things often go hand in hand). These events are 18+ and are done potluck style\, so please try to bring a snack or treat to share with the group. This month is the Rocky Horror Picture Show
URL:https://visithuntingtonwv.org/event/campy-queer-movie-night/
LOCATION:Mothman Ministries\, 619 6th Ave\, Huntington\, WV\, 25701\, United States
CATEGORIES:Downtown,Family Friendly,Free,LGBTQ+,Movie
ATTACH;FMTTYPE=image/jpeg:https://visithuntingtonwv.org/wp-content/uploads/2024/09/456280396_528812082866916_3582154811700322859_n.jpg
GEO:38.4170821;-82.4473691
X-APPLE-STRUCTURED-LOCATION;VALUE=URI;X-ADDRESS=Mothman Ministries 619 6th Ave Huntington WV 25701 United States;X-APPLE-RADIUS=500;X-TITLE=619 6th Ave:geo:-82.4473691,38.4170821
END:VEVENT
BEGIN:VEVENT
DTSTART;TZID=UTC:20240315T190000
DTEND;TZID=UTC:20240315T220000
DTSTAMP:20260424T160545
CREATED:20240305T181805Z
LAST-MODIFIED:20240305T181805Z
UID:10006713-1710529200-1710540000@visithuntingtonwv.org
SUMMARY:Queer Movie Night: Everything Everywhere All at Once
DESCRIPTION:Join us at the Huntington UU for our monthly queer movie night! These events are done potluck style\, so if you can\, bring a dish to share. If you can’t\, no problem! This month’s potluck theme is “Appetizers”. This is an 18+ event
URL:https://visithuntingtonwv.org/event/queer-movie-night-everything-everywhere-all-at-once/
LOCATION:Mothman Ministries\, 619 6th Ave\, Huntington\, WV\, 25701\, United States
CATEGORIES:18+,Downtown,Free,LGBTQ+,Movie
ATTACH;FMTTYPE=image/jpeg:https://visithuntingtonwv.org/wp-content/uploads/2024/03/409065248_425280476553411_880177327645301251_n.jpg
GEO:38.4170821;-82.4473691
X-APPLE-STRUCTURED-LOCATION;VALUE=URI;X-ADDRESS=Mothman Ministries 619 6th Ave Huntington WV 25701 United States;X-APPLE-RADIUS=500;X-TITLE=619 6th Ave:geo:-82.4473691,38.4170821
END:VEVENT
BEGIN:VEVENT
DTSTART;TZID=UTC:20240119T190000
DTEND;TZID=UTC:20240119T220000
DTSTAMP:20260424T160545
CREATED:20240102T163646Z
LAST-MODIFIED:20240102T163646Z
UID:10006447-1705690800-1705701600@visithuntingtonwv.org
SUMMARY:Queer B-Movie Night: Glen or Glenda
DESCRIPTION:Join us for a night of queer fun while watching one of the “worst” movies of all time\, Ed Wood’s Glen or Glenda. Glen or Glenda was one of the first films to be written\, directed and starring a transgender person.\nAll are welcome but this space is queer-centric.\nPizza will be provided\, but if you’d like to donate to our snack and outreach fund\, our cashapp is $churchofmothman
URL:https://visithuntingtonwv.org/event/queer-b-movie-night-glen-or-glenda/
LOCATION:Mothman Ministries\, 619 6th Ave\, Huntington\, WV\, 25701\, United States
CATEGORIES:LGBTQ+,Movie
ATTACH;FMTTYPE=image/jpeg:https://visithuntingtonwv.org/wp-content/uploads/2024/01/glen.jpg
GEO:38.4170821;-82.4473691
X-APPLE-STRUCTURED-LOCATION;VALUE=URI;X-ADDRESS=Mothman Ministries 619 6th Ave Huntington WV 25701 United States;X-APPLE-RADIUS=500;X-TITLE=619 6th Ave:geo:-82.4473691,38.4170821
END:VEVENT
END:VCALENDAR