BEGIN:VCALENDAR
VERSION:2.0
PRODID:-//Huntington Area CVB - ECPv6.15.17.1//NONSGML v1.0//EN
CALSCALE:GREGORIAN
METHOD:PUBLISH
X-ORIGINAL-URL:https://visithuntingtonwv.org
X-WR-CALDESC:Events for Huntington Area CVB
REFRESH-INTERVAL;VALUE=DURATION:PT1H
X-Robots-Tag:noindex
X-PUBLISHED-TTL:PT1H
BEGIN:VTIMEZONE
TZID:UTC
BEGIN:STANDARD
TZOFFSETFROM:+0000
TZOFFSETTO:+0000
TZNAME:UTC
DTSTART:20180101T000000
END:STANDARD
END:VTIMEZONE
BEGIN:VEVENT
DTSTART;TZID=UTC:20191205T230000
DTEND;TZID=UTC:20191206T020000
DTSTAMP:20260422T112925
CREATED:20191205T104229Z
LAST-MODIFIED:20191205T104229Z
UID:10002646-1575586800-1575597600@visithuntingtonwv.org
SUMMARY:Shop Local Holiday Bazaar
DESCRIPTION:Join us at the AMAZING event space above The Peddler & Backyard\, Vandalia Crowd House at Backyard Pizza\, for our 1st Annual Shop Local Holiday Bazaar. We will have 12 local business owners (see list below) set up with pop up shops of their holiday must haves\, FREE appetizers from Peddler & Backyard and Full Cash/Credit Card bar. Enjoy fun times with your peeps while you knock out your Christmas list. Shopping\, Fun & Booze….what could be better?? This is truly the BEST event space in Downtown Huntington so come check it out. TO ENTER\, GO TO ALLEY BEHIND Backyard & Peddler and ENTER THROUGH GLASS DOOR – you will see a sign\, just take elevator to 2nd Floor & walk on in!!! \nVendors:\nVC Boutique\nFull Circle Gifts and Goods\nThe Haute Wick Social\nBow Love Boutique\nOld Main Emporium\nKenzington Alley\nT. K. Dodrill Jewelers\nLuna Boutique\nTulsi at the Market\nNomada Bakery\nThe Peddler\nMoonlit Featherings
URL:https://visithuntingtonwv.org/event/shop-local-holiday-bazaar/
LOCATION:Vandalia Crowd House\, 833 Rear 3rd Ave\, Huntington\, WV\, 25701\, United States
GEO:38.4216152;-82.4449138
X-APPLE-STRUCTURED-LOCATION;VALUE=URI;X-ADDRESS=Vandalia Crowd House 833 Rear 3rd Ave Huntington WV 25701 United States;X-APPLE-RADIUS=500;X-TITLE=833 Rear 3rd Ave:geo:-82.4449138,38.4216152
END:VEVENT
END:VCALENDAR