BEGIN:VCALENDAR
VERSION:2.0
PRODID:-//Huntington Area CVB - ECPv6.15.17.1//NONSGML v1.0//EN
CALSCALE:GREGORIAN
METHOD:PUBLISH
X-WR-CALNAME:Huntington Area CVB
X-ORIGINAL-URL:https://visithuntingtonwv.org
X-WR-CALDESC:Events for Huntington Area CVB
REFRESH-INTERVAL;VALUE=DURATION:PT1H
X-Robots-Tag:noindex
X-PUBLISHED-TTL:PT1H
BEGIN:VTIMEZONE
TZID:UTC
BEGIN:STANDARD
TZOFFSETFROM:+0000
TZOFFSETTO:+0000
TZNAME:UTC
DTSTART:20250101T000000
END:STANDARD
END:VTIMEZONE
BEGIN:VEVENT
DTSTART;TZID=UTC:20260226T180000
DTEND;TZID=UTC:20260510T200000
DTSTAMP:20260422T154926
CREATED:20260205T161232Z
LAST-MODIFIED:20260205T161232Z
UID:10012249-1772128800-1778443200@visithuntingtonwv.org
SUMMARY:40th Annual Student Juried Exhibition Closing Reception
DESCRIPTION:Come spend an evening with the Visual Arts Center as we wrap up the 40th Annual Student Juried Exhibition\, juried by Huntington Museum of Art curator\, John Farley. The exhibition is on view in the Birke Art Gallery March 2 – March 26\, 2026. The closing reception will be held on March 26 at 6 PM. \nThe final night:\n– When: March 26 at 6 PM\n– Where: The Birke Art Gallery\n– What: Open galleries\, light snacks\, and an opportunity to meet the creative community. \nJuror Spotlight: This year’s juror is John Farley! After earning his BFA at Marshall University\, Farley returned as an adjunct professor and later served as Gallery Director. Today\, he curates at the Huntington Museum of Art\, bringing his journey full circle to guide the next generation of artists. \nAll Visual Arts Center galleries are free and open to everyone
URL:https://visithuntingtonwv.org/event/40th-annual-student-juried-exhibition-closing-reception/
LOCATION:Visual Arts Center\, 927 3rd Ave\, Huntington\, WV\, 25701\, United States
CATEGORIES:Art,Downtown,Free,Marshall
ATTACH;FMTTYPE=image/jpeg:https://visithuntingtonwv.org/wp-content/uploads/2026/01/MU-VAC.jpg
GEO:38.4217411;-82.4432425
X-APPLE-STRUCTURED-LOCATION;VALUE=URI;X-ADDRESS=Visual Arts Center 927 3rd Ave Huntington WV 25701 United States;X-APPLE-RADIUS=500;X-TITLE=927 3rd Ave:geo:-82.4432425,38.4217411
END:VEVENT
BEGIN:VEVENT
DTSTART;TZID=UTC:20260422T110000
DTEND;TZID=UTC:20260422T140000
DTSTAMP:20260422T154926
CREATED:20260331T170314Z
LAST-MODIFIED:20260331T170314Z
UID:10012413-1776855600-1776866400@visithuntingtonwv.org
SUMMARY:MU Baseball vs Morehead State
DESCRIPTION:Cheer on your Herd at Jack Cook Field!
URL:https://visithuntingtonwv.org/event/mu-baseball-vs-morehead-state/
LOCATION:Jack Cook Field\, 1 Jack Cook Way\, Huntington\, WV\, 25703\, United States
CATEGORIES:Family Friendly,Marshall,Sporting Event
ATTACH;FMTTYPE=image/png:https://visithuntingtonwv.org/wp-content/uploads/2019/01/1200px-Marshall_Thundering_Herd_logo.svg_.png
GEO:38.428073;-82.4204894
X-APPLE-STRUCTURED-LOCATION;VALUE=URI;X-ADDRESS=Jack Cook Field 1 Jack Cook Way Huntington WV 25703 United States;X-APPLE-RADIUS=500;X-TITLE=1 Jack Cook Way:geo:-82.4204894,38.428073
END:VEVENT
BEGIN:VEVENT
DTSTART;TZID=UTC:20260422T170000
DTEND;TZID=UTC:20260422T190000
DTSTAMP:20260422T154926
CREATED:20260326T161544Z
LAST-MODIFIED:20260326T161544Z
UID:10012376-1776877200-1776884400@visithuntingtonwv.org
SUMMARY:Proof I Was Here: Selected Foundations Works Exhibition Reception
DESCRIPTION:Marshall University School of Art & Design proudly presents Proof I Was Here: Selected Foundations Works\, an exhibition showcasing outstanding pieces by students who have recently completed the Foundations program and review process. The featured works have been thoughtfully selected by the School of Art & Design faculty\, highlighting some of the most compelling works created by students during this period. \nThe exhibition will be on view April 20 through May 1\, 2026\, with an awards reception on Wednesday\, April 22 from 5 to 7 p.m. in the Birke Art Gallery\, located on the first floor of the Visual Arts Center at 927 Third Ave.\, Huntington\, WV. Awards will be announced at 5:30 p.m. \nDetails\n• Exhibition: April 20 – May 1\, 2026\n• Reception & Awards: Wednesday\, April 22\, 5 PM.\n• Where: The Birke Art Gallery\, 927 Third Ave\, Huntington\, WV\n• Cost: Free and open to the community \nGallery hours are Monday through Friday\, 10 a.m. to 4 p.m.\nAdmission to the gallery and all events are free and open to the public.\nFor additional information or inquiries\, please contact Gallery Director\, Sophia Celdrán\, at galleries@marshall.edu.
URL:https://visithuntingtonwv.org/event/proof-i-was-here-selected-foundations-works-exhibition-reception/
LOCATION:Visual Arts Center\, 927 3rd Ave\, Huntington\, WV\, 25701\, United States
CATEGORIES:Art,Free,Marshall
ATTACH;FMTTYPE=image/jpeg:https://visithuntingtonwv.org/wp-content/uploads/2026/01/MU-VAC.jpg
GEO:38.4217411;-82.4432425
X-APPLE-STRUCTURED-LOCATION;VALUE=URI;X-ADDRESS=Visual Arts Center 927 3rd Ave Huntington WV 25701 United States;X-APPLE-RADIUS=500;X-TITLE=927 3rd Ave:geo:-82.4432425,38.4217411
END:VEVENT
BEGIN:VEVENT
DTSTART;TZID=UTC:20260422T193000
DTEND;TZID=UTC:20260422T220000
DTSTAMP:20260422T154926
CREATED:20250729T163504Z
LAST-MODIFIED:20250729T163504Z
UID:10011646-1776886200-1776895200@visithuntingtonwv.org
SUMMARY:Much Ado About Nothing at MU Theatre
DESCRIPTION:Much Ado About Nothing is one of Shakespeare’s sharpest and most delightful comedies\, A fast-paced tale of love\, wit\, and mistaken identity. Sparks fly as the fiercely independent Beatrice and the proud Benedick trade insults and barbs\, unaware that love might be blooming beneath the banter. Meanwhile\, young lovers Hero and Claudio find their wedding threatened by deception and rumor. Full of clever wordplay\, cleverer schemes\, and a whole lot of heart\, Much Ado is a joyful romp that proves love is never as simple as it seems—but always worth the trouble. \n$22 at the door | $5 for Marshall Students | $15 for Seniors 60+ and Marshall Employees\nFree to Marshall Students on April 22nd only with a valid ID.
URL:https://visithuntingtonwv.org/event/much-ado-about-nothing-at-mu-theatre/
LOCATION:Joan C. Edwards Performing Arts Center\, 1655 5th Ave\, Huntington\, WV\, 27501\, United States
CATEGORIES:Marshall,Theater
ATTACH;FMTTYPE=image/jpeg:https://visithuntingtonwv.org/wp-content/uploads/2025/07/Screenshot-2025-07-29-123358.jpg
GEO:38.4215642;-82.4287624
X-APPLE-STRUCTURED-LOCATION;VALUE=URI;X-ADDRESS=Joan C. Edwards Performing Arts Center 1655 5th Ave Huntington WV 27501 United States;X-APPLE-RADIUS=500;X-TITLE=1655 5th Ave:geo:-82.4287624,38.4215642
END:VEVENT
END:VCALENDAR